BEGIN:VCALENDAR
VERSION:2.0
PRODID:-//Newry SureStart - ECPv6.15.12.2//NONSGML v1.0//EN
CALSCALE:GREGORIAN
METHOD:PUBLISH
X-WR-CALNAME:Newry SureStart
X-ORIGINAL-URL:http://newrysurestart.org
X-WR-CALDESC:Events for Newry SureStart
REFRESH-INTERVAL;VALUE=DURATION:PT1H
X-Robots-Tag:noindex
X-PUBLISHED-TTL:PT1H
BEGIN:VTIMEZONE
TZID:UTC
BEGIN:STANDARD
TZOFFSETFROM:+0000
TZOFFSETTO:+0000
TZNAME:UTC
DTSTART:20250101T000000
END:STANDARD
END:VTIMEZONE
BEGIN:VEVENT
DTSTART;TZID=UTC:20260420T100000
DTEND;TZID=UTC:20260420T120000
DTSTAMP:20260420T023413
CREATED:20260409T211636Z
LAST-MODIFIED:20260409T211636Z
UID:10007521-1776679200-1776686400@newrysurestart.org
SUMMARY:Pottery Painting Workshop
DESCRIPTION:
URL:http://newrysurestart.org/booking/pottery-painting-workshop/
LOCATION:Fiveways\, 101 Armagh Rd\, Newry\, BT35 6PW
ORGANIZER;CN="Karen Mc":MAILTO:karenmcgrath@newrysurestart.org
END:VEVENT
BEGIN:VEVENT
DTSTART;TZID=UTC:20260420T103000
DTEND;TZID=UTC:20260420T114500
DTSTAMP:20260420T023413
CREATED:20260409T211315Z
LAST-MODIFIED:20260409T211315Z
UID:10007460-1776681000-1776685500@newrysurestart.org
SUMMARY:Parent & Toddler
DESCRIPTION:
URL:http://newrysurestart.org/booking/parent-toddler/2026-04-20/
LOCATION:Altnaveigh House\, Belfast Road\, 51 Downshire Rd\, Newry\, BT34 1EE
END:VEVENT
END:VCALENDAR