BEGIN:VCALENDAR
VERSION:2.0
PRODID:-//Newry SureStart - ECPv6.15.12.2//NONSGML v1.0//EN
CALSCALE:GREGORIAN
METHOD:PUBLISH
X-WR-CALNAME:Newry SureStart
X-ORIGINAL-URL:http://newrysurestart.org
X-WR-CALDESC:Events for Newry SureStart
REFRESH-INTERVAL;VALUE=DURATION:PT1H
X-Robots-Tag:noindex
X-PUBLISHED-TTL:PT1H
BEGIN:VTIMEZONE
TZID:UTC
BEGIN:STANDARD
TZOFFSETFROM:+0000
TZOFFSETTO:+0000
TZNAME:UTC
DTSTART:20250101T000000
END:STANDARD
END:VTIMEZONE
BEGIN:VEVENT
DTSTART;TZID=UTC:20260421T093000
DTEND;TZID=UTC:20260421T101500
DTSTAMP:20260421T022434
CREATED:20260409T212512Z
LAST-MODIFIED:20260409T212512Z
UID:10007523-1776763800-1776766500@newrysurestart.org
SUMMARY:Tiny Beats SLT
DESCRIPTION:
URL:http://newrysurestart.org/booking/tiny-beats-slt/2026-04-21/
LOCATION:Derrybeg Community Centre\, Derrybeg Park\, Newry\, BT35 6EZ
END:VEVENT
BEGIN:VEVENT
DTSTART;TZID=UTC:20260421T103000
DTEND;TZID=UTC:20260421T113000
DTSTAMP:20260421T022434
CREATED:20260409T212733Z
LAST-MODIFIED:20260409T212733Z
UID:10007586-1776767400-1776771000@newrysurestart.org
SUMMARY:Sure Start Sounds
DESCRIPTION:
URL:http://newrysurestart.org/booking/sure-start-sounds-2/2026-04-21/
LOCATION:Derrybeg Community Centre\, Derrybeg Park\, Newry\, BT35 6EZ
ORGANIZER;CN="Karen S":MAILTO:karens@newrysurestart.org
END:VEVENT
END:VCALENDAR