BEGIN:VCALENDAR
VERSION:2.0
PRODID:-//Newry SureStart - ECPv6.15.12.2//NONSGML v1.0//EN
CALSCALE:GREGORIAN
METHOD:PUBLISH
X-ORIGINAL-URL:http://newrysurestart.org
X-WR-CALDESC:Events for Newry SureStart
REFRESH-INTERVAL;VALUE=DURATION:PT1H
X-Robots-Tag:noindex
X-PUBLISHED-TTL:PT1H
BEGIN:VTIMEZONE
TZID:UTC
BEGIN:STANDARD
TZOFFSETFROM:+0000
TZOFFSETTO:+0000
TZNAME:UTC
DTSTART:20250101T000000
END:STANDARD
END:VTIMEZONE
BEGIN:VEVENT
DTSTART;TZID=UTC:20260601T100000
DTEND;TZID=UTC:20260601T114500
DTSTAMP:20260419T125229
CREATED:20260411T102818Z
LAST-MODIFIED:20260411T102818Z
UID:10008737-1780308000-1780314300@newrysurestart.org
SUMMARY:Movement Matters
DESCRIPTION:
URL:http://newrysurestart.org/booking/movement-matters/
LOCATION:Altnaveigh House\, Belfast Road\, 51 Downshire Rd\, Newry\, BT34 1EE
ORGANIZER;CN="Karen S":MAILTO:karens@newrysurestart.org
END:VEVENT
BEGIN:VEVENT
DTSTART;TZID=UTC:20260601T100000
DTEND;TZID=UTC:20260601T120000
DTSTAMP:20260419T125229
CREATED:20260411T102608Z
LAST-MODIFIED:20260411T102608Z
UID:10008681-1780308000-1780315200@newrysurestart.org
SUMMARY:Paediatric First Aid
DESCRIPTION:Creche Available
URL:http://newrysurestart.org/booking/paediatric-first-aid/2026-06-01/
LOCATION:Fiveways\, 101 Armagh Rd\, Newry\, BT35 6PW
ORGANIZER;CN="Karen Mc":MAILTO:karenmcgrath@newrysurestart.org
END:VEVENT
BEGIN:VEVENT
DTSTART;TZID=UTC:20260601T103000
DTEND;TZID=UTC:20260601T114500
DTSTAMP:20260419T125229
CREATED:20260409T211315Z
LAST-MODIFIED:20260409T211315Z
UID:10007464-1780309800-1780314300@newrysurestart.org
SUMMARY:Parent & Toddler
DESCRIPTION:
URL:http://newrysurestart.org/booking/parent-toddler/2026-06-01/
LOCATION:Altnaveigh House\, Belfast Road\, 51 Downshire Rd\, Newry\, BT34 1EE
END:VEVENT
BEGIN:VEVENT
DTSTART;TZID=UTC:20260602T093000
DTEND;TZID=UTC:20260602T101500
DTSTAMP:20260419T125229
CREATED:20260409T212512Z
LAST-MODIFIED:20260409T212512Z
UID:10007529-1780392600-1780395300@newrysurestart.org
SUMMARY:Tiny Beats SLT
DESCRIPTION:
URL:http://newrysurestart.org/booking/tiny-beats-slt/2026-06-02/
LOCATION:Derrybeg Community Centre\, Derrybeg Park\, Newry\, BT35 6EZ
END:VEVENT
BEGIN:VEVENT
DTSTART;TZID=UTC:20260602T093000
DTEND;TZID=UTC:20260602T110000
DTSTAMP:20260419T125229
CREATED:20260411T095242Z
LAST-MODIFIED:20260411T095242Z
UID:10008500-1780392600-1780398000@newrysurestart.org
SUMMARY:Big feeling\, Busy minds
DESCRIPTION:
URL:http://newrysurestart.org/booking/big-feeling-busy-minds/2026-06-02/
ORGANIZER;CN="Newry Sure Start":MAILTO:info@newrysurestart.org
END:VEVENT
BEGIN:VEVENT
DTSTART;TZID=UTC:20260602T103000
DTEND;TZID=UTC:20260602T113000
DTSTAMP:20260419T125229
CREATED:20260409T212733Z
LAST-MODIFIED:20260409T212733Z
UID:10007592-1780396200-1780399800@newrysurestart.org
SUMMARY:Sure Start Sounds
DESCRIPTION:
URL:http://newrysurestart.org/booking/sure-start-sounds-2/2026-06-02/
LOCATION:Derrybeg Community Centre\, Derrybeg Park\, Newry\, BT35 6EZ
ORGANIZER;CN="Karen S":MAILTO:karens@newrysurestart.org
END:VEVENT
BEGIN:VEVENT
DTSTART;TZID=UTC:20260602T113000
DTEND;TZID=UTC:20260602T123000
DTSTAMP:20260419T125229
CREATED:20260411T094243Z
LAST-MODIFIED:20260411T094243Z
UID:10008443-1780399800-1780403400@newrysurestart.org
SUMMARY:Toddle & Talk
DESCRIPTION:
URL:http://newrysurestart.org/booking/toddle-talk/2026-06-02/
LOCATION:Fiveways\, 101 Armagh Rd\, Newry\, BT35 6PW
ORGANIZER;CN="Adele T":MAILTO:adelet@newrysurestart.org
END:VEVENT
BEGIN:VEVENT
DTSTART;TZID=UTC:20260603T100000
DTEND;TZID=UTC:20260603T110000
DTSTAMP:20260419T125229
CREATED:20260411T100929Z
LAST-MODIFIED:20260411T100929Z
UID:10008620-1780480800-1780484400@newrysurestart.org
SUMMARY:Buggy Fitness
DESCRIPTION:
URL:http://newrysurestart.org/booking/buggy-fitness/2026-06-03/
LOCATION:Derrymore Woods\, Bessbrook\, Newry\, Down\, BT35 7EF\, United Kingdom
ORGANIZER;CN="Karen Mc":MAILTO:karenmcgrath@newrysurestart.org
END:VEVENT
BEGIN:VEVENT
DTSTART;TZID=UTC:20260603T100000
DTEND;TZID=UTC:20260603T113000
DTSTAMP:20260419T125229
CREATED:20260411T091454Z
LAST-MODIFIED:20260411T091454Z
UID:10007735-1780480800-1780486200@newrysurestart.org
SUMMARY:Breastfeeding Support
DESCRIPTION:
URL:http://newrysurestart.org/booking/breastfeeding-support/2026-06-03/
LOCATION:Newry Leisure Centre (Training Room)\, 60 Cecil Street\, Newry\, BT35 6AU\, United Kingdom
END:VEVENT
BEGIN:VEVENT
DTSTART;TZID=UTC:20260603T103000
DTEND;TZID=UTC:20260603T113000
DTSTAMP:20260419T125229
CREATED:20260411T103458Z
LAST-MODIFIED:20260411T103458Z
UID:10008739-1780482600-1780486200@newrysurestart.org
SUMMARY:Infant Massage
DESCRIPTION:
URL:http://newrysurestart.org/booking/infant-massage-5/2026-06-03/
ORGANIZER;CN="Thelma D":MAILTO:thelmad@newrysurestart.org
END:VEVENT
BEGIN:VEVENT
DTSTART;TZID=UTC:20260603T113000
DTEND;TZID=UTC:20260603T130000
DTSTAMP:20260419T125229
CREATED:20260411T091620Z
LAST-MODIFIED:20260411T091620Z
UID:10007800-1780486200-1780491600@newrysurestart.org
SUMMARY:Baby Café
DESCRIPTION:
URL:http://newrysurestart.org/booking/baby-cafe/2026-06-03/
LOCATION:Newry Leisure Centre (Training Room)\, 60 Cecil Street\, Newry\, BT35 6AU\, United Kingdom
END:VEVENT
BEGIN:VEVENT
DTSTART;TZID=UTC:20260603T193000
DTEND;TZID=UTC:20260603T203000
DTSTAMP:20260419T125229
CREATED:20260411T095950Z
LAST-MODIFIED:20260411T095950Z
UID:10008559-1780515000-1780518600@newrysurestart.org
SUMMARY:Ante Natal Pilates
DESCRIPTION:
URL:http://newrysurestart.org/booking/ante-natal-pilates/2026-06-03/
LOCATION:Thomas Davis Centre\, 21 Dorans Hill\, Newry\, BT35 8PQ
ORGANIZER;CN="Emma C":MAILTO:emmaca@newrysurestart.org
END:VEVENT
BEGIN:VEVENT
DTSTART;TZID=UTC:20260604T103000
DTEND;TZID=UTC:20260604T114500
DTSTAMP:20260419T125229
CREATED:20260411T104309Z
LAST-MODIFIED:20260411T104309Z
UID:10008799-1780569000-1780573500@newrysurestart.org
SUMMARY:Movement Matters
DESCRIPTION:
URL:http://newrysurestart.org/booking/movement-matters-3/
LOCATION:Altnaveigh House\, Belfast Road\, 51 Downshire Rd\, Newry\, BT34 1EE
ORGANIZER;CN="Karen S":MAILTO:karens@newrysurestart.org
END:VEVENT
BEGIN:VEVENT
DTSTART;TZID=UTC:20260604T103000
DTEND;TZID=UTC:20260604T114500
DTSTAMP:20260419T125229
CREATED:20260411T104610Z
LAST-MODIFIED:20260411T104610Z
UID:10008800-1780569000-1780573500@newrysurestart.org
SUMMARY:Movement Matters
DESCRIPTION:
URL:http://newrysurestart.org/booking/movement-matters-4/
LOCATION:Warrenpoint\, United Kingdom
ORGANIZER;CN="Karen S":MAILTO:karens@newrysurestart.org
END:VEVENT
BEGIN:VEVENT
DTSTART;TZID=UTC:20260604T180000
DTEND;TZID=UTC:20260604T200000
DTSTAMP:20260419T125229
CREATED:20260411T104140Z
LAST-MODIFIED:20260411T104140Z
UID:10008798-1780596000-1780603200@newrysurestart.org
SUMMARY:Antenatal Workshop Lets talk about birth
DESCRIPTION:
URL:http://newrysurestart.org/booking/antenatal-workshop-lets-talk-about-birth/
LOCATION:Fiveways\, 101 Armagh Rd\, Newry\, BT35 6PW
ORGANIZER;CN="Emma C":MAILTO:emmaca@newrysurestart.org
END:VEVENT
BEGIN:VEVENT
DTSTART;TZID=UTC:20260605T100000
DTEND;TZID=UTC:20260605T110000
DTSTAMP:20260419T125229
CREATED:20260411T093402Z
LAST-MODIFIED:20260415T092602Z
UID:10008812-1780653600-1780657200@newrysurestart.org
SUMMARY:Infant Massage Fiveways
DESCRIPTION:
URL:http://newrysurestart.org/booking/infant-massage-fiveways/2026-06-05/
ORGANIZER;CN="Adele T":MAILTO:adelet@newrysurestart.org
END:VEVENT
BEGIN:VEVENT
DTSTART;TZID=UTC:20260608T100000
DTEND;TZID=UTC:20260608T120000
DTSTAMP:20260419T125229
CREATED:20260411T102608Z
LAST-MODIFIED:20260411T102608Z
UID:10008682-1780912800-1780920000@newrysurestart.org
SUMMARY:Paediatric First Aid
DESCRIPTION:Creche Available
URL:http://newrysurestart.org/booking/paediatric-first-aid/2026-06-08/
LOCATION:Fiveways\, 101 Armagh Rd\, Newry\, BT35 6PW
ORGANIZER;CN="Karen Mc":MAILTO:karenmcgrath@newrysurestart.org
END:VEVENT
BEGIN:VEVENT
DTSTART;TZID=UTC:20260608T103000
DTEND;TZID=UTC:20260608T114500
DTSTAMP:20260419T125229
CREATED:20260409T211315Z
LAST-MODIFIED:20260409T211315Z
UID:10007465-1780914600-1780919100@newrysurestart.org
SUMMARY:Parent & Toddler
DESCRIPTION:
URL:http://newrysurestart.org/booking/parent-toddler/2026-06-08/
LOCATION:Altnaveigh House\, Belfast Road\, 51 Downshire Rd\, Newry\, BT34 1EE
END:VEVENT
BEGIN:VEVENT
DTSTART;TZID=UTC:20260609T093000
DTEND;TZID=UTC:20260609T101500
DTSTAMP:20260419T125229
CREATED:20260409T212512Z
LAST-MODIFIED:20260409T212512Z
UID:10007530-1780997400-1781000100@newrysurestart.org
SUMMARY:Tiny Beats SLT
DESCRIPTION:
URL:http://newrysurestart.org/booking/tiny-beats-slt/2026-06-09/
LOCATION:Derrybeg Community Centre\, Derrybeg Park\, Newry\, BT35 6EZ
END:VEVENT
BEGIN:VEVENT
DTSTART;TZID=UTC:20260609T093000
DTEND;TZID=UTC:20260609T110000
DTSTAMP:20260419T125229
CREATED:20260411T095242Z
LAST-MODIFIED:20260411T095242Z
UID:10008501-1780997400-1781002800@newrysurestart.org
SUMMARY:Big feeling\, Busy minds
DESCRIPTION:
URL:http://newrysurestart.org/booking/big-feeling-busy-minds/2026-06-09/
ORGANIZER;CN="Newry Sure Start":MAILTO:info@newrysurestart.org
END:VEVENT
BEGIN:VEVENT
DTSTART;TZID=UTC:20260609T103000
DTEND;TZID=UTC:20260609T113000
DTSTAMP:20260419T125229
CREATED:20260409T212733Z
LAST-MODIFIED:20260409T212733Z
UID:10007593-1781001000-1781004600@newrysurestart.org
SUMMARY:Sure Start Sounds
DESCRIPTION:
URL:http://newrysurestart.org/booking/sure-start-sounds-2/2026-06-09/
LOCATION:Derrybeg Community Centre\, Derrybeg Park\, Newry\, BT35 6EZ
ORGANIZER;CN="Karen S":MAILTO:karens@newrysurestart.org
END:VEVENT
BEGIN:VEVENT
DTSTART;TZID=UTC:20260609T113000
DTEND;TZID=UTC:20260609T123000
DTSTAMP:20260419T125229
CREATED:20260411T094243Z
LAST-MODIFIED:20260411T094243Z
UID:10008444-1781004600-1781008200@newrysurestart.org
SUMMARY:Toddle & Talk
DESCRIPTION:
URL:http://newrysurestart.org/booking/toddle-talk/2026-06-09/
LOCATION:Fiveways\, 101 Armagh Rd\, Newry\, BT35 6PW
ORGANIZER;CN="Adele T":MAILTO:adelet@newrysurestart.org
END:VEVENT
BEGIN:VEVENT
DTSTART;VALUE=DATE:20260610
DTEND;VALUE=DATE:20260611
DTSTAMP:20260419T125229
CREATED:20260411T103811Z
LAST-MODIFIED:20260411T103811Z
UID:10008796-1781049600-1781135999@newrysurestart.org
SUMMARY:Celebrating Men’s Health Week
DESCRIPTION:
URL:http://newrysurestart.org/booking/celebrating-mens-health-week/
LOCATION:Newry Leisure Centre (Training Room)\, 60 Cecil Street\, Newry\, BT35 6AU\, United Kingdom
ORGANIZER;CN="Karen Mc":MAILTO:karenmcgrath@newrysurestart.org
END:VEVENT
BEGIN:VEVENT
DTSTART;TZID=UTC:20260610T100000
DTEND;TZID=UTC:20260610T110000
DTSTAMP:20260419T125229
CREATED:20260411T100929Z
LAST-MODIFIED:20260411T100929Z
UID:10008621-1781085600-1781089200@newrysurestart.org
SUMMARY:Buggy Fitness
DESCRIPTION:
URL:http://newrysurestart.org/booking/buggy-fitness/2026-06-10/
LOCATION:Derrymore Woods\, Bessbrook\, Newry\, Down\, BT35 7EF\, United Kingdom
ORGANIZER;CN="Karen Mc":MAILTO:karenmcgrath@newrysurestart.org
END:VEVENT
BEGIN:VEVENT
DTSTART;TZID=UTC:20260610T100000
DTEND;TZID=UTC:20260610T113000
DTSTAMP:20260419T125229
CREATED:20260411T091454Z
LAST-MODIFIED:20260411T091454Z
UID:10007736-1781085600-1781091000@newrysurestart.org
SUMMARY:Breastfeeding Support
DESCRIPTION:
URL:http://newrysurestart.org/booking/breastfeeding-support/2026-06-10/
LOCATION:Newry Leisure Centre (Training Room)\, 60 Cecil Street\, Newry\, BT35 6AU\, United Kingdom
END:VEVENT
BEGIN:VEVENT
DTSTART;TZID=UTC:20260610T103000
DTEND;TZID=UTC:20260610T113000
DTSTAMP:20260419T125229
CREATED:20260411T091051Z
LAST-MODIFIED:20260411T091051Z
UID:10007724-1781087400-1781091000@newrysurestart.org
SUMMARY:Sensory Spaces
DESCRIPTION:
URL:http://newrysurestart.org/booking/sensory-spaces/2026-06-10/
LOCATION:Altnaveigh House\, Belfast Road\, 51 Downshire Rd\, Newry\, BT34 1EE
END:VEVENT
BEGIN:VEVENT
DTSTART;TZID=UTC:20260610T103000
DTEND;TZID=UTC:20260610T113000
DTSTAMP:20260419T125229
CREATED:20260411T103458Z
LAST-MODIFIED:20260411T103458Z
UID:10008740-1781087400-1781091000@newrysurestart.org
SUMMARY:Infant Massage
DESCRIPTION:
URL:http://newrysurestart.org/booking/infant-massage-5/2026-06-10/
ORGANIZER;CN="Thelma D":MAILTO:thelmad@newrysurestart.org
END:VEVENT
BEGIN:VEVENT
DTSTART;TZID=UTC:20260610T103000
DTEND;TZID=UTC:20260610T114500
DTSTAMP:20260419T125229
CREATED:20260409T213558Z
LAST-MODIFIED:20260409T213558Z
UID:10007656-1781087400-1781091900@newrysurestart.org
SUMMARY:Parent & Toddler Group
DESCRIPTION:
URL:http://newrysurestart.org/booking/parent-toddler-group-2/2026-06-10/
LOCATION:Derrybeg Community Centre\, Derrybeg Park\, Newry\, BT35 6EZ
END:VEVENT
BEGIN:VEVENT
DTSTART;TZID=UTC:20260610T103000
DTEND;TZID=UTC:20260610T114500
DTSTAMP:20260419T125229
CREATED:20260411T103950Z
LAST-MODIFIED:20260411T103950Z
UID:10008797-1781087400-1781091900@newrysurestart.org
SUMMARY:Movement Matters
DESCRIPTION:
URL:http://newrysurestart.org/booking/movement-matters-2/
ORGANIZER;CN="Karen S":MAILTO:karens@newrysurestart.org
END:VEVENT
BEGIN:VEVENT
DTSTART;TZID=UTC:20260610T113000
DTEND;TZID=UTC:20260610T130000
DTSTAMP:20260419T125229
CREATED:20260411T091620Z
LAST-MODIFIED:20260411T091620Z
UID:10007801-1781091000-1781096400@newrysurestart.org
SUMMARY:Baby Café
DESCRIPTION:
URL:http://newrysurestart.org/booking/baby-cafe/2026-06-10/
LOCATION:Newry Leisure Centre (Training Room)\, 60 Cecil Street\, Newry\, BT35 6AU\, United Kingdom
END:VEVENT
END:VCALENDAR