BEGIN:VCALENDAR
VERSION:2.0
PRODID:-//Newry SureStart - ECPv6.15.12.2//NONSGML v1.0//EN
CALSCALE:GREGORIAN
METHOD:PUBLISH
X-WR-CALNAME:Newry SureStart
X-ORIGINAL-URL:http://newrysurestart.org
X-WR-CALDESC:Events for Newry SureStart
REFRESH-INTERVAL;VALUE=DURATION:PT1H
X-Robots-Tag:noindex
X-PUBLISHED-TTL:PT1H
BEGIN:VTIMEZONE
TZID:UTC
BEGIN:STANDARD
TZOFFSETFROM:+0000
TZOFFSETTO:+0000
TZNAME:UTC
DTSTART:20250101T000000
END:STANDARD
END:VTIMEZONE
BEGIN:VEVENT
DTSTART;TZID=UTC:20261001T103000
DTEND;TZID=UTC:20261001T114500
DTSTAMP:20260419T205855
CREATED:20260411T092506Z
LAST-MODIFIED:20260411T092506Z
UID:10008079-1790850600-1790855100@newrysurestart.org
SUMMARY:Parent & Toddler Group
DESCRIPTION:
URL:http://newrysurestart.org/booking/parent-toddler-group-3/2026-10-01/
LOCATION:Warrenpoint\, United Kingdom
END:VEVENT
BEGIN:VEVENT
DTSTART;TZID=UTC:20261001T103000
DTEND;TZID=UTC:20261001T114500
DTSTAMP:20260419T205855
CREATED:20260411T093105Z
LAST-MODIFIED:20260411T093105Z
UID:10008145-1790850600-1790855100@newrysurestart.org
SUMMARY:Small Word Parent & Toddler Group
DESCRIPTION:
URL:http://newrysurestart.org/booking/small-word-parent-toddler-group/2026-10-01/
LOCATION:Altnaveigh House\, Belfast Road\, 51 Downshire Rd\, Newry\, BT34 1EE
END:VEVENT
BEGIN:VEVENT
DTSTART;TZID=UTC:20261002T100000
DTEND;TZID=UTC:20261002T110000
DTSTAMP:20260419T205855
CREATED:20260411T093402Z
LAST-MODIFIED:20260415T092602Z
UID:10008829-1790935200-1790938800@newrysurestart.org
SUMMARY:Infant Massage Fiveways
DESCRIPTION:
URL:http://newrysurestart.org/booking/infant-massage-fiveways/2026-10-02/
ORGANIZER;CN="Adele T":MAILTO:adelet@newrysurestart.org
END:VEVENT
BEGIN:VEVENT
DTSTART;TZID=UTC:20261005T100000
DTEND;TZID=UTC:20261005T120000
DTSTAMP:20260419T205855
CREATED:20260411T102608Z
LAST-MODIFIED:20260411T102608Z
UID:10008699-1791194400-1791201600@newrysurestart.org
SUMMARY:Paediatric First Aid
DESCRIPTION:Creche Available
URL:http://newrysurestart.org/booking/paediatric-first-aid/2026-10-05/
LOCATION:Fiveways\, 101 Armagh Rd\, Newry\, BT35 6PW
ORGANIZER;CN="Karen Mc":MAILTO:karenmcgrath@newrysurestart.org
END:VEVENT
BEGIN:VEVENT
DTSTART;TZID=UTC:20261005T103000
DTEND;TZID=UTC:20261005T114500
DTSTAMP:20260419T205855
CREATED:20260409T211315Z
LAST-MODIFIED:20260409T211315Z
UID:10007482-1791196200-1791200700@newrysurestart.org
SUMMARY:Parent & Toddler
DESCRIPTION:
URL:http://newrysurestart.org/booking/parent-toddler/2026-10-05/
LOCATION:Altnaveigh House\, Belfast Road\, 51 Downshire Rd\, Newry\, BT34 1EE
END:VEVENT
BEGIN:VEVENT
DTSTART;TZID=UTC:20261006T093000
DTEND;TZID=UTC:20261006T101500
DTSTAMP:20260419T205855
CREATED:20260409T212512Z
LAST-MODIFIED:20260409T212512Z
UID:10007547-1791279000-1791281700@newrysurestart.org
SUMMARY:Tiny Beats SLT
DESCRIPTION:
URL:http://newrysurestart.org/booking/tiny-beats-slt/2026-10-06/
LOCATION:Derrybeg Community Centre\, Derrybeg Park\, Newry\, BT35 6EZ
END:VEVENT
BEGIN:VEVENT
DTSTART;TZID=UTC:20261006T093000
DTEND;TZID=UTC:20261006T110000
DTSTAMP:20260419T205855
CREATED:20260411T095242Z
LAST-MODIFIED:20260411T095242Z
UID:10008518-1791279000-1791284400@newrysurestart.org
SUMMARY:Big feeling\, Busy minds
DESCRIPTION:
URL:http://newrysurestart.org/booking/big-feeling-busy-minds/2026-10-06/
ORGANIZER;CN="Newry Sure Start":MAILTO:info@newrysurestart.org
END:VEVENT
BEGIN:VEVENT
DTSTART;TZID=UTC:20261006T103000
DTEND;TZID=UTC:20261006T113000
DTSTAMP:20260419T205855
CREATED:20260409T212733Z
LAST-MODIFIED:20260409T212733Z
UID:10007610-1791282600-1791286200@newrysurestart.org
SUMMARY:Sure Start Sounds
DESCRIPTION:
URL:http://newrysurestart.org/booking/sure-start-sounds-2/2026-10-06/
LOCATION:Derrybeg Community Centre\, Derrybeg Park\, Newry\, BT35 6EZ
ORGANIZER;CN="Karen S":MAILTO:karens@newrysurestart.org
END:VEVENT
BEGIN:VEVENT
DTSTART;TZID=UTC:20261006T113000
DTEND;TZID=UTC:20261006T123000
DTSTAMP:20260419T205855
CREATED:20260411T094243Z
LAST-MODIFIED:20260411T094243Z
UID:10008461-1791286200-1791289800@newrysurestart.org
SUMMARY:Toddle & Talk
DESCRIPTION:
URL:http://newrysurestart.org/booking/toddle-talk/2026-10-06/
LOCATION:Fiveways\, 101 Armagh Rd\, Newry\, BT35 6PW
ORGANIZER;CN="Adele T":MAILTO:adelet@newrysurestart.org
END:VEVENT
BEGIN:VEVENT
DTSTART;TZID=UTC:20261007T100000
DTEND;TZID=UTC:20261007T110000
DTSTAMP:20260419T205855
CREATED:20260411T100929Z
LAST-MODIFIED:20260411T100929Z
UID:10008638-1791367200-1791370800@newrysurestart.org
SUMMARY:Buggy Fitness
DESCRIPTION:
URL:http://newrysurestart.org/booking/buggy-fitness/2026-10-07/
LOCATION:Derrymore Woods\, Bessbrook\, Newry\, Down\, BT35 7EF\, United Kingdom
ORGANIZER;CN="Karen Mc":MAILTO:karenmcgrath@newrysurestart.org
END:VEVENT
BEGIN:VEVENT
DTSTART;TZID=UTC:20261007T100000
DTEND;TZID=UTC:20261007T113000
DTSTAMP:20260419T205855
CREATED:20260411T091454Z
LAST-MODIFIED:20260411T091454Z
UID:10007753-1791367200-1791372600@newrysurestart.org
SUMMARY:Breastfeeding Support
DESCRIPTION:
URL:http://newrysurestart.org/booking/breastfeeding-support/2026-10-07/
LOCATION:Newry Leisure Centre (Training Room)\, 60 Cecil Street\, Newry\, BT35 6AU\, United Kingdom
END:VEVENT
BEGIN:VEVENT
DTSTART;TZID=UTC:20261007T103000
DTEND;TZID=UTC:20261007T113000
DTSTAMP:20260419T205856
CREATED:20260411T103458Z
LAST-MODIFIED:20260411T103458Z
UID:10008757-1791369000-1791372600@newrysurestart.org
SUMMARY:Infant Massage
DESCRIPTION:
URL:http://newrysurestart.org/booking/infant-massage-5/2026-10-07/
ORGANIZER;CN="Thelma D":MAILTO:thelmad@newrysurestart.org
END:VEVENT
BEGIN:VEVENT
DTSTART;TZID=UTC:20261007T103000
DTEND;TZID=UTC:20261007T114500
DTSTAMP:20260419T205856
CREATED:20260409T213558Z
LAST-MODIFIED:20260409T213558Z
UID:10007673-1791369000-1791373500@newrysurestart.org
SUMMARY:Parent & Toddler Group
DESCRIPTION:
URL:http://newrysurestart.org/booking/parent-toddler-group-2/2026-10-07/
LOCATION:Derrybeg Community Centre\, Derrybeg Park\, Newry\, BT35 6EZ
END:VEVENT
BEGIN:VEVENT
DTSTART;TZID=UTC:20261007T113000
DTEND;TZID=UTC:20261007T130000
DTSTAMP:20260419T205856
CREATED:20260411T091620Z
LAST-MODIFIED:20260411T091620Z
UID:10007818-1791372600-1791378000@newrysurestart.org
SUMMARY:Baby Café
DESCRIPTION:
URL:http://newrysurestart.org/booking/baby-cafe/2026-10-07/
LOCATION:Newry Leisure Centre (Training Room)\, 60 Cecil Street\, Newry\, BT35 6AU\, United Kingdom
END:VEVENT
BEGIN:VEVENT
DTSTART;TZID=UTC:20261007T193000
DTEND;TZID=UTC:20261007T203000
DTSTAMP:20260419T205856
CREATED:20260411T095950Z
LAST-MODIFIED:20260411T095950Z
UID:10008577-1791401400-1791405000@newrysurestart.org
SUMMARY:Ante Natal Pilates
DESCRIPTION:
URL:http://newrysurestart.org/booking/ante-natal-pilates/2026-10-07/
LOCATION:Thomas Davis Centre\, 21 Dorans Hill\, Newry\, BT35 8PQ
ORGANIZER;CN="Emma C":MAILTO:emmaca@newrysurestart.org
END:VEVENT
BEGIN:VEVENT
DTSTART;TZID=UTC:20261008T103000
DTEND;TZID=UTC:20261008T114500
DTSTAMP:20260419T205856
CREATED:20260411T092506Z
LAST-MODIFIED:20260411T092506Z
UID:10008080-1791455400-1791459900@newrysurestart.org
SUMMARY:Parent & Toddler Group
DESCRIPTION:
URL:http://newrysurestart.org/booking/parent-toddler-group-3/2026-10-08/
LOCATION:Warrenpoint\, United Kingdom
END:VEVENT
BEGIN:VEVENT
DTSTART;TZID=UTC:20261008T103000
DTEND;TZID=UTC:20261008T114500
DTSTAMP:20260419T205856
CREATED:20260411T093105Z
LAST-MODIFIED:20260411T093105Z
UID:10008146-1791455400-1791459900@newrysurestart.org
SUMMARY:Small Word Parent & Toddler Group
DESCRIPTION:
URL:http://newrysurestart.org/booking/small-word-parent-toddler-group/2026-10-08/
LOCATION:Altnaveigh House\, Belfast Road\, 51 Downshire Rd\, Newry\, BT34 1EE
END:VEVENT
BEGIN:VEVENT
DTSTART;TZID=UTC:20261009T100000
DTEND;TZID=UTC:20261009T110000
DTSTAMP:20260419T205856
CREATED:20260411T093402Z
LAST-MODIFIED:20260415T092602Z
UID:10008830-1791540000-1791543600@newrysurestart.org
SUMMARY:Infant Massage Fiveways
DESCRIPTION:
URL:http://newrysurestart.org/booking/infant-massage-fiveways/2026-10-09/
ORGANIZER;CN="Adele T":MAILTO:adelet@newrysurestart.org
END:VEVENT
BEGIN:VEVENT
DTSTART;TZID=UTC:20261012T100000
DTEND;TZID=UTC:20261012T120000
DTSTAMP:20260419T205856
CREATED:20260411T102608Z
LAST-MODIFIED:20260411T102608Z
UID:10008700-1791799200-1791806400@newrysurestart.org
SUMMARY:Paediatric First Aid
DESCRIPTION:Creche Available
URL:http://newrysurestart.org/booking/paediatric-first-aid/2026-10-12/
LOCATION:Fiveways\, 101 Armagh Rd\, Newry\, BT35 6PW
ORGANIZER;CN="Karen Mc":MAILTO:karenmcgrath@newrysurestart.org
END:VEVENT
BEGIN:VEVENT
DTSTART;TZID=UTC:20261012T103000
DTEND;TZID=UTC:20261012T114500
DTSTAMP:20260419T205856
CREATED:20260409T211315Z
LAST-MODIFIED:20260409T211315Z
UID:10007483-1791801000-1791805500@newrysurestart.org
SUMMARY:Parent & Toddler
DESCRIPTION:
URL:http://newrysurestart.org/booking/parent-toddler/2026-10-12/
LOCATION:Altnaveigh House\, Belfast Road\, 51 Downshire Rd\, Newry\, BT34 1EE
END:VEVENT
BEGIN:VEVENT
DTSTART;TZID=UTC:20261013T093000
DTEND;TZID=UTC:20261013T101500
DTSTAMP:20260419T205856
CREATED:20260409T212512Z
LAST-MODIFIED:20260409T212512Z
UID:10007548-1791883800-1791886500@newrysurestart.org
SUMMARY:Tiny Beats SLT
DESCRIPTION:
URL:http://newrysurestart.org/booking/tiny-beats-slt/2026-10-13/
LOCATION:Derrybeg Community Centre\, Derrybeg Park\, Newry\, BT35 6EZ
END:VEVENT
BEGIN:VEVENT
DTSTART;TZID=UTC:20261013T093000
DTEND;TZID=UTC:20261013T110000
DTSTAMP:20260419T205856
CREATED:20260411T095242Z
LAST-MODIFIED:20260411T095242Z
UID:10008519-1791883800-1791889200@newrysurestart.org
SUMMARY:Big feeling\, Busy minds
DESCRIPTION:
URL:http://newrysurestart.org/booking/big-feeling-busy-minds/2026-10-13/
ORGANIZER;CN="Newry Sure Start":MAILTO:info@newrysurestart.org
END:VEVENT
BEGIN:VEVENT
DTSTART;TZID=UTC:20261013T103000
DTEND;TZID=UTC:20261013T113000
DTSTAMP:20260419T205856
CREATED:20260409T212733Z
LAST-MODIFIED:20260409T212733Z
UID:10007611-1791887400-1791891000@newrysurestart.org
SUMMARY:Sure Start Sounds
DESCRIPTION:
URL:http://newrysurestart.org/booking/sure-start-sounds-2/2026-10-13/
LOCATION:Derrybeg Community Centre\, Derrybeg Park\, Newry\, BT35 6EZ
ORGANIZER;CN="Karen S":MAILTO:karens@newrysurestart.org
END:VEVENT
BEGIN:VEVENT
DTSTART;TZID=UTC:20261013T113000
DTEND;TZID=UTC:20261013T123000
DTSTAMP:20260419T205856
CREATED:20260411T094243Z
LAST-MODIFIED:20260411T094243Z
UID:10008462-1791891000-1791894600@newrysurestart.org
SUMMARY:Toddle & Talk
DESCRIPTION:
URL:http://newrysurestart.org/booking/toddle-talk/2026-10-13/
LOCATION:Fiveways\, 101 Armagh Rd\, Newry\, BT35 6PW
ORGANIZER;CN="Adele T":MAILTO:adelet@newrysurestart.org
END:VEVENT
BEGIN:VEVENT
DTSTART;TZID=UTC:20261014T100000
DTEND;TZID=UTC:20261014T110000
DTSTAMP:20260419T205856
CREATED:20260411T100929Z
LAST-MODIFIED:20260411T100929Z
UID:10008639-1791972000-1791975600@newrysurestart.org
SUMMARY:Buggy Fitness
DESCRIPTION:
URL:http://newrysurestart.org/booking/buggy-fitness/2026-10-14/
LOCATION:Derrymore Woods\, Bessbrook\, Newry\, Down\, BT35 7EF\, United Kingdom
ORGANIZER;CN="Karen Mc":MAILTO:karenmcgrath@newrysurestart.org
END:VEVENT
BEGIN:VEVENT
DTSTART;TZID=UTC:20261014T100000
DTEND;TZID=UTC:20261014T113000
DTSTAMP:20260419T205856
CREATED:20260411T091454Z
LAST-MODIFIED:20260411T091454Z
UID:10007754-1791972000-1791977400@newrysurestart.org
SUMMARY:Breastfeeding Support
DESCRIPTION:
URL:http://newrysurestart.org/booking/breastfeeding-support/2026-10-14/
LOCATION:Newry Leisure Centre (Training Room)\, 60 Cecil Street\, Newry\, BT35 6AU\, United Kingdom
END:VEVENT
BEGIN:VEVENT
DTSTART;TZID=UTC:20261014T103000
DTEND;TZID=UTC:20261014T113000
DTSTAMP:20260419T205856
CREATED:20260411T103458Z
LAST-MODIFIED:20260411T103458Z
UID:10008758-1791973800-1791977400@newrysurestart.org
SUMMARY:Infant Massage
DESCRIPTION:
URL:http://newrysurestart.org/booking/infant-massage-5/2026-10-14/
ORGANIZER;CN="Thelma D":MAILTO:thelmad@newrysurestart.org
END:VEVENT
BEGIN:VEVENT
DTSTART;TZID=UTC:20261014T103000
DTEND;TZID=UTC:20261014T114500
DTSTAMP:20260419T205856
CREATED:20260409T213558Z
LAST-MODIFIED:20260409T213558Z
UID:10007674-1791973800-1791978300@newrysurestart.org
SUMMARY:Parent & Toddler Group
DESCRIPTION:
URL:http://newrysurestart.org/booking/parent-toddler-group-2/2026-10-14/
LOCATION:Derrybeg Community Centre\, Derrybeg Park\, Newry\, BT35 6EZ
END:VEVENT
BEGIN:VEVENT
DTSTART;TZID=UTC:20261014T113000
DTEND;TZID=UTC:20261014T130000
DTSTAMP:20260419T205856
CREATED:20260411T091620Z
LAST-MODIFIED:20260411T091620Z
UID:10007819-1791977400-1791982800@newrysurestart.org
SUMMARY:Baby Café
DESCRIPTION:
URL:http://newrysurestart.org/booking/baby-cafe/2026-10-14/
LOCATION:Newry Leisure Centre (Training Room)\, 60 Cecil Street\, Newry\, BT35 6AU\, United Kingdom
END:VEVENT
BEGIN:VEVENT
DTSTART;TZID=UTC:20261014T193000
DTEND;TZID=UTC:20261014T203000
DTSTAMP:20260419T205856
CREATED:20260411T095950Z
LAST-MODIFIED:20260411T095950Z
UID:10008578-1792006200-1792009800@newrysurestart.org
SUMMARY:Ante Natal Pilates
DESCRIPTION:
URL:http://newrysurestart.org/booking/ante-natal-pilates/2026-10-14/
LOCATION:Thomas Davis Centre\, 21 Dorans Hill\, Newry\, BT35 8PQ
ORGANIZER;CN="Emma C":MAILTO:emmaca@newrysurestart.org
END:VEVENT
END:VCALENDAR