BEGIN:VCALENDAR
VERSION:2.0
PRODID:-//Newry SureStart - ECPv6.15.12.2//NONSGML v1.0//EN
CALSCALE:GREGORIAN
METHOD:PUBLISH
X-ORIGINAL-URL:http://newrysurestart.org
X-WR-CALDESC:Events for Newry SureStart
REFRESH-INTERVAL;VALUE=DURATION:PT1H
X-Robots-Tag:noindex
X-PUBLISHED-TTL:PT1H
BEGIN:VTIMEZONE
TZID:UTC
BEGIN:STANDARD
TZOFFSETFROM:+0000
TZOFFSETTO:+0000
TZNAME:UTC
DTSTART:20250101T000000
END:STANDARD
END:VTIMEZONE
BEGIN:VEVENT
DTSTART;TZID=UTC:20261102T100000
DTEND;TZID=UTC:20261102T120000
DTSTAMP:20260419T225858
CREATED:20260411T102608Z
LAST-MODIFIED:20260411T102608Z
UID:10008703-1793613600-1793620800@newrysurestart.org
SUMMARY:Paediatric First Aid
DESCRIPTION:Creche Available
URL:http://newrysurestart.org/booking/paediatric-first-aid/2026-11-02/
LOCATION:Fiveways\, 101 Armagh Rd\, Newry\, BT35 6PW
ORGANIZER;CN="Karen Mc":MAILTO:karenmcgrath@newrysurestart.org
END:VEVENT
BEGIN:VEVENT
DTSTART;TZID=UTC:20261102T103000
DTEND;TZID=UTC:20261102T114500
DTSTAMP:20260419T225858
CREATED:20260409T211315Z
LAST-MODIFIED:20260409T211315Z
UID:10007486-1793615400-1793619900@newrysurestart.org
SUMMARY:Parent & Toddler
DESCRIPTION:
URL:http://newrysurestart.org/booking/parent-toddler/2026-11-02/
LOCATION:Altnaveigh House\, Belfast Road\, 51 Downshire Rd\, Newry\, BT34 1EE
END:VEVENT
BEGIN:VEVENT
DTSTART;TZID=UTC:20261103T093000
DTEND;TZID=UTC:20261103T101500
DTSTAMP:20260419T225858
CREATED:20260409T212512Z
LAST-MODIFIED:20260409T212512Z
UID:10007551-1793698200-1793700900@newrysurestart.org
SUMMARY:Tiny Beats SLT
DESCRIPTION:
URL:http://newrysurestart.org/booking/tiny-beats-slt/2026-11-03/
LOCATION:Derrybeg Community Centre\, Derrybeg Park\, Newry\, BT35 6EZ
END:VEVENT
BEGIN:VEVENT
DTSTART;TZID=UTC:20261103T093000
DTEND;TZID=UTC:20261103T110000
DTSTAMP:20260419T225858
CREATED:20260411T095242Z
LAST-MODIFIED:20260411T095242Z
UID:10008522-1793698200-1793703600@newrysurestart.org
SUMMARY:Big feeling\, Busy minds
DESCRIPTION:
URL:http://newrysurestart.org/booking/big-feeling-busy-minds/2026-11-03/
ORGANIZER;CN="Newry Sure Start":MAILTO:info@newrysurestart.org
END:VEVENT
BEGIN:VEVENT
DTSTART;TZID=UTC:20261103T103000
DTEND;TZID=UTC:20261103T113000
DTSTAMP:20260419T225858
CREATED:20260409T212733Z
LAST-MODIFIED:20260409T212733Z
UID:10007614-1793701800-1793705400@newrysurestart.org
SUMMARY:Sure Start Sounds
DESCRIPTION:
URL:http://newrysurestart.org/booking/sure-start-sounds-2/2026-11-03/
LOCATION:Derrybeg Community Centre\, Derrybeg Park\, Newry\, BT35 6EZ
ORGANIZER;CN="Karen S":MAILTO:karens@newrysurestart.org
END:VEVENT
BEGIN:VEVENT
DTSTART;TZID=UTC:20261103T113000
DTEND;TZID=UTC:20261103T123000
DTSTAMP:20260419T225858
CREATED:20260411T094243Z
LAST-MODIFIED:20260411T094243Z
UID:10008465-1793705400-1793709000@newrysurestart.org
SUMMARY:Toddle & Talk
DESCRIPTION:
URL:http://newrysurestart.org/booking/toddle-talk/2026-11-03/
LOCATION:Fiveways\, 101 Armagh Rd\, Newry\, BT35 6PW
ORGANIZER;CN="Adele T":MAILTO:adelet@newrysurestart.org
END:VEVENT
BEGIN:VEVENT
DTSTART;TZID=UTC:20261104T100000
DTEND;TZID=UTC:20261104T110000
DTSTAMP:20260419T225858
CREATED:20260411T100929Z
LAST-MODIFIED:20260411T100929Z
UID:10008642-1793786400-1793790000@newrysurestart.org
SUMMARY:Buggy Fitness
DESCRIPTION:
URL:http://newrysurestart.org/booking/buggy-fitness/2026-11-04/
LOCATION:Derrymore Woods\, Bessbrook\, Newry\, Down\, BT35 7EF\, United Kingdom
ORGANIZER;CN="Karen Mc":MAILTO:karenmcgrath@newrysurestart.org
END:VEVENT
BEGIN:VEVENT
DTSTART;TZID=UTC:20261104T100000
DTEND;TZID=UTC:20261104T113000
DTSTAMP:20260419T225858
CREATED:20260411T091454Z
LAST-MODIFIED:20260411T091454Z
UID:10007757-1793786400-1793791800@newrysurestart.org
SUMMARY:Breastfeeding Support
DESCRIPTION:
URL:http://newrysurestart.org/booking/breastfeeding-support/2026-11-04/
LOCATION:Newry Leisure Centre (Training Room)\, 60 Cecil Street\, Newry\, BT35 6AU\, United Kingdom
END:VEVENT
BEGIN:VEVENT
DTSTART;TZID=UTC:20261104T103000
DTEND;TZID=UTC:20261104T113000
DTSTAMP:20260419T225858
CREATED:20260411T103458Z
LAST-MODIFIED:20260411T103458Z
UID:10008761-1793788200-1793791800@newrysurestart.org
SUMMARY:Infant Massage
DESCRIPTION:
URL:http://newrysurestart.org/booking/infant-massage-5/2026-11-04/
ORGANIZER;CN="Thelma D":MAILTO:thelmad@newrysurestart.org
END:VEVENT
BEGIN:VEVENT
DTSTART;TZID=UTC:20261104T103000
DTEND;TZID=UTC:20261104T114500
DTSTAMP:20260419T225858
CREATED:20260409T213558Z
LAST-MODIFIED:20260409T213558Z
UID:10007677-1793788200-1793792700@newrysurestart.org
SUMMARY:Parent & Toddler Group
DESCRIPTION:
URL:http://newrysurestart.org/booking/parent-toddler-group-2/2026-11-04/
LOCATION:Derrybeg Community Centre\, Derrybeg Park\, Newry\, BT35 6EZ
END:VEVENT
BEGIN:VEVENT
DTSTART;TZID=UTC:20261104T113000
DTEND;TZID=UTC:20261104T130000
DTSTAMP:20260419T225858
CREATED:20260411T091620Z
LAST-MODIFIED:20260411T091620Z
UID:10007822-1793791800-1793797200@newrysurestart.org
SUMMARY:Baby Café
DESCRIPTION:
URL:http://newrysurestart.org/booking/baby-cafe/2026-11-04/
LOCATION:Newry Leisure Centre (Training Room)\, 60 Cecil Street\, Newry\, BT35 6AU\, United Kingdom
END:VEVENT
BEGIN:VEVENT
DTSTART;TZID=UTC:20261104T193000
DTEND;TZID=UTC:20261104T203000
DTSTAMP:20260419T225858
CREATED:20260411T095950Z
LAST-MODIFIED:20260411T095950Z
UID:10008581-1793820600-1793824200@newrysurestart.org
SUMMARY:Ante Natal Pilates
DESCRIPTION:
URL:http://newrysurestart.org/booking/ante-natal-pilates/2026-11-04/
LOCATION:Thomas Davis Centre\, 21 Dorans Hill\, Newry\, BT35 8PQ
ORGANIZER;CN="Emma C":MAILTO:emmaca@newrysurestart.org
END:VEVENT
BEGIN:VEVENT
DTSTART;TZID=UTC:20261105T103000
DTEND;TZID=UTC:20261105T114500
DTSTAMP:20260419T225858
CREATED:20260411T092506Z
LAST-MODIFIED:20260411T092506Z
UID:10008084-1793874600-1793879100@newrysurestart.org
SUMMARY:Parent & Toddler Group
DESCRIPTION:
URL:http://newrysurestart.org/booking/parent-toddler-group-3/2026-11-05/
LOCATION:Warrenpoint\, United Kingdom
END:VEVENT
BEGIN:VEVENT
DTSTART;TZID=UTC:20261105T103000
DTEND;TZID=UTC:20261105T114500
DTSTAMP:20260419T225858
CREATED:20260411T093105Z
LAST-MODIFIED:20260411T093105Z
UID:10008150-1793874600-1793879100@newrysurestart.org
SUMMARY:Small Word Parent & Toddler Group
DESCRIPTION:
URL:http://newrysurestart.org/booking/small-word-parent-toddler-group/2026-11-05/
LOCATION:Altnaveigh House\, Belfast Road\, 51 Downshire Rd\, Newry\, BT34 1EE
END:VEVENT
BEGIN:VEVENT
DTSTART;TZID=UTC:20261106T100000
DTEND;TZID=UTC:20261106T110000
DTSTAMP:20260419T225858
CREATED:20260411T093402Z
LAST-MODIFIED:20260415T092602Z
UID:10008834-1793959200-1793962800@newrysurestart.org
SUMMARY:Infant Massage Fiveways
DESCRIPTION:
URL:http://newrysurestart.org/booking/infant-massage-fiveways/2026-11-06/
ORGANIZER;CN="Adele T":MAILTO:adelet@newrysurestart.org
END:VEVENT
BEGIN:VEVENT
DTSTART;TZID=UTC:20261109T100000
DTEND;TZID=UTC:20261109T120000
DTSTAMP:20260419T225858
CREATED:20260411T102608Z
LAST-MODIFIED:20260411T102608Z
UID:10008704-1794218400-1794225600@newrysurestart.org
SUMMARY:Paediatric First Aid
DESCRIPTION:Creche Available
URL:http://newrysurestart.org/booking/paediatric-first-aid/2026-11-09/
LOCATION:Fiveways\, 101 Armagh Rd\, Newry\, BT35 6PW
ORGANIZER;CN="Karen Mc":MAILTO:karenmcgrath@newrysurestart.org
END:VEVENT
BEGIN:VEVENT
DTSTART;TZID=UTC:20261109T103000
DTEND;TZID=UTC:20261109T114500
DTSTAMP:20260419T225858
CREATED:20260409T211315Z
LAST-MODIFIED:20260409T211315Z
UID:10007487-1794220200-1794224700@newrysurestart.org
SUMMARY:Parent & Toddler
DESCRIPTION:
URL:http://newrysurestart.org/booking/parent-toddler/2026-11-09/
LOCATION:Altnaveigh House\, Belfast Road\, 51 Downshire Rd\, Newry\, BT34 1EE
END:VEVENT
BEGIN:VEVENT
DTSTART;TZID=UTC:20261110T093000
DTEND;TZID=UTC:20261110T101500
DTSTAMP:20260419T225858
CREATED:20260409T212512Z
LAST-MODIFIED:20260409T212512Z
UID:10007552-1794303000-1794305700@newrysurestart.org
SUMMARY:Tiny Beats SLT
DESCRIPTION:
URL:http://newrysurestart.org/booking/tiny-beats-slt/2026-11-10/
LOCATION:Derrybeg Community Centre\, Derrybeg Park\, Newry\, BT35 6EZ
END:VEVENT
BEGIN:VEVENT
DTSTART;TZID=UTC:20261110T093000
DTEND;TZID=UTC:20261110T110000
DTSTAMP:20260419T225858
CREATED:20260411T095242Z
LAST-MODIFIED:20260411T095242Z
UID:10008523-1794303000-1794308400@newrysurestart.org
SUMMARY:Big feeling\, Busy minds
DESCRIPTION:
URL:http://newrysurestart.org/booking/big-feeling-busy-minds/2026-11-10/
ORGANIZER;CN="Newry Sure Start":MAILTO:info@newrysurestart.org
END:VEVENT
BEGIN:VEVENT
DTSTART;TZID=UTC:20261110T103000
DTEND;TZID=UTC:20261110T113000
DTSTAMP:20260419T225858
CREATED:20260409T212733Z
LAST-MODIFIED:20260409T212733Z
UID:10007615-1794306600-1794310200@newrysurestart.org
SUMMARY:Sure Start Sounds
DESCRIPTION:
URL:http://newrysurestart.org/booking/sure-start-sounds-2/2026-11-10/
LOCATION:Derrybeg Community Centre\, Derrybeg Park\, Newry\, BT35 6EZ
ORGANIZER;CN="Karen S":MAILTO:karens@newrysurestart.org
END:VEVENT
BEGIN:VEVENT
DTSTART;TZID=UTC:20261110T113000
DTEND;TZID=UTC:20261110T123000
DTSTAMP:20260419T225858
CREATED:20260411T094243Z
LAST-MODIFIED:20260411T094243Z
UID:10008466-1794310200-1794313800@newrysurestart.org
SUMMARY:Toddle & Talk
DESCRIPTION:
URL:http://newrysurestart.org/booking/toddle-talk/2026-11-10/
LOCATION:Fiveways\, 101 Armagh Rd\, Newry\, BT35 6PW
ORGANIZER;CN="Adele T":MAILTO:adelet@newrysurestart.org
END:VEVENT
BEGIN:VEVENT
DTSTART;TZID=UTC:20261111T100000
DTEND;TZID=UTC:20261111T110000
DTSTAMP:20260419T225858
CREATED:20260411T100929Z
LAST-MODIFIED:20260411T100929Z
UID:10008643-1794391200-1794394800@newrysurestart.org
SUMMARY:Buggy Fitness
DESCRIPTION:
URL:http://newrysurestart.org/booking/buggy-fitness/2026-11-11/
LOCATION:Derrymore Woods\, Bessbrook\, Newry\, Down\, BT35 7EF\, United Kingdom
ORGANIZER;CN="Karen Mc":MAILTO:karenmcgrath@newrysurestart.org
END:VEVENT
BEGIN:VEVENT
DTSTART;TZID=UTC:20261111T100000
DTEND;TZID=UTC:20261111T113000
DTSTAMP:20260419T225858
CREATED:20260411T091454Z
LAST-MODIFIED:20260411T091454Z
UID:10007758-1794391200-1794396600@newrysurestart.org
SUMMARY:Breastfeeding Support
DESCRIPTION:
URL:http://newrysurestart.org/booking/breastfeeding-support/2026-11-11/
LOCATION:Newry Leisure Centre (Training Room)\, 60 Cecil Street\, Newry\, BT35 6AU\, United Kingdom
END:VEVENT
BEGIN:VEVENT
DTSTART;TZID=UTC:20261111T103000
DTEND;TZID=UTC:20261111T113000
DTSTAMP:20260419T225858
CREATED:20260411T103458Z
LAST-MODIFIED:20260411T103458Z
UID:10008762-1794393000-1794396600@newrysurestart.org
SUMMARY:Infant Massage
DESCRIPTION:
URL:http://newrysurestart.org/booking/infant-massage-5/2026-11-11/
ORGANIZER;CN="Thelma D":MAILTO:thelmad@newrysurestart.org
END:VEVENT
BEGIN:VEVENT
DTSTART;TZID=UTC:20261111T103000
DTEND;TZID=UTC:20261111T114500
DTSTAMP:20260419T225858
CREATED:20260409T213558Z
LAST-MODIFIED:20260409T213558Z
UID:10007678-1794393000-1794397500@newrysurestart.org
SUMMARY:Parent & Toddler Group
DESCRIPTION:
URL:http://newrysurestart.org/booking/parent-toddler-group-2/2026-11-11/
LOCATION:Derrybeg Community Centre\, Derrybeg Park\, Newry\, BT35 6EZ
END:VEVENT
BEGIN:VEVENT
DTSTART;TZID=UTC:20261111T113000
DTEND;TZID=UTC:20261111T130000
DTSTAMP:20260419T225858
CREATED:20260411T091620Z
LAST-MODIFIED:20260411T091620Z
UID:10007823-1794396600-1794402000@newrysurestart.org
SUMMARY:Baby Café
DESCRIPTION:
URL:http://newrysurestart.org/booking/baby-cafe/2026-11-11/
LOCATION:Newry Leisure Centre (Training Room)\, 60 Cecil Street\, Newry\, BT35 6AU\, United Kingdom
END:VEVENT
BEGIN:VEVENT
DTSTART;TZID=UTC:20261111T193000
DTEND;TZID=UTC:20261111T203000
DTSTAMP:20260419T225858
CREATED:20260411T095950Z
LAST-MODIFIED:20260411T095950Z
UID:10008582-1794425400-1794429000@newrysurestart.org
SUMMARY:Ante Natal Pilates
DESCRIPTION:
URL:http://newrysurestart.org/booking/ante-natal-pilates/2026-11-11/
LOCATION:Thomas Davis Centre\, 21 Dorans Hill\, Newry\, BT35 8PQ
ORGANIZER;CN="Emma C":MAILTO:emmaca@newrysurestart.org
END:VEVENT
BEGIN:VEVENT
DTSTART;TZID=UTC:20261112T103000
DTEND;TZID=UTC:20261112T114500
DTSTAMP:20260419T225858
CREATED:20260411T092506Z
LAST-MODIFIED:20260411T092506Z
UID:10008085-1794479400-1794483900@newrysurestart.org
SUMMARY:Parent & Toddler Group
DESCRIPTION:
URL:http://newrysurestart.org/booking/parent-toddler-group-3/2026-11-12/
LOCATION:Warrenpoint\, United Kingdom
END:VEVENT
BEGIN:VEVENT
DTSTART;TZID=UTC:20261112T103000
DTEND;TZID=UTC:20261112T114500
DTSTAMP:20260419T225858
CREATED:20260411T093105Z
LAST-MODIFIED:20260411T093105Z
UID:10008151-1794479400-1794483900@newrysurestart.org
SUMMARY:Small Word Parent & Toddler Group
DESCRIPTION:
URL:http://newrysurestart.org/booking/small-word-parent-toddler-group/2026-11-12/
LOCATION:Altnaveigh House\, Belfast Road\, 51 Downshire Rd\, Newry\, BT34 1EE
END:VEVENT
BEGIN:VEVENT
DTSTART;TZID=UTC:20261113T100000
DTEND;TZID=UTC:20261113T110000
DTSTAMP:20260419T225858
CREATED:20260411T093402Z
LAST-MODIFIED:20260415T092602Z
UID:10008835-1794564000-1794567600@newrysurestart.org
SUMMARY:Infant Massage Fiveways
DESCRIPTION:
URL:http://newrysurestart.org/booking/infant-massage-fiveways/2026-11-13/
ORGANIZER;CN="Adele T":MAILTO:adelet@newrysurestart.org
END:VEVENT
END:VCALENDAR