BEGIN:VCALENDAR
VERSION:2.0
PRODID:-//Newry SureStart - ECPv6.15.12.2//NONSGML v1.0//EN
CALSCALE:GREGORIAN
METHOD:PUBLISH
X-WR-CALNAME:Newry SureStart
X-ORIGINAL-URL:http://newrysurestart.org
X-WR-CALDESC:Events for Newry SureStart
REFRESH-INTERVAL;VALUE=DURATION:PT1H
X-Robots-Tag:noindex
X-PUBLISHED-TTL:PT1H
BEGIN:VTIMEZONE
TZID:UTC
BEGIN:STANDARD
TZOFFSETFROM:+0000
TZOFFSETTO:+0000
TZNAME:UTC
DTSTART:20260101T000000
END:STANDARD
END:VTIMEZONE
BEGIN:VEVENT
DTSTART;TZID=UTC:20270101T100000
DTEND;TZID=UTC:20270101T110000
DTSTAMP:20260420T023716
CREATED:20260411T093402Z
LAST-MODIFIED:20260415T092602Z
UID:10008842-1798797600-1798801200@newrysurestart.org
SUMMARY:Infant Massage Fiveways
DESCRIPTION:
URL:http://newrysurestart.org/booking/infant-massage-fiveways/2027-01-01/
ORGANIZER;CN="Adele T":MAILTO:adelet@newrysurestart.org
END:VEVENT
BEGIN:VEVENT
DTSTART;TZID=UTC:20270104T100000
DTEND;TZID=UTC:20270104T120000
DTSTAMP:20260420T023716
CREATED:20260411T102608Z
LAST-MODIFIED:20260411T102608Z
UID:10008712-1799056800-1799064000@newrysurestart.org
SUMMARY:Paediatric First Aid
DESCRIPTION:Creche Available
URL:http://newrysurestart.org/booking/paediatric-first-aid/2027-01-04/
LOCATION:Fiveways\, 101 Armagh Rd\, Newry\, BT35 6PW
ORGANIZER;CN="Karen Mc":MAILTO:karenmcgrath@newrysurestart.org
END:VEVENT
BEGIN:VEVENT
DTSTART;TZID=UTC:20270104T103000
DTEND;TZID=UTC:20270104T114500
DTSTAMP:20260420T023716
CREATED:20260409T211315Z
LAST-MODIFIED:20260409T211315Z
UID:10007495-1799058600-1799063100@newrysurestart.org
SUMMARY:Parent & Toddler
DESCRIPTION:
URL:http://newrysurestart.org/booking/parent-toddler/2027-01-04/
LOCATION:Altnaveigh House\, Belfast Road\, 51 Downshire Rd\, Newry\, BT34 1EE
END:VEVENT
BEGIN:VEVENT
DTSTART;TZID=UTC:20270105T093000
DTEND;TZID=UTC:20270105T101500
DTSTAMP:20260420T023716
CREATED:20260409T212512Z
LAST-MODIFIED:20260409T212512Z
UID:10007560-1799141400-1799144100@newrysurestart.org
SUMMARY:Tiny Beats SLT
DESCRIPTION:
URL:http://newrysurestart.org/booking/tiny-beats-slt/2027-01-05/
LOCATION:Derrybeg Community Centre\, Derrybeg Park\, Newry\, BT35 6EZ
END:VEVENT
BEGIN:VEVENT
DTSTART;TZID=UTC:20270105T093000
DTEND;TZID=UTC:20270105T110000
DTSTAMP:20260420T023716
CREATED:20260411T095242Z
LAST-MODIFIED:20260411T095242Z
UID:10008531-1799141400-1799146800@newrysurestart.org
SUMMARY:Big feeling\, Busy minds
DESCRIPTION:
URL:http://newrysurestart.org/booking/big-feeling-busy-minds/2027-01-05/
ORGANIZER;CN="Newry Sure Start":MAILTO:info@newrysurestart.org
END:VEVENT
BEGIN:VEVENT
DTSTART;TZID=UTC:20270105T103000
DTEND;TZID=UTC:20270105T113000
DTSTAMP:20260420T023716
CREATED:20260409T212733Z
LAST-MODIFIED:20260409T212733Z
UID:10007623-1799145000-1799148600@newrysurestart.org
SUMMARY:Sure Start Sounds
DESCRIPTION:
URL:http://newrysurestart.org/booking/sure-start-sounds-2/2027-01-05/
LOCATION:Derrybeg Community Centre\, Derrybeg Park\, Newry\, BT35 6EZ
ORGANIZER;CN="Karen S":MAILTO:karens@newrysurestart.org
END:VEVENT
BEGIN:VEVENT
DTSTART;TZID=UTC:20270105T113000
DTEND;TZID=UTC:20270105T123000
DTSTAMP:20260420T023716
CREATED:20260411T094243Z
LAST-MODIFIED:20260411T094243Z
UID:10008474-1799148600-1799152200@newrysurestart.org
SUMMARY:Toddle & Talk
DESCRIPTION:
URL:http://newrysurestart.org/booking/toddle-talk/2027-01-05/
LOCATION:Fiveways\, 101 Armagh Rd\, Newry\, BT35 6PW
ORGANIZER;CN="Adele T":MAILTO:adelet@newrysurestart.org
END:VEVENT
BEGIN:VEVENT
DTSTART;TZID=UTC:20270106T100000
DTEND;TZID=UTC:20270106T110000
DTSTAMP:20260420T023716
CREATED:20260411T100929Z
LAST-MODIFIED:20260411T100929Z
UID:10008651-1799229600-1799233200@newrysurestart.org
SUMMARY:Buggy Fitness
DESCRIPTION:
URL:http://newrysurestart.org/booking/buggy-fitness/2027-01-06/
LOCATION:Derrymore Woods\, Bessbrook\, Newry\, Down\, BT35 7EF\, United Kingdom
ORGANIZER;CN="Karen Mc":MAILTO:karenmcgrath@newrysurestart.org
END:VEVENT
BEGIN:VEVENT
DTSTART;TZID=UTC:20270106T100000
DTEND;TZID=UTC:20270106T113000
DTSTAMP:20260420T023716
CREATED:20260411T091454Z
LAST-MODIFIED:20260411T091454Z
UID:10007766-1799229600-1799235000@newrysurestart.org
SUMMARY:Breastfeeding Support
DESCRIPTION:
URL:http://newrysurestart.org/booking/breastfeeding-support/2027-01-06/
LOCATION:Newry Leisure Centre (Training Room)\, 60 Cecil Street\, Newry\, BT35 6AU\, United Kingdom
END:VEVENT
BEGIN:VEVENT
DTSTART;TZID=UTC:20270106T103000
DTEND;TZID=UTC:20270106T113000
DTSTAMP:20260420T023716
CREATED:20260411T103458Z
LAST-MODIFIED:20260411T103458Z
UID:10008770-1799231400-1799235000@newrysurestart.org
SUMMARY:Infant Massage
DESCRIPTION:
URL:http://newrysurestart.org/booking/infant-massage-5/2027-01-06/
ORGANIZER;CN="Thelma D":MAILTO:thelmad@newrysurestart.org
END:VEVENT
BEGIN:VEVENT
DTSTART;TZID=UTC:20270106T103000
DTEND;TZID=UTC:20270106T114500
DTSTAMP:20260420T023716
CREATED:20260409T213558Z
LAST-MODIFIED:20260409T213558Z
UID:10007686-1799231400-1799235900@newrysurestart.org
SUMMARY:Parent & Toddler Group
DESCRIPTION:
URL:http://newrysurestart.org/booking/parent-toddler-group-2/2027-01-06/
LOCATION:Derrybeg Community Centre\, Derrybeg Park\, Newry\, BT35 6EZ
END:VEVENT
BEGIN:VEVENT
DTSTART;TZID=UTC:20270106T113000
DTEND;TZID=UTC:20270106T130000
DTSTAMP:20260420T023716
CREATED:20260411T091620Z
LAST-MODIFIED:20260411T091620Z
UID:10007831-1799235000-1799240400@newrysurestart.org
SUMMARY:Baby Café
DESCRIPTION:
URL:http://newrysurestart.org/booking/baby-cafe/2027-01-06/
LOCATION:Newry Leisure Centre (Training Room)\, 60 Cecil Street\, Newry\, BT35 6AU\, United Kingdom
END:VEVENT
BEGIN:VEVENT
DTSTART;TZID=UTC:20270106T193000
DTEND;TZID=UTC:20270106T203000
DTSTAMP:20260420T023716
CREATED:20260411T095950Z
LAST-MODIFIED:20260411T095950Z
UID:10008590-1799263800-1799267400@newrysurestart.org
SUMMARY:Ante Natal Pilates
DESCRIPTION:
URL:http://newrysurestart.org/booking/ante-natal-pilates/2027-01-06/
LOCATION:Thomas Davis Centre\, 21 Dorans Hill\, Newry\, BT35 8PQ
ORGANIZER;CN="Emma C":MAILTO:emmaca@newrysurestart.org
END:VEVENT
BEGIN:VEVENT
DTSTART;TZID=UTC:20270107T103000
DTEND;TZID=UTC:20270107T114500
DTSTAMP:20260420T023716
CREATED:20260411T092506Z
LAST-MODIFIED:20260411T092506Z
UID:10008093-1799317800-1799322300@newrysurestart.org
SUMMARY:Parent & Toddler Group
DESCRIPTION:
URL:http://newrysurestart.org/booking/parent-toddler-group-3/2027-01-07/
LOCATION:Warrenpoint\, United Kingdom
END:VEVENT
BEGIN:VEVENT
DTSTART;TZID=UTC:20270107T103000
DTEND;TZID=UTC:20270107T114500
DTSTAMP:20260420T023716
CREATED:20260411T093105Z
LAST-MODIFIED:20260411T093105Z
UID:10008159-1799317800-1799322300@newrysurestart.org
SUMMARY:Small Word Parent & Toddler Group
DESCRIPTION:
URL:http://newrysurestart.org/booking/small-word-parent-toddler-group/2027-01-07/
LOCATION:Altnaveigh House\, Belfast Road\, 51 Downshire Rd\, Newry\, BT34 1EE
END:VEVENT
BEGIN:VEVENT
DTSTART;TZID=UTC:20270108T100000
DTEND;TZID=UTC:20270108T110000
DTSTAMP:20260420T023716
CREATED:20260411T093402Z
LAST-MODIFIED:20260415T092602Z
UID:10008843-1799402400-1799406000@newrysurestart.org
SUMMARY:Infant Massage Fiveways
DESCRIPTION:
URL:http://newrysurestart.org/booking/infant-massage-fiveways/2027-01-08/
ORGANIZER;CN="Adele T":MAILTO:adelet@newrysurestart.org
END:VEVENT
BEGIN:VEVENT
DTSTART;TZID=UTC:20270111T100000
DTEND;TZID=UTC:20270111T120000
DTSTAMP:20260420T023716
CREATED:20260411T102608Z
LAST-MODIFIED:20260411T102608Z
UID:10008713-1799661600-1799668800@newrysurestart.org
SUMMARY:Paediatric First Aid
DESCRIPTION:Creche Available
URL:http://newrysurestart.org/booking/paediatric-first-aid/2027-01-11/
LOCATION:Fiveways\, 101 Armagh Rd\, Newry\, BT35 6PW
ORGANIZER;CN="Karen Mc":MAILTO:karenmcgrath@newrysurestart.org
END:VEVENT
BEGIN:VEVENT
DTSTART;TZID=UTC:20270111T103000
DTEND;TZID=UTC:20270111T114500
DTSTAMP:20260420T023716
CREATED:20260409T211315Z
LAST-MODIFIED:20260409T211315Z
UID:10007496-1799663400-1799667900@newrysurestart.org
SUMMARY:Parent & Toddler
DESCRIPTION:
URL:http://newrysurestart.org/booking/parent-toddler/2027-01-11/
LOCATION:Altnaveigh House\, Belfast Road\, 51 Downshire Rd\, Newry\, BT34 1EE
END:VEVENT
BEGIN:VEVENT
DTSTART;TZID=UTC:20270112T093000
DTEND;TZID=UTC:20270112T101500
DTSTAMP:20260420T023716
CREATED:20260409T212512Z
LAST-MODIFIED:20260409T212512Z
UID:10007561-1799746200-1799748900@newrysurestart.org
SUMMARY:Tiny Beats SLT
DESCRIPTION:
URL:http://newrysurestart.org/booking/tiny-beats-slt/2027-01-12/
LOCATION:Derrybeg Community Centre\, Derrybeg Park\, Newry\, BT35 6EZ
END:VEVENT
BEGIN:VEVENT
DTSTART;TZID=UTC:20270112T093000
DTEND;TZID=UTC:20270112T110000
DTSTAMP:20260420T023716
CREATED:20260411T095242Z
LAST-MODIFIED:20260411T095242Z
UID:10008532-1799746200-1799751600@newrysurestart.org
SUMMARY:Big feeling\, Busy minds
DESCRIPTION:
URL:http://newrysurestart.org/booking/big-feeling-busy-minds/2027-01-12/
ORGANIZER;CN="Newry Sure Start":MAILTO:info@newrysurestart.org
END:VEVENT
BEGIN:VEVENT
DTSTART;TZID=UTC:20270112T103000
DTEND;TZID=UTC:20270112T113000
DTSTAMP:20260420T023716
CREATED:20260409T212733Z
LAST-MODIFIED:20260409T212733Z
UID:10007624-1799749800-1799753400@newrysurestart.org
SUMMARY:Sure Start Sounds
DESCRIPTION:
URL:http://newrysurestart.org/booking/sure-start-sounds-2/2027-01-12/
LOCATION:Derrybeg Community Centre\, Derrybeg Park\, Newry\, BT35 6EZ
ORGANIZER;CN="Karen S":MAILTO:karens@newrysurestart.org
END:VEVENT
BEGIN:VEVENT
DTSTART;TZID=UTC:20270112T113000
DTEND;TZID=UTC:20270112T123000
DTSTAMP:20260420T023716
CREATED:20260411T094243Z
LAST-MODIFIED:20260411T094243Z
UID:10008475-1799753400-1799757000@newrysurestart.org
SUMMARY:Toddle & Talk
DESCRIPTION:
URL:http://newrysurestart.org/booking/toddle-talk/2027-01-12/
LOCATION:Fiveways\, 101 Armagh Rd\, Newry\, BT35 6PW
ORGANIZER;CN="Adele T":MAILTO:adelet@newrysurestart.org
END:VEVENT
BEGIN:VEVENT
DTSTART;TZID=UTC:20270113T100000
DTEND;TZID=UTC:20270113T110000
DTSTAMP:20260420T023716
CREATED:20260411T100929Z
LAST-MODIFIED:20260411T100929Z
UID:10008652-1799834400-1799838000@newrysurestart.org
SUMMARY:Buggy Fitness
DESCRIPTION:
URL:http://newrysurestart.org/booking/buggy-fitness/2027-01-13/
LOCATION:Derrymore Woods\, Bessbrook\, Newry\, Down\, BT35 7EF\, United Kingdom
ORGANIZER;CN="Karen Mc":MAILTO:karenmcgrath@newrysurestart.org
END:VEVENT
BEGIN:VEVENT
DTSTART;TZID=UTC:20270113T100000
DTEND;TZID=UTC:20270113T113000
DTSTAMP:20260420T023716
CREATED:20260411T091454Z
LAST-MODIFIED:20260411T091454Z
UID:10007767-1799834400-1799839800@newrysurestart.org
SUMMARY:Breastfeeding Support
DESCRIPTION:
URL:http://newrysurestart.org/booking/breastfeeding-support/2027-01-13/
LOCATION:Newry Leisure Centre (Training Room)\, 60 Cecil Street\, Newry\, BT35 6AU\, United Kingdom
END:VEVENT
BEGIN:VEVENT
DTSTART;TZID=UTC:20270113T103000
DTEND;TZID=UTC:20270113T113000
DTSTAMP:20260420T023716
CREATED:20260411T103458Z
LAST-MODIFIED:20260411T103458Z
UID:10008771-1799836200-1799839800@newrysurestart.org
SUMMARY:Infant Massage
DESCRIPTION:
URL:http://newrysurestart.org/booking/infant-massage-5/2027-01-13/
ORGANIZER;CN="Thelma D":MAILTO:thelmad@newrysurestart.org
END:VEVENT
BEGIN:VEVENT
DTSTART;TZID=UTC:20270113T103000
DTEND;TZID=UTC:20270113T114500
DTSTAMP:20260420T023716
CREATED:20260409T213558Z
LAST-MODIFIED:20260409T213558Z
UID:10007687-1799836200-1799840700@newrysurestart.org
SUMMARY:Parent & Toddler Group
DESCRIPTION:
URL:http://newrysurestart.org/booking/parent-toddler-group-2/2027-01-13/
LOCATION:Derrybeg Community Centre\, Derrybeg Park\, Newry\, BT35 6EZ
END:VEVENT
BEGIN:VEVENT
DTSTART;TZID=UTC:20270113T113000
DTEND;TZID=UTC:20270113T130000
DTSTAMP:20260420T023716
CREATED:20260411T091620Z
LAST-MODIFIED:20260411T091620Z
UID:10007832-1799839800-1799845200@newrysurestart.org
SUMMARY:Baby Café
DESCRIPTION:
URL:http://newrysurestart.org/booking/baby-cafe/2027-01-13/
LOCATION:Newry Leisure Centre (Training Room)\, 60 Cecil Street\, Newry\, BT35 6AU\, United Kingdom
END:VEVENT
BEGIN:VEVENT
DTSTART;TZID=UTC:20270113T193000
DTEND;TZID=UTC:20270113T203000
DTSTAMP:20260420T023716
CREATED:20260411T095950Z
LAST-MODIFIED:20260411T095950Z
UID:10008591-1799868600-1799872200@newrysurestart.org
SUMMARY:Ante Natal Pilates
DESCRIPTION:
URL:http://newrysurestart.org/booking/ante-natal-pilates/2027-01-13/
LOCATION:Thomas Davis Centre\, 21 Dorans Hill\, Newry\, BT35 8PQ
ORGANIZER;CN="Emma C":MAILTO:emmaca@newrysurestart.org
END:VEVENT
BEGIN:VEVENT
DTSTART;TZID=UTC:20270114T103000
DTEND;TZID=UTC:20270114T114500
DTSTAMP:20260420T023716
CREATED:20260411T092506Z
LAST-MODIFIED:20260411T092506Z
UID:10008094-1799922600-1799927100@newrysurestart.org
SUMMARY:Parent & Toddler Group
DESCRIPTION:
URL:http://newrysurestart.org/booking/parent-toddler-group-3/2027-01-14/
LOCATION:Warrenpoint\, United Kingdom
END:VEVENT
BEGIN:VEVENT
DTSTART;TZID=UTC:20270114T103000
DTEND;TZID=UTC:20270114T114500
DTSTAMP:20260420T023716
CREATED:20260411T093105Z
LAST-MODIFIED:20260411T093105Z
UID:10008160-1799922600-1799927100@newrysurestart.org
SUMMARY:Small Word Parent & Toddler Group
DESCRIPTION:
URL:http://newrysurestart.org/booking/small-word-parent-toddler-group/2027-01-14/
LOCATION:Altnaveigh House\, Belfast Road\, 51 Downshire Rd\, Newry\, BT34 1EE
END:VEVENT
END:VCALENDAR