BEGIN:VCALENDAR
VERSION:2.0
PRODID:-//Newry SureStart - ECPv6.15.12.2//NONSGML v1.0//EN
CALSCALE:GREGORIAN
METHOD:PUBLISH
X-WR-CALNAME:Newry SureStart
X-ORIGINAL-URL:http://newrysurestart.org
X-WR-CALDESC:Events for Newry SureStart
REFRESH-INTERVAL;VALUE=DURATION:PT1H
X-Robots-Tag:noindex
X-PUBLISHED-TTL:PT1H
BEGIN:VTIMEZONE
TZID:UTC
BEGIN:STANDARD
TZOFFSETFROM:+0000
TZOFFSETTO:+0000
TZNAME:UTC
DTSTART:20260101T000000
END:STANDARD
END:VTIMEZONE
BEGIN:VEVENT
DTSTART;TZID=UTC:20270301T100000
DTEND;TZID=UTC:20270301T120000
DTSTAMP:20260420T061805
CREATED:20260411T102608Z
LAST-MODIFIED:20260411T102608Z
UID:10008720-1803895200-1803902400@newrysurestart.org
SUMMARY:Paediatric First Aid
DESCRIPTION:Creche Available
URL:http://newrysurestart.org/booking/paediatric-first-aid/2027-03-01/
LOCATION:Fiveways\, 101 Armagh Rd\, Newry\, BT35 6PW
ORGANIZER;CN="Karen Mc":MAILTO:karenmcgrath@newrysurestart.org
END:VEVENT
BEGIN:VEVENT
DTSTART;TZID=UTC:20270301T103000
DTEND;TZID=UTC:20270301T114500
DTSTAMP:20260420T061805
CREATED:20260409T211315Z
LAST-MODIFIED:20260409T211315Z
UID:10007503-1803897000-1803901500@newrysurestart.org
SUMMARY:Parent & Toddler
DESCRIPTION:
URL:http://newrysurestart.org/booking/parent-toddler/2027-03-01/
LOCATION:Altnaveigh House\, Belfast Road\, 51 Downshire Rd\, Newry\, BT34 1EE
END:VEVENT
BEGIN:VEVENT
DTSTART;TZID=UTC:20270302T093000
DTEND;TZID=UTC:20270302T101500
DTSTAMP:20260420T061805
CREATED:20260409T212512Z
LAST-MODIFIED:20260409T212512Z
UID:10007568-1803979800-1803982500@newrysurestart.org
SUMMARY:Tiny Beats SLT
DESCRIPTION:
URL:http://newrysurestart.org/booking/tiny-beats-slt/2027-03-02/
LOCATION:Derrybeg Community Centre\, Derrybeg Park\, Newry\, BT35 6EZ
END:VEVENT
BEGIN:VEVENT
DTSTART;TZID=UTC:20270302T093000
DTEND;TZID=UTC:20270302T110000
DTSTAMP:20260420T061805
CREATED:20260411T095242Z
LAST-MODIFIED:20260411T095242Z
UID:10008539-1803979800-1803985200@newrysurestart.org
SUMMARY:Big feeling\, Busy minds
DESCRIPTION:
URL:http://newrysurestart.org/booking/big-feeling-busy-minds/2027-03-02/
ORGANIZER;CN="Newry Sure Start":MAILTO:info@newrysurestart.org
END:VEVENT
BEGIN:VEVENT
DTSTART;TZID=UTC:20270302T103000
DTEND;TZID=UTC:20270302T113000
DTSTAMP:20260420T061805
CREATED:20260409T212733Z
LAST-MODIFIED:20260409T212733Z
UID:10007631-1803983400-1803987000@newrysurestart.org
SUMMARY:Sure Start Sounds
DESCRIPTION:
URL:http://newrysurestart.org/booking/sure-start-sounds-2/2027-03-02/
LOCATION:Derrybeg Community Centre\, Derrybeg Park\, Newry\, BT35 6EZ
ORGANIZER;CN="Karen S":MAILTO:karens@newrysurestart.org
END:VEVENT
BEGIN:VEVENT
DTSTART;TZID=UTC:20270302T113000
DTEND;TZID=UTC:20270302T123000
DTSTAMP:20260420T061805
CREATED:20260411T094243Z
LAST-MODIFIED:20260411T094243Z
UID:10008482-1803987000-1803990600@newrysurestart.org
SUMMARY:Toddle & Talk
DESCRIPTION:
URL:http://newrysurestart.org/booking/toddle-talk/2027-03-02/
LOCATION:Fiveways\, 101 Armagh Rd\, Newry\, BT35 6PW
ORGANIZER;CN="Adele T":MAILTO:adelet@newrysurestart.org
END:VEVENT
BEGIN:VEVENT
DTSTART;TZID=UTC:20270303T100000
DTEND;TZID=UTC:20270303T110000
DTSTAMP:20260420T061805
CREATED:20260411T100929Z
LAST-MODIFIED:20260411T100929Z
UID:10008659-1804068000-1804071600@newrysurestart.org
SUMMARY:Buggy Fitness
DESCRIPTION:
URL:http://newrysurestart.org/booking/buggy-fitness/2027-03-03/
LOCATION:Derrymore Woods\, Bessbrook\, Newry\, Down\, BT35 7EF\, United Kingdom
ORGANIZER;CN="Karen Mc":MAILTO:karenmcgrath@newrysurestart.org
END:VEVENT
BEGIN:VEVENT
DTSTART;TZID=UTC:20270303T100000
DTEND;TZID=UTC:20270303T113000
DTSTAMP:20260420T061805
CREATED:20260411T091454Z
LAST-MODIFIED:20260411T091454Z
UID:10007774-1804068000-1804073400@newrysurestart.org
SUMMARY:Breastfeeding Support
DESCRIPTION:
URL:http://newrysurestart.org/booking/breastfeeding-support/2027-03-03/
LOCATION:Newry Leisure Centre (Training Room)\, 60 Cecil Street\, Newry\, BT35 6AU\, United Kingdom
END:VEVENT
BEGIN:VEVENT
DTSTART;TZID=UTC:20270303T103000
DTEND;TZID=UTC:20270303T113000
DTSTAMP:20260420T061805
CREATED:20260411T103458Z
LAST-MODIFIED:20260411T103458Z
UID:10008778-1804069800-1804073400@newrysurestart.org
SUMMARY:Infant Massage
DESCRIPTION:
URL:http://newrysurestart.org/booking/infant-massage-5/2027-03-03/
ORGANIZER;CN="Thelma D":MAILTO:thelmad@newrysurestart.org
END:VEVENT
BEGIN:VEVENT
DTSTART;TZID=UTC:20270303T103000
DTEND;TZID=UTC:20270303T114500
DTSTAMP:20260420T061805
CREATED:20260409T213558Z
LAST-MODIFIED:20260409T213558Z
UID:10007694-1804069800-1804074300@newrysurestart.org
SUMMARY:Parent & Toddler Group
DESCRIPTION:
URL:http://newrysurestart.org/booking/parent-toddler-group-2/2027-03-03/
LOCATION:Derrybeg Community Centre\, Derrybeg Park\, Newry\, BT35 6EZ
END:VEVENT
BEGIN:VEVENT
DTSTART;TZID=UTC:20270303T113000
DTEND;TZID=UTC:20270303T130000
DTSTAMP:20260420T061805
CREATED:20260411T091620Z
LAST-MODIFIED:20260411T091620Z
UID:10007839-1804073400-1804078800@newrysurestart.org
SUMMARY:Baby Café
DESCRIPTION:
URL:http://newrysurestart.org/booking/baby-cafe/2027-03-03/
LOCATION:Newry Leisure Centre (Training Room)\, 60 Cecil Street\, Newry\, BT35 6AU\, United Kingdom
END:VEVENT
BEGIN:VEVENT
DTSTART;TZID=UTC:20270303T193000
DTEND;TZID=UTC:20270303T203000
DTSTAMP:20260420T061805
CREATED:20260411T095950Z
LAST-MODIFIED:20260411T095950Z
UID:10008598-1804102200-1804105800@newrysurestart.org
SUMMARY:Ante Natal Pilates
DESCRIPTION:
URL:http://newrysurestart.org/booking/ante-natal-pilates/2027-03-03/
LOCATION:Thomas Davis Centre\, 21 Dorans Hill\, Newry\, BT35 8PQ
ORGANIZER;CN="Emma C":MAILTO:emmaca@newrysurestart.org
END:VEVENT
BEGIN:VEVENT
DTSTART;TZID=UTC:20270304T103000
DTEND;TZID=UTC:20270304T114500
DTSTAMP:20260420T061805
CREATED:20260411T092506Z
LAST-MODIFIED:20260411T092506Z
UID:10008101-1804156200-1804160700@newrysurestart.org
SUMMARY:Parent & Toddler Group
DESCRIPTION:
URL:http://newrysurestart.org/booking/parent-toddler-group-3/2027-03-04/
LOCATION:Warrenpoint\, United Kingdom
END:VEVENT
BEGIN:VEVENT
DTSTART;TZID=UTC:20270304T103000
DTEND;TZID=UTC:20270304T114500
DTSTAMP:20260420T061805
CREATED:20260411T093105Z
LAST-MODIFIED:20260411T093105Z
UID:10008167-1804156200-1804160700@newrysurestart.org
SUMMARY:Small Word Parent & Toddler Group
DESCRIPTION:
URL:http://newrysurestart.org/booking/small-word-parent-toddler-group/2027-03-04/
LOCATION:Altnaveigh House\, Belfast Road\, 51 Downshire Rd\, Newry\, BT34 1EE
END:VEVENT
BEGIN:VEVENT
DTSTART;TZID=UTC:20270305T100000
DTEND;TZID=UTC:20270305T110000
DTSTAMP:20260420T061805
CREATED:20260411T093402Z
LAST-MODIFIED:20260415T092602Z
UID:10008851-1804240800-1804244400@newrysurestart.org
SUMMARY:Infant Massage Fiveways
DESCRIPTION:
URL:http://newrysurestart.org/booking/infant-massage-fiveways/2027-03-05/
ORGANIZER;CN="Adele T":MAILTO:adelet@newrysurestart.org
END:VEVENT
BEGIN:VEVENT
DTSTART;TZID=UTC:20270308T100000
DTEND;TZID=UTC:20270308T120000
DTSTAMP:20260420T061805
CREATED:20260411T102608Z
LAST-MODIFIED:20260411T102608Z
UID:10008721-1804500000-1804507200@newrysurestart.org
SUMMARY:Paediatric First Aid
DESCRIPTION:Creche Available
URL:http://newrysurestart.org/booking/paediatric-first-aid/2027-03-08/
LOCATION:Fiveways\, 101 Armagh Rd\, Newry\, BT35 6PW
ORGANIZER;CN="Karen Mc":MAILTO:karenmcgrath@newrysurestart.org
END:VEVENT
BEGIN:VEVENT
DTSTART;TZID=UTC:20270308T103000
DTEND;TZID=UTC:20270308T114500
DTSTAMP:20260420T061805
CREATED:20260409T211315Z
LAST-MODIFIED:20260409T211315Z
UID:10007504-1804501800-1804506300@newrysurestart.org
SUMMARY:Parent & Toddler
DESCRIPTION:
URL:http://newrysurestart.org/booking/parent-toddler/2027-03-08/
LOCATION:Altnaveigh House\, Belfast Road\, 51 Downshire Rd\, Newry\, BT34 1EE
END:VEVENT
BEGIN:VEVENT
DTSTART;TZID=UTC:20270309T093000
DTEND;TZID=UTC:20270309T101500
DTSTAMP:20260420T061805
CREATED:20260409T212512Z
LAST-MODIFIED:20260409T212512Z
UID:10007569-1804584600-1804587300@newrysurestart.org
SUMMARY:Tiny Beats SLT
DESCRIPTION:
URL:http://newrysurestart.org/booking/tiny-beats-slt/2027-03-09/
LOCATION:Derrybeg Community Centre\, Derrybeg Park\, Newry\, BT35 6EZ
END:VEVENT
BEGIN:VEVENT
DTSTART;TZID=UTC:20270309T093000
DTEND;TZID=UTC:20270309T110000
DTSTAMP:20260420T061805
CREATED:20260411T095242Z
LAST-MODIFIED:20260411T095242Z
UID:10008540-1804584600-1804590000@newrysurestart.org
SUMMARY:Big feeling\, Busy minds
DESCRIPTION:
URL:http://newrysurestart.org/booking/big-feeling-busy-minds/2027-03-09/
ORGANIZER;CN="Newry Sure Start":MAILTO:info@newrysurestart.org
END:VEVENT
BEGIN:VEVENT
DTSTART;TZID=UTC:20270309T103000
DTEND;TZID=UTC:20270309T113000
DTSTAMP:20260420T061805
CREATED:20260409T212733Z
LAST-MODIFIED:20260409T212733Z
UID:10007632-1804588200-1804591800@newrysurestart.org
SUMMARY:Sure Start Sounds
DESCRIPTION:
URL:http://newrysurestart.org/booking/sure-start-sounds-2/2027-03-09/
LOCATION:Derrybeg Community Centre\, Derrybeg Park\, Newry\, BT35 6EZ
ORGANIZER;CN="Karen S":MAILTO:karens@newrysurestart.org
END:VEVENT
BEGIN:VEVENT
DTSTART;TZID=UTC:20270309T113000
DTEND;TZID=UTC:20270309T123000
DTSTAMP:20260420T061805
CREATED:20260411T094243Z
LAST-MODIFIED:20260411T094243Z
UID:10008483-1804591800-1804595400@newrysurestart.org
SUMMARY:Toddle & Talk
DESCRIPTION:
URL:http://newrysurestart.org/booking/toddle-talk/2027-03-09/
LOCATION:Fiveways\, 101 Armagh Rd\, Newry\, BT35 6PW
ORGANIZER;CN="Adele T":MAILTO:adelet@newrysurestart.org
END:VEVENT
BEGIN:VEVENT
DTSTART;TZID=UTC:20270310T100000
DTEND;TZID=UTC:20270310T110000
DTSTAMP:20260420T061805
CREATED:20260411T100929Z
LAST-MODIFIED:20260411T100929Z
UID:10008660-1804672800-1804676400@newrysurestart.org
SUMMARY:Buggy Fitness
DESCRIPTION:
URL:http://newrysurestart.org/booking/buggy-fitness/2027-03-10/
LOCATION:Derrymore Woods\, Bessbrook\, Newry\, Down\, BT35 7EF\, United Kingdom
ORGANIZER;CN="Karen Mc":MAILTO:karenmcgrath@newrysurestart.org
END:VEVENT
BEGIN:VEVENT
DTSTART;TZID=UTC:20270310T100000
DTEND;TZID=UTC:20270310T113000
DTSTAMP:20260420T061805
CREATED:20260411T091454Z
LAST-MODIFIED:20260411T091454Z
UID:10007775-1804672800-1804678200@newrysurestart.org
SUMMARY:Breastfeeding Support
DESCRIPTION:
URL:http://newrysurestart.org/booking/breastfeeding-support/2027-03-10/
LOCATION:Newry Leisure Centre (Training Room)\, 60 Cecil Street\, Newry\, BT35 6AU\, United Kingdom
END:VEVENT
BEGIN:VEVENT
DTSTART;TZID=UTC:20270310T103000
DTEND;TZID=UTC:20270310T113000
DTSTAMP:20260420T061805
CREATED:20260411T103458Z
LAST-MODIFIED:20260411T103458Z
UID:10008779-1804674600-1804678200@newrysurestart.org
SUMMARY:Infant Massage
DESCRIPTION:
URL:http://newrysurestart.org/booking/infant-massage-5/2027-03-10/
ORGANIZER;CN="Thelma D":MAILTO:thelmad@newrysurestart.org
END:VEVENT
BEGIN:VEVENT
DTSTART;TZID=UTC:20270310T103000
DTEND;TZID=UTC:20270310T114500
DTSTAMP:20260420T061805
CREATED:20260409T213558Z
LAST-MODIFIED:20260409T213558Z
UID:10007695-1804674600-1804679100@newrysurestart.org
SUMMARY:Parent & Toddler Group
DESCRIPTION:
URL:http://newrysurestart.org/booking/parent-toddler-group-2/2027-03-10/
LOCATION:Derrybeg Community Centre\, Derrybeg Park\, Newry\, BT35 6EZ
END:VEVENT
BEGIN:VEVENT
DTSTART;TZID=UTC:20270310T113000
DTEND;TZID=UTC:20270310T130000
DTSTAMP:20260420T061805
CREATED:20260411T091620Z
LAST-MODIFIED:20260411T091620Z
UID:10007840-1804678200-1804683600@newrysurestart.org
SUMMARY:Baby Café
DESCRIPTION:
URL:http://newrysurestart.org/booking/baby-cafe/2027-03-10/
LOCATION:Newry Leisure Centre (Training Room)\, 60 Cecil Street\, Newry\, BT35 6AU\, United Kingdom
END:VEVENT
BEGIN:VEVENT
DTSTART;TZID=UTC:20270310T193000
DTEND;TZID=UTC:20270310T203000
DTSTAMP:20260420T061805
CREATED:20260411T095950Z
LAST-MODIFIED:20260411T095950Z
UID:10008599-1804707000-1804710600@newrysurestart.org
SUMMARY:Ante Natal Pilates
DESCRIPTION:
URL:http://newrysurestart.org/booking/ante-natal-pilates/2027-03-10/
LOCATION:Thomas Davis Centre\, 21 Dorans Hill\, Newry\, BT35 8PQ
ORGANIZER;CN="Emma C":MAILTO:emmaca@newrysurestart.org
END:VEVENT
BEGIN:VEVENT
DTSTART;TZID=UTC:20270311T103000
DTEND;TZID=UTC:20270311T114500
DTSTAMP:20260420T061805
CREATED:20260411T092506Z
LAST-MODIFIED:20260411T092506Z
UID:10008102-1804761000-1804765500@newrysurestart.org
SUMMARY:Parent & Toddler Group
DESCRIPTION:
URL:http://newrysurestart.org/booking/parent-toddler-group-3/2027-03-11/
LOCATION:Warrenpoint\, United Kingdom
END:VEVENT
BEGIN:VEVENT
DTSTART;TZID=UTC:20270311T103000
DTEND;TZID=UTC:20270311T114500
DTSTAMP:20260420T061805
CREATED:20260411T093105Z
LAST-MODIFIED:20260411T093105Z
UID:10008168-1804761000-1804765500@newrysurestart.org
SUMMARY:Small Word Parent & Toddler Group
DESCRIPTION:
URL:http://newrysurestart.org/booking/small-word-parent-toddler-group/2027-03-11/
LOCATION:Altnaveigh House\, Belfast Road\, 51 Downshire Rd\, Newry\, BT34 1EE
END:VEVENT
BEGIN:VEVENT
DTSTART;TZID=UTC:20270312T100000
DTEND;TZID=UTC:20270312T110000
DTSTAMP:20260420T061805
CREATED:20260411T093402Z
LAST-MODIFIED:20260415T092602Z
UID:10008852-1804845600-1804849200@newrysurestart.org
SUMMARY:Infant Massage Fiveways
DESCRIPTION:
URL:http://newrysurestart.org/booking/infant-massage-fiveways/2027-03-12/
ORGANIZER;CN="Adele T":MAILTO:adelet@newrysurestart.org
END:VEVENT
END:VCALENDAR