BEGIN:VCALENDAR
VERSION:2.0
PRODID:-//Newry SureStart - ECPv6.15.12.2//NONSGML v1.0//EN
CALSCALE:GREGORIAN
METHOD:PUBLISH
X-WR-CALNAME:Newry SureStart
X-ORIGINAL-URL:http://newrysurestart.org
X-WR-CALDESC:Events for Newry SureStart
REFRESH-INTERVAL;VALUE=DURATION:PT1H
X-Robots-Tag:noindex
X-PUBLISHED-TTL:PT1H
BEGIN:VTIMEZONE
TZID:UTC
BEGIN:STANDARD
TZOFFSETFROM:+0000
TZOFFSETTO:+0000
TZNAME:UTC
DTSTART:20260101T000000
END:STANDARD
END:VTIMEZONE
BEGIN:VEVENT
DTSTART;TZID=UTC:20270401T103000
DTEND;TZID=UTC:20270401T114500
DTSTAMP:20260420T075719
CREATED:20260411T092506Z
LAST-MODIFIED:20260411T092506Z
UID:10008105-1806575400-1806579900@newrysurestart.org
SUMMARY:Parent & Toddler Group
DESCRIPTION:
URL:http://newrysurestart.org/booking/parent-toddler-group-3/2027-04-01/
LOCATION:Warrenpoint\, United Kingdom
END:VEVENT
BEGIN:VEVENT
DTSTART;TZID=UTC:20270401T103000
DTEND;TZID=UTC:20270401T114500
DTSTAMP:20260420T075719
CREATED:20260411T093105Z
LAST-MODIFIED:20260411T093105Z
UID:10008171-1806575400-1806579900@newrysurestart.org
SUMMARY:Small Word Parent & Toddler Group
DESCRIPTION:
URL:http://newrysurestart.org/booking/small-word-parent-toddler-group/2027-04-01/
LOCATION:Altnaveigh House\, Belfast Road\, 51 Downshire Rd\, Newry\, BT34 1EE
END:VEVENT
BEGIN:VEVENT
DTSTART;TZID=UTC:20270402T100000
DTEND;TZID=UTC:20270402T110000
DTSTAMP:20260420T075719
CREATED:20260411T093402Z
LAST-MODIFIED:20260415T092602Z
UID:10008855-1806660000-1806663600@newrysurestart.org
SUMMARY:Infant Massage Fiveways
DESCRIPTION:
URL:http://newrysurestart.org/booking/infant-massage-fiveways/2027-04-02/
ORGANIZER;CN="Adele T":MAILTO:adelet@newrysurestart.org
END:VEVENT
BEGIN:VEVENT
DTSTART;TZID=UTC:20270405T100000
DTEND;TZID=UTC:20270405T120000
DTSTAMP:20260420T075719
CREATED:20260411T102608Z
LAST-MODIFIED:20260411T102608Z
UID:10008725-1806919200-1806926400@newrysurestart.org
SUMMARY:Paediatric First Aid
DESCRIPTION:Creche Available
URL:http://newrysurestart.org/booking/paediatric-first-aid/2027-04-05/
LOCATION:Fiveways\, 101 Armagh Rd\, Newry\, BT35 6PW
ORGANIZER;CN="Karen Mc":MAILTO:karenmcgrath@newrysurestart.org
END:VEVENT
BEGIN:VEVENT
DTSTART;TZID=UTC:20270405T103000
DTEND;TZID=UTC:20270405T114500
DTSTAMP:20260420T075719
CREATED:20260409T211315Z
LAST-MODIFIED:20260409T211315Z
UID:10007508-1806921000-1806925500@newrysurestart.org
SUMMARY:Parent & Toddler
DESCRIPTION:
URL:http://newrysurestart.org/booking/parent-toddler/2027-04-05/
LOCATION:Altnaveigh House\, Belfast Road\, 51 Downshire Rd\, Newry\, BT34 1EE
END:VEVENT
BEGIN:VEVENT
DTSTART;TZID=UTC:20270406T093000
DTEND;TZID=UTC:20270406T101500
DTSTAMP:20260420T075719
CREATED:20260409T212512Z
LAST-MODIFIED:20260409T212512Z
UID:10007573-1807003800-1807006500@newrysurestart.org
SUMMARY:Tiny Beats SLT
DESCRIPTION:
URL:http://newrysurestart.org/booking/tiny-beats-slt/2027-04-06/
LOCATION:Derrybeg Community Centre\, Derrybeg Park\, Newry\, BT35 6EZ
END:VEVENT
BEGIN:VEVENT
DTSTART;TZID=UTC:20270406T093000
DTEND;TZID=UTC:20270406T110000
DTSTAMP:20260420T075719
CREATED:20260411T095242Z
LAST-MODIFIED:20260411T095242Z
UID:10008544-1807003800-1807009200@newrysurestart.org
SUMMARY:Big feeling\, Busy minds
DESCRIPTION:
URL:http://newrysurestart.org/booking/big-feeling-busy-minds/2027-04-06/
ORGANIZER;CN="Newry Sure Start":MAILTO:info@newrysurestart.org
END:VEVENT
BEGIN:VEVENT
DTSTART;TZID=UTC:20270406T103000
DTEND;TZID=UTC:20270406T113000
DTSTAMP:20260420T075719
CREATED:20260409T212733Z
LAST-MODIFIED:20260409T212733Z
UID:10007636-1807007400-1807011000@newrysurestart.org
SUMMARY:Sure Start Sounds
DESCRIPTION:
URL:http://newrysurestart.org/booking/sure-start-sounds-2/2027-04-06/
LOCATION:Derrybeg Community Centre\, Derrybeg Park\, Newry\, BT35 6EZ
ORGANIZER;CN="Karen S":MAILTO:karens@newrysurestart.org
END:VEVENT
BEGIN:VEVENT
DTSTART;TZID=UTC:20270406T113000
DTEND;TZID=UTC:20270406T123000
DTSTAMP:20260420T075719
CREATED:20260411T094243Z
LAST-MODIFIED:20260411T094243Z
UID:10008487-1807011000-1807014600@newrysurestart.org
SUMMARY:Toddle & Talk
DESCRIPTION:
URL:http://newrysurestart.org/booking/toddle-talk/2027-04-06/
LOCATION:Fiveways\, 101 Armagh Rd\, Newry\, BT35 6PW
ORGANIZER;CN="Adele T":MAILTO:adelet@newrysurestart.org
END:VEVENT
BEGIN:VEVENT
DTSTART;TZID=UTC:20270407T100000
DTEND;TZID=UTC:20270407T110000
DTSTAMP:20260420T075719
CREATED:20260411T100929Z
LAST-MODIFIED:20260411T100929Z
UID:10008664-1807092000-1807095600@newrysurestart.org
SUMMARY:Buggy Fitness
DESCRIPTION:
URL:http://newrysurestart.org/booking/buggy-fitness/2027-04-07/
LOCATION:Derrymore Woods\, Bessbrook\, Newry\, Down\, BT35 7EF\, United Kingdom
ORGANIZER;CN="Karen Mc":MAILTO:karenmcgrath@newrysurestart.org
END:VEVENT
BEGIN:VEVENT
DTSTART;TZID=UTC:20270407T100000
DTEND;TZID=UTC:20270407T113000
DTSTAMP:20260420T075719
CREATED:20260411T091454Z
LAST-MODIFIED:20260411T091454Z
UID:10007779-1807092000-1807097400@newrysurestart.org
SUMMARY:Breastfeeding Support
DESCRIPTION:
URL:http://newrysurestart.org/booking/breastfeeding-support/2027-04-07/
LOCATION:Newry Leisure Centre (Training Room)\, 60 Cecil Street\, Newry\, BT35 6AU\, United Kingdom
END:VEVENT
BEGIN:VEVENT
DTSTART;TZID=UTC:20270407T103000
DTEND;TZID=UTC:20270407T113000
DTSTAMP:20260420T075719
CREATED:20260411T103458Z
LAST-MODIFIED:20260411T103458Z
UID:10008783-1807093800-1807097400@newrysurestart.org
SUMMARY:Infant Massage
DESCRIPTION:
URL:http://newrysurestart.org/booking/infant-massage-5/2027-04-07/
ORGANIZER;CN="Thelma D":MAILTO:thelmad@newrysurestart.org
END:VEVENT
BEGIN:VEVENT
DTSTART;TZID=UTC:20270407T103000
DTEND;TZID=UTC:20270407T114500
DTSTAMP:20260420T075719
CREATED:20260409T213558Z
LAST-MODIFIED:20260409T213558Z
UID:10007699-1807093800-1807098300@newrysurestart.org
SUMMARY:Parent & Toddler Group
DESCRIPTION:
URL:http://newrysurestart.org/booking/parent-toddler-group-2/2027-04-07/
LOCATION:Derrybeg Community Centre\, Derrybeg Park\, Newry\, BT35 6EZ
END:VEVENT
BEGIN:VEVENT
DTSTART;TZID=UTC:20270407T113000
DTEND;TZID=UTC:20270407T130000
DTSTAMP:20260420T075719
CREATED:20260411T091620Z
LAST-MODIFIED:20260411T091620Z
UID:10007844-1807097400-1807102800@newrysurestart.org
SUMMARY:Baby Café
DESCRIPTION:
URL:http://newrysurestart.org/booking/baby-cafe/2027-04-07/
LOCATION:Newry Leisure Centre (Training Room)\, 60 Cecil Street\, Newry\, BT35 6AU\, United Kingdom
END:VEVENT
BEGIN:VEVENT
DTSTART;TZID=UTC:20270407T193000
DTEND;TZID=UTC:20270407T203000
DTSTAMP:20260420T075719
CREATED:20260411T095950Z
LAST-MODIFIED:20260411T095950Z
UID:10008603-1807126200-1807129800@newrysurestart.org
SUMMARY:Ante Natal Pilates
DESCRIPTION:
URL:http://newrysurestart.org/booking/ante-natal-pilates/2027-04-07/
LOCATION:Thomas Davis Centre\, 21 Dorans Hill\, Newry\, BT35 8PQ
ORGANIZER;CN="Emma C":MAILTO:emmaca@newrysurestart.org
END:VEVENT
BEGIN:VEVENT
DTSTART;TZID=UTC:20270408T103000
DTEND;TZID=UTC:20270408T114500
DTSTAMP:20260420T075719
CREATED:20260411T092506Z
LAST-MODIFIED:20260411T092506Z
UID:10008106-1807180200-1807184700@newrysurestart.org
SUMMARY:Parent & Toddler Group
DESCRIPTION:
URL:http://newrysurestart.org/booking/parent-toddler-group-3/2027-04-08/
LOCATION:Warrenpoint\, United Kingdom
END:VEVENT
BEGIN:VEVENT
DTSTART;TZID=UTC:20270408T103000
DTEND;TZID=UTC:20270408T114500
DTSTAMP:20260420T075719
CREATED:20260411T093105Z
LAST-MODIFIED:20260411T093105Z
UID:10008172-1807180200-1807184700@newrysurestart.org
SUMMARY:Small Word Parent & Toddler Group
DESCRIPTION:
URL:http://newrysurestart.org/booking/small-word-parent-toddler-group/2027-04-08/
LOCATION:Altnaveigh House\, Belfast Road\, 51 Downshire Rd\, Newry\, BT34 1EE
END:VEVENT
BEGIN:VEVENT
DTSTART;TZID=UTC:20270409T100000
DTEND;TZID=UTC:20270409T110000
DTSTAMP:20260420T075719
CREATED:20260411T093402Z
LAST-MODIFIED:20260415T092602Z
UID:10008856-1807264800-1807268400@newrysurestart.org
SUMMARY:Infant Massage Fiveways
DESCRIPTION:
URL:http://newrysurestart.org/booking/infant-massage-fiveways/2027-04-09/
ORGANIZER;CN="Adele T":MAILTO:adelet@newrysurestart.org
END:VEVENT
BEGIN:VEVENT
DTSTART;TZID=UTC:20270412T100000
DTEND;TZID=UTC:20270412T120000
DTSTAMP:20260420T075719
CREATED:20260411T102608Z
LAST-MODIFIED:20260411T102608Z
UID:10008726-1807524000-1807531200@newrysurestart.org
SUMMARY:Paediatric First Aid
DESCRIPTION:Creche Available
URL:http://newrysurestart.org/booking/paediatric-first-aid/2027-04-12/
LOCATION:Fiveways\, 101 Armagh Rd\, Newry\, BT35 6PW
ORGANIZER;CN="Karen Mc":MAILTO:karenmcgrath@newrysurestart.org
END:VEVENT
BEGIN:VEVENT
DTSTART;TZID=UTC:20270412T103000
DTEND;TZID=UTC:20270412T114500
DTSTAMP:20260420T075719
CREATED:20260409T211315Z
LAST-MODIFIED:20260409T211315Z
UID:10007509-1807525800-1807530300@newrysurestart.org
SUMMARY:Parent & Toddler
DESCRIPTION:
URL:http://newrysurestart.org/booking/parent-toddler/2027-04-12/
LOCATION:Altnaveigh House\, Belfast Road\, 51 Downshire Rd\, Newry\, BT34 1EE
END:VEVENT
BEGIN:VEVENT
DTSTART;TZID=UTC:20270413T093000
DTEND;TZID=UTC:20270413T101500
DTSTAMP:20260420T075719
CREATED:20260409T212512Z
LAST-MODIFIED:20260409T212512Z
UID:10007574-1807608600-1807611300@newrysurestart.org
SUMMARY:Tiny Beats SLT
DESCRIPTION:
URL:http://newrysurestart.org/booking/tiny-beats-slt/2027-04-13/
LOCATION:Derrybeg Community Centre\, Derrybeg Park\, Newry\, BT35 6EZ
END:VEVENT
BEGIN:VEVENT
DTSTART;TZID=UTC:20270413T093000
DTEND;TZID=UTC:20270413T110000
DTSTAMP:20260420T075719
CREATED:20260411T095242Z
LAST-MODIFIED:20260411T095242Z
UID:10008545-1807608600-1807614000@newrysurestart.org
SUMMARY:Big feeling\, Busy minds
DESCRIPTION:
URL:http://newrysurestart.org/booking/big-feeling-busy-minds/2027-04-13/
ORGANIZER;CN="Newry Sure Start":MAILTO:info@newrysurestart.org
END:VEVENT
BEGIN:VEVENT
DTSTART;TZID=UTC:20270413T103000
DTEND;TZID=UTC:20270413T113000
DTSTAMP:20260420T075719
CREATED:20260409T212733Z
LAST-MODIFIED:20260409T212733Z
UID:10007637-1807612200-1807615800@newrysurestart.org
SUMMARY:Sure Start Sounds
DESCRIPTION:
URL:http://newrysurestart.org/booking/sure-start-sounds-2/2027-04-13/
LOCATION:Derrybeg Community Centre\, Derrybeg Park\, Newry\, BT35 6EZ
ORGANIZER;CN="Karen S":MAILTO:karens@newrysurestart.org
END:VEVENT
BEGIN:VEVENT
DTSTART;TZID=UTC:20270413T113000
DTEND;TZID=UTC:20270413T123000
DTSTAMP:20260420T075719
CREATED:20260411T094243Z
LAST-MODIFIED:20260411T094243Z
UID:10008488-1807615800-1807619400@newrysurestart.org
SUMMARY:Toddle & Talk
DESCRIPTION:
URL:http://newrysurestart.org/booking/toddle-talk/2027-04-13/
LOCATION:Fiveways\, 101 Armagh Rd\, Newry\, BT35 6PW
ORGANIZER;CN="Adele T":MAILTO:adelet@newrysurestart.org
END:VEVENT
BEGIN:VEVENT
DTSTART;TZID=UTC:20270414T100000
DTEND;TZID=UTC:20270414T110000
DTSTAMP:20260420T075719
CREATED:20260411T100929Z
LAST-MODIFIED:20260411T100929Z
UID:10008665-1807696800-1807700400@newrysurestart.org
SUMMARY:Buggy Fitness
DESCRIPTION:
URL:http://newrysurestart.org/booking/buggy-fitness/2027-04-14/
LOCATION:Derrymore Woods\, Bessbrook\, Newry\, Down\, BT35 7EF\, United Kingdom
ORGANIZER;CN="Karen Mc":MAILTO:karenmcgrath@newrysurestart.org
END:VEVENT
BEGIN:VEVENT
DTSTART;TZID=UTC:20270414T100000
DTEND;TZID=UTC:20270414T113000
DTSTAMP:20260420T075719
CREATED:20260411T091454Z
LAST-MODIFIED:20260411T091454Z
UID:10007780-1807696800-1807702200@newrysurestart.org
SUMMARY:Breastfeeding Support
DESCRIPTION:
URL:http://newrysurestart.org/booking/breastfeeding-support/2027-04-14/
LOCATION:Newry Leisure Centre (Training Room)\, 60 Cecil Street\, Newry\, BT35 6AU\, United Kingdom
END:VEVENT
BEGIN:VEVENT
DTSTART;TZID=UTC:20270414T103000
DTEND;TZID=UTC:20270414T113000
DTSTAMP:20260420T075719
CREATED:20260411T103458Z
LAST-MODIFIED:20260411T103458Z
UID:10008784-1807698600-1807702200@newrysurestart.org
SUMMARY:Infant Massage
DESCRIPTION:
URL:http://newrysurestart.org/booking/infant-massage-5/2027-04-14/
ORGANIZER;CN="Thelma D":MAILTO:thelmad@newrysurestart.org
END:VEVENT
BEGIN:VEVENT
DTSTART;TZID=UTC:20270414T103000
DTEND;TZID=UTC:20270414T114500
DTSTAMP:20260420T075719
CREATED:20260409T213558Z
LAST-MODIFIED:20260409T213558Z
UID:10007700-1807698600-1807703100@newrysurestart.org
SUMMARY:Parent & Toddler Group
DESCRIPTION:
URL:http://newrysurestart.org/booking/parent-toddler-group-2/2027-04-14/
LOCATION:Derrybeg Community Centre\, Derrybeg Park\, Newry\, BT35 6EZ
END:VEVENT
BEGIN:VEVENT
DTSTART;TZID=UTC:20270414T113000
DTEND;TZID=UTC:20270414T130000
DTSTAMP:20260420T075719
CREATED:20260411T091620Z
LAST-MODIFIED:20260411T091620Z
UID:10007845-1807702200-1807707600@newrysurestart.org
SUMMARY:Baby Café
DESCRIPTION:
URL:http://newrysurestart.org/booking/baby-cafe/2027-04-14/
LOCATION:Newry Leisure Centre (Training Room)\, 60 Cecil Street\, Newry\, BT35 6AU\, United Kingdom
END:VEVENT
BEGIN:VEVENT
DTSTART;TZID=UTC:20270414T193000
DTEND;TZID=UTC:20270414T203000
DTSTAMP:20260420T075719
CREATED:20260411T095950Z
LAST-MODIFIED:20260411T095950Z
UID:10008604-1807731000-1807734600@newrysurestart.org
SUMMARY:Ante Natal Pilates
DESCRIPTION:
URL:http://newrysurestart.org/booking/ante-natal-pilates/2027-04-14/
LOCATION:Thomas Davis Centre\, 21 Dorans Hill\, Newry\, BT35 8PQ
ORGANIZER;CN="Emma C":MAILTO:emmaca@newrysurestart.org
END:VEVENT
END:VCALENDAR