BEGIN:VCALENDAR
VERSION:2.0
PRODID:-//Newry SureStart - ECPv6.15.12.2//NONSGML v1.0//EN
CALSCALE:GREGORIAN
METHOD:PUBLISH
X-ORIGINAL-URL:http://newrysurestart.org
X-WR-CALDESC:Events for Newry SureStart
REFRESH-INTERVAL;VALUE=DURATION:PT1H
X-Robots-Tag:noindex
X-PUBLISHED-TTL:PT1H
BEGIN:VTIMEZONE
TZID:UTC
BEGIN:STANDARD
TZOFFSETFROM:+0000
TZOFFSETTO:+0000
TZNAME:UTC
DTSTART:20260101T000000
END:STANDARD
END:VTIMEZONE
BEGIN:VEVENT
DTSTART;TZID=UTC:20270503T100000
DTEND;TZID=UTC:20270503T120000
DTSTAMP:20260420T095040
CREATED:20260411T102608Z
LAST-MODIFIED:20260411T102608Z
UID:10008729-1809338400-1809345600@newrysurestart.org
SUMMARY:Paediatric First Aid
DESCRIPTION:Creche Available
URL:http://newrysurestart.org/booking/paediatric-first-aid/2027-05-03/
LOCATION:Fiveways\, 101 Armagh Rd\, Newry\, BT35 6PW
ORGANIZER;CN="Karen Mc":MAILTO:karenmcgrath@newrysurestart.org
END:VEVENT
BEGIN:VEVENT
DTSTART;TZID=UTC:20270503T103000
DTEND;TZID=UTC:20270503T114500
DTSTAMP:20260420T095040
CREATED:20260409T211315Z
LAST-MODIFIED:20260409T211315Z
UID:10007512-1809340200-1809344700@newrysurestart.org
SUMMARY:Parent & Toddler
DESCRIPTION:
URL:http://newrysurestart.org/booking/parent-toddler/2027-05-03/
LOCATION:Altnaveigh House\, Belfast Road\, 51 Downshire Rd\, Newry\, BT34 1EE
END:VEVENT
BEGIN:VEVENT
DTSTART;TZID=UTC:20270504T093000
DTEND;TZID=UTC:20270504T101500
DTSTAMP:20260420T095040
CREATED:20260409T212512Z
LAST-MODIFIED:20260409T212512Z
UID:10007577-1809423000-1809425700@newrysurestart.org
SUMMARY:Tiny Beats SLT
DESCRIPTION:
URL:http://newrysurestart.org/booking/tiny-beats-slt/2027-05-04/
LOCATION:Derrybeg Community Centre\, Derrybeg Park\, Newry\, BT35 6EZ
END:VEVENT
BEGIN:VEVENT
DTSTART;TZID=UTC:20270504T093000
DTEND;TZID=UTC:20270504T110000
DTSTAMP:20260420T095040
CREATED:20260411T095242Z
LAST-MODIFIED:20260411T095242Z
UID:10008548-1809423000-1809428400@newrysurestart.org
SUMMARY:Big feeling\, Busy minds
DESCRIPTION:
URL:http://newrysurestart.org/booking/big-feeling-busy-minds/2027-05-04/
ORGANIZER;CN="Newry Sure Start":MAILTO:info@newrysurestart.org
END:VEVENT
BEGIN:VEVENT
DTSTART;TZID=UTC:20270504T103000
DTEND;TZID=UTC:20270504T113000
DTSTAMP:20260420T095040
CREATED:20260409T212733Z
LAST-MODIFIED:20260409T212733Z
UID:10007640-1809426600-1809430200@newrysurestart.org
SUMMARY:Sure Start Sounds
DESCRIPTION:
URL:http://newrysurestart.org/booking/sure-start-sounds-2/2027-05-04/
LOCATION:Derrybeg Community Centre\, Derrybeg Park\, Newry\, BT35 6EZ
ORGANIZER;CN="Karen S":MAILTO:karens@newrysurestart.org
END:VEVENT
BEGIN:VEVENT
DTSTART;TZID=UTC:20270504T113000
DTEND;TZID=UTC:20270504T123000
DTSTAMP:20260420T095040
CREATED:20260411T094243Z
LAST-MODIFIED:20260411T094243Z
UID:10008491-1809430200-1809433800@newrysurestart.org
SUMMARY:Toddle & Talk
DESCRIPTION:
URL:http://newrysurestart.org/booking/toddle-talk/2027-05-04/
LOCATION:Fiveways\, 101 Armagh Rd\, Newry\, BT35 6PW
ORGANIZER;CN="Adele T":MAILTO:adelet@newrysurestart.org
END:VEVENT
BEGIN:VEVENT
DTSTART;TZID=UTC:20270505T100000
DTEND;TZID=UTC:20270505T110000
DTSTAMP:20260420T095040
CREATED:20260411T100929Z
LAST-MODIFIED:20260411T100929Z
UID:10008668-1809511200-1809514800@newrysurestart.org
SUMMARY:Buggy Fitness
DESCRIPTION:
URL:http://newrysurestart.org/booking/buggy-fitness/2027-05-05/
LOCATION:Derrymore Woods\, Bessbrook\, Newry\, Down\, BT35 7EF\, United Kingdom
ORGANIZER;CN="Karen Mc":MAILTO:karenmcgrath@newrysurestart.org
END:VEVENT
BEGIN:VEVENT
DTSTART;TZID=UTC:20270505T100000
DTEND;TZID=UTC:20270505T113000
DTSTAMP:20260420T095040
CREATED:20260411T091454Z
LAST-MODIFIED:20260411T091454Z
UID:10007783-1809511200-1809516600@newrysurestart.org
SUMMARY:Breastfeeding Support
DESCRIPTION:
URL:http://newrysurestart.org/booking/breastfeeding-support/2027-05-05/
LOCATION:Newry Leisure Centre (Training Room)\, 60 Cecil Street\, Newry\, BT35 6AU\, United Kingdom
END:VEVENT
BEGIN:VEVENT
DTSTART;TZID=UTC:20270505T103000
DTEND;TZID=UTC:20270505T113000
DTSTAMP:20260420T095040
CREATED:20260411T103458Z
LAST-MODIFIED:20260411T103458Z
UID:10008787-1809513000-1809516600@newrysurestart.org
SUMMARY:Infant Massage
DESCRIPTION:
URL:http://newrysurestart.org/booking/infant-massage-5/2027-05-05/
ORGANIZER;CN="Thelma D":MAILTO:thelmad@newrysurestart.org
END:VEVENT
BEGIN:VEVENT
DTSTART;TZID=UTC:20270505T103000
DTEND;TZID=UTC:20270505T114500
DTSTAMP:20260420T095040
CREATED:20260409T213558Z
LAST-MODIFIED:20260409T213558Z
UID:10007703-1809513000-1809517500@newrysurestart.org
SUMMARY:Parent & Toddler Group
DESCRIPTION:
URL:http://newrysurestart.org/booking/parent-toddler-group-2/2027-05-05/
LOCATION:Derrybeg Community Centre\, Derrybeg Park\, Newry\, BT35 6EZ
END:VEVENT
BEGIN:VEVENT
DTSTART;TZID=UTC:20270505T113000
DTEND;TZID=UTC:20270505T130000
DTSTAMP:20260420T095040
CREATED:20260411T091620Z
LAST-MODIFIED:20260411T091620Z
UID:10007848-1809516600-1809522000@newrysurestart.org
SUMMARY:Baby Café
DESCRIPTION:
URL:http://newrysurestart.org/booking/baby-cafe/2027-05-05/
LOCATION:Newry Leisure Centre (Training Room)\, 60 Cecil Street\, Newry\, BT35 6AU\, United Kingdom
END:VEVENT
BEGIN:VEVENT
DTSTART;TZID=UTC:20270505T193000
DTEND;TZID=UTC:20270505T203000
DTSTAMP:20260420T095040
CREATED:20260411T095950Z
LAST-MODIFIED:20260411T095950Z
UID:10008607-1809545400-1809549000@newrysurestart.org
SUMMARY:Ante Natal Pilates
DESCRIPTION:
URL:http://newrysurestart.org/booking/ante-natal-pilates/2027-05-05/
LOCATION:Thomas Davis Centre\, 21 Dorans Hill\, Newry\, BT35 8PQ
ORGANIZER;CN="Emma C":MAILTO:emmaca@newrysurestart.org
END:VEVENT
BEGIN:VEVENT
DTSTART;TZID=UTC:20270506T103000
DTEND;TZID=UTC:20270506T114500
DTSTAMP:20260420T095040
CREATED:20260411T092506Z
LAST-MODIFIED:20260411T092506Z
UID:10008110-1809599400-1809603900@newrysurestart.org
SUMMARY:Parent & Toddler Group
DESCRIPTION:
URL:http://newrysurestart.org/booking/parent-toddler-group-3/2027-05-06/
LOCATION:Warrenpoint\, United Kingdom
END:VEVENT
BEGIN:VEVENT
DTSTART;TZID=UTC:20270506T103000
DTEND;TZID=UTC:20270506T114500
DTSTAMP:20260420T095040
CREATED:20260411T093105Z
LAST-MODIFIED:20260411T093105Z
UID:10008176-1809599400-1809603900@newrysurestart.org
SUMMARY:Small Word Parent & Toddler Group
DESCRIPTION:
URL:http://newrysurestart.org/booking/small-word-parent-toddler-group/2027-05-06/
LOCATION:Altnaveigh House\, Belfast Road\, 51 Downshire Rd\, Newry\, BT34 1EE
END:VEVENT
BEGIN:VEVENT
DTSTART;TZID=UTC:20270507T100000
DTEND;TZID=UTC:20270507T110000
DTSTAMP:20260420T095040
CREATED:20260411T093402Z
LAST-MODIFIED:20260415T092602Z
UID:10008860-1809684000-1809687600@newrysurestart.org
SUMMARY:Infant Massage Fiveways
DESCRIPTION:
URL:http://newrysurestart.org/booking/infant-massage-fiveways/2027-05-07/
ORGANIZER;CN="Adele T":MAILTO:adelet@newrysurestart.org
END:VEVENT
BEGIN:VEVENT
DTSTART;TZID=UTC:20270510T100000
DTEND;TZID=UTC:20270510T120000
DTSTAMP:20260420T095040
CREATED:20260411T102608Z
LAST-MODIFIED:20260411T102608Z
UID:10008730-1809943200-1809950400@newrysurestart.org
SUMMARY:Paediatric First Aid
DESCRIPTION:Creche Available
URL:http://newrysurestart.org/booking/paediatric-first-aid/2027-05-10/
LOCATION:Fiveways\, 101 Armagh Rd\, Newry\, BT35 6PW
ORGANIZER;CN="Karen Mc":MAILTO:karenmcgrath@newrysurestart.org
END:VEVENT
BEGIN:VEVENT
DTSTART;TZID=UTC:20270510T103000
DTEND;TZID=UTC:20270510T114500
DTSTAMP:20260420T095040
CREATED:20260409T211315Z
LAST-MODIFIED:20260409T211315Z
UID:10007513-1809945000-1809949500@newrysurestart.org
SUMMARY:Parent & Toddler
DESCRIPTION:
URL:http://newrysurestart.org/booking/parent-toddler/2027-05-10/
LOCATION:Altnaveigh House\, Belfast Road\, 51 Downshire Rd\, Newry\, BT34 1EE
END:VEVENT
BEGIN:VEVENT
DTSTART;TZID=UTC:20270511T093000
DTEND;TZID=UTC:20270511T101500
DTSTAMP:20260420T095040
CREATED:20260409T212512Z
LAST-MODIFIED:20260409T212512Z
UID:10007578-1810027800-1810030500@newrysurestart.org
SUMMARY:Tiny Beats SLT
DESCRIPTION:
URL:http://newrysurestart.org/booking/tiny-beats-slt/2027-05-11/
LOCATION:Derrybeg Community Centre\, Derrybeg Park\, Newry\, BT35 6EZ
END:VEVENT
BEGIN:VEVENT
DTSTART;TZID=UTC:20270511T093000
DTEND;TZID=UTC:20270511T110000
DTSTAMP:20260420T095040
CREATED:20260411T095242Z
LAST-MODIFIED:20260411T095242Z
UID:10008549-1810027800-1810033200@newrysurestart.org
SUMMARY:Big feeling\, Busy minds
DESCRIPTION:
URL:http://newrysurestart.org/booking/big-feeling-busy-minds/2027-05-11/
ORGANIZER;CN="Newry Sure Start":MAILTO:info@newrysurestart.org
END:VEVENT
BEGIN:VEVENT
DTSTART;TZID=UTC:20270511T103000
DTEND;TZID=UTC:20270511T113000
DTSTAMP:20260420T095040
CREATED:20260409T212733Z
LAST-MODIFIED:20260409T212733Z
UID:10007641-1810031400-1810035000@newrysurestart.org
SUMMARY:Sure Start Sounds
DESCRIPTION:
URL:http://newrysurestart.org/booking/sure-start-sounds-2/2027-05-11/
LOCATION:Derrybeg Community Centre\, Derrybeg Park\, Newry\, BT35 6EZ
ORGANIZER;CN="Karen S":MAILTO:karens@newrysurestart.org
END:VEVENT
BEGIN:VEVENT
DTSTART;TZID=UTC:20270511T113000
DTEND;TZID=UTC:20270511T123000
DTSTAMP:20260420T095040
CREATED:20260411T094243Z
LAST-MODIFIED:20260411T094243Z
UID:10008492-1810035000-1810038600@newrysurestart.org
SUMMARY:Toddle & Talk
DESCRIPTION:
URL:http://newrysurestart.org/booking/toddle-talk/2027-05-11/
LOCATION:Fiveways\, 101 Armagh Rd\, Newry\, BT35 6PW
ORGANIZER;CN="Adele T":MAILTO:adelet@newrysurestart.org
END:VEVENT
BEGIN:VEVENT
DTSTART;TZID=UTC:20270512T100000
DTEND;TZID=UTC:20270512T110000
DTSTAMP:20260420T095040
CREATED:20260411T100929Z
LAST-MODIFIED:20260411T100929Z
UID:10008669-1810116000-1810119600@newrysurestart.org
SUMMARY:Buggy Fitness
DESCRIPTION:
URL:http://newrysurestart.org/booking/buggy-fitness/2027-05-12/
LOCATION:Derrymore Woods\, Bessbrook\, Newry\, Down\, BT35 7EF\, United Kingdom
ORGANIZER;CN="Karen Mc":MAILTO:karenmcgrath@newrysurestart.org
END:VEVENT
BEGIN:VEVENT
DTSTART;TZID=UTC:20270512T100000
DTEND;TZID=UTC:20270512T113000
DTSTAMP:20260420T095040
CREATED:20260411T091454Z
LAST-MODIFIED:20260411T091454Z
UID:10007784-1810116000-1810121400@newrysurestart.org
SUMMARY:Breastfeeding Support
DESCRIPTION:
URL:http://newrysurestart.org/booking/breastfeeding-support/2027-05-12/
LOCATION:Newry Leisure Centre (Training Room)\, 60 Cecil Street\, Newry\, BT35 6AU\, United Kingdom
END:VEVENT
BEGIN:VEVENT
DTSTART;TZID=UTC:20270512T103000
DTEND;TZID=UTC:20270512T113000
DTSTAMP:20260420T095040
CREATED:20260411T103458Z
LAST-MODIFIED:20260411T103458Z
UID:10008788-1810117800-1810121400@newrysurestart.org
SUMMARY:Infant Massage
DESCRIPTION:
URL:http://newrysurestart.org/booking/infant-massage-5/2027-05-12/
ORGANIZER;CN="Thelma D":MAILTO:thelmad@newrysurestart.org
END:VEVENT
BEGIN:VEVENT
DTSTART;TZID=UTC:20270512T103000
DTEND;TZID=UTC:20270512T114500
DTSTAMP:20260420T095040
CREATED:20260409T213558Z
LAST-MODIFIED:20260409T213558Z
UID:10007704-1810117800-1810122300@newrysurestart.org
SUMMARY:Parent & Toddler Group
DESCRIPTION:
URL:http://newrysurestart.org/booking/parent-toddler-group-2/2027-05-12/
LOCATION:Derrybeg Community Centre\, Derrybeg Park\, Newry\, BT35 6EZ
END:VEVENT
BEGIN:VEVENT
DTSTART;TZID=UTC:20270512T113000
DTEND;TZID=UTC:20270512T130000
DTSTAMP:20260420T095040
CREATED:20260411T091620Z
LAST-MODIFIED:20260411T091620Z
UID:10007849-1810121400-1810126800@newrysurestart.org
SUMMARY:Baby Café
DESCRIPTION:
URL:http://newrysurestart.org/booking/baby-cafe/2027-05-12/
LOCATION:Newry Leisure Centre (Training Room)\, 60 Cecil Street\, Newry\, BT35 6AU\, United Kingdom
END:VEVENT
BEGIN:VEVENT
DTSTART;TZID=UTC:20270512T193000
DTEND;TZID=UTC:20270512T203000
DTSTAMP:20260420T095040
CREATED:20260411T095950Z
LAST-MODIFIED:20260411T095950Z
UID:10008608-1810150200-1810153800@newrysurestart.org
SUMMARY:Ante Natal Pilates
DESCRIPTION:
URL:http://newrysurestart.org/booking/ante-natal-pilates/2027-05-12/
LOCATION:Thomas Davis Centre\, 21 Dorans Hill\, Newry\, BT35 8PQ
ORGANIZER;CN="Emma C":MAILTO:emmaca@newrysurestart.org
END:VEVENT
BEGIN:VEVENT
DTSTART;TZID=UTC:20270513T103000
DTEND;TZID=UTC:20270513T114500
DTSTAMP:20260420T095040
CREATED:20260411T092506Z
LAST-MODIFIED:20260411T092506Z
UID:10008111-1810204200-1810208700@newrysurestart.org
SUMMARY:Parent & Toddler Group
DESCRIPTION:
URL:http://newrysurestart.org/booking/parent-toddler-group-3/2027-05-13/
LOCATION:Warrenpoint\, United Kingdom
END:VEVENT
BEGIN:VEVENT
DTSTART;TZID=UTC:20270513T103000
DTEND;TZID=UTC:20270513T114500
DTSTAMP:20260420T095040
CREATED:20260411T093105Z
LAST-MODIFIED:20260411T093105Z
UID:10008177-1810204200-1810208700@newrysurestart.org
SUMMARY:Small Word Parent & Toddler Group
DESCRIPTION:
URL:http://newrysurestart.org/booking/small-word-parent-toddler-group/2027-05-13/
LOCATION:Altnaveigh House\, Belfast Road\, 51 Downshire Rd\, Newry\, BT34 1EE
END:VEVENT
BEGIN:VEVENT
DTSTART;TZID=UTC:20270517T100000
DTEND;TZID=UTC:20270517T120000
DTSTAMP:20260420T095040
CREATED:20260411T102608Z
LAST-MODIFIED:20260411T102608Z
UID:10008731-1810548000-1810555200@newrysurestart.org
SUMMARY:Paediatric First Aid
DESCRIPTION:Creche Available
URL:http://newrysurestart.org/booking/paediatric-first-aid/2027-05-17/
LOCATION:Fiveways\, 101 Armagh Rd\, Newry\, BT35 6PW
ORGANIZER;CN="Karen Mc":MAILTO:karenmcgrath@newrysurestart.org
END:VEVENT
END:VCALENDAR