BEGIN:VCALENDAR
VERSION:2.0
PRODID:-//Newry SureStart - ECPv6.15.12.2//NONSGML v1.0//EN
CALSCALE:GREGORIAN
METHOD:PUBLISH
X-ORIGINAL-URL:http://newrysurestart.org
X-WR-CALDESC:Events for Newry SureStart
REFRESH-INTERVAL;VALUE=DURATION:PT1H
X-Robots-Tag:noindex
X-PUBLISHED-TTL:PT1H
BEGIN:VTIMEZONE
TZID:UTC
BEGIN:STANDARD
TZOFFSETFROM:+0000
TZOFFSETTO:+0000
TZNAME:UTC
DTSTART:20260101T000000
END:STANDARD
END:VTIMEZONE
BEGIN:VEVENT
DTSTART;TZID=UTC:20270601T093000
DTEND;TZID=UTC:20270601T101500
DTSTAMP:20260420T114509
CREATED:20260409T212512Z
LAST-MODIFIED:20260409T212512Z
UID:10007581-1811842200-1811844900@newrysurestart.org
SUMMARY:Tiny Beats SLT
DESCRIPTION:
URL:http://newrysurestart.org/booking/tiny-beats-slt/2027-06-01/
LOCATION:Derrybeg Community Centre\, Derrybeg Park\, Newry\, BT35 6EZ
END:VEVENT
BEGIN:VEVENT
DTSTART;TZID=UTC:20270601T093000
DTEND;TZID=UTC:20270601T110000
DTSTAMP:20260420T114509
CREATED:20260411T095242Z
LAST-MODIFIED:20260411T095242Z
UID:10008552-1811842200-1811847600@newrysurestart.org
SUMMARY:Big feeling\, Busy minds
DESCRIPTION:
URL:http://newrysurestart.org/booking/big-feeling-busy-minds/2027-06-01/
ORGANIZER;CN="Newry Sure Start":MAILTO:info@newrysurestart.org
END:VEVENT
BEGIN:VEVENT
DTSTART;TZID=UTC:20270601T103000
DTEND;TZID=UTC:20270601T113000
DTSTAMP:20260420T114509
CREATED:20260409T212733Z
LAST-MODIFIED:20260409T212733Z
UID:10007644-1811845800-1811849400@newrysurestart.org
SUMMARY:Sure Start Sounds
DESCRIPTION:
URL:http://newrysurestart.org/booking/sure-start-sounds-2/2027-06-01/
LOCATION:Derrybeg Community Centre\, Derrybeg Park\, Newry\, BT35 6EZ
ORGANIZER;CN="Karen S":MAILTO:karens@newrysurestart.org
END:VEVENT
BEGIN:VEVENT
DTSTART;TZID=UTC:20270601T113000
DTEND;TZID=UTC:20270601T123000
DTSTAMP:20260420T114509
CREATED:20260411T094243Z
LAST-MODIFIED:20260411T094243Z
UID:10008495-1811849400-1811853000@newrysurestart.org
SUMMARY:Toddle & Talk
DESCRIPTION:
URL:http://newrysurestart.org/booking/toddle-talk/2027-06-01/
LOCATION:Fiveways\, 101 Armagh Rd\, Newry\, BT35 6PW
ORGANIZER;CN="Adele T":MAILTO:adelet@newrysurestart.org
END:VEVENT
BEGIN:VEVENT
DTSTART;TZID=UTC:20270602T100000
DTEND;TZID=UTC:20270602T113000
DTSTAMP:20260420T114509
CREATED:20260411T091454Z
LAST-MODIFIED:20260411T091454Z
UID:10007787-1811930400-1811935800@newrysurestart.org
SUMMARY:Breastfeeding Support
DESCRIPTION:
URL:http://newrysurestart.org/booking/breastfeeding-support/2027-06-02/
LOCATION:Newry Leisure Centre (Training Room)\, 60 Cecil Street\, Newry\, BT35 6AU\, United Kingdom
END:VEVENT
BEGIN:VEVENT
DTSTART;TZID=UTC:20270602T103000
DTEND;TZID=UTC:20270602T113000
DTSTAMP:20260420T114509
CREATED:20260411T103458Z
LAST-MODIFIED:20260411T103458Z
UID:10008791-1811932200-1811935800@newrysurestart.org
SUMMARY:Infant Massage
DESCRIPTION:
URL:http://newrysurestart.org/booking/infant-massage-5/2027-06-02/
ORGANIZER;CN="Thelma D":MAILTO:thelmad@newrysurestart.org
END:VEVENT
BEGIN:VEVENT
DTSTART;TZID=UTC:20270602T103000
DTEND;TZID=UTC:20270602T114500
DTSTAMP:20260420T114509
CREATED:20260409T213558Z
LAST-MODIFIED:20260409T213558Z
UID:10007707-1811932200-1811936700@newrysurestart.org
SUMMARY:Parent & Toddler Group
DESCRIPTION:
URL:http://newrysurestart.org/booking/parent-toddler-group-2/2027-06-02/
LOCATION:Derrybeg Community Centre\, Derrybeg Park\, Newry\, BT35 6EZ
END:VEVENT
BEGIN:VEVENT
DTSTART;TZID=UTC:20270602T113000
DTEND;TZID=UTC:20270602T130000
DTSTAMP:20260420T114509
CREATED:20260411T091620Z
LAST-MODIFIED:20260411T091620Z
UID:10007852-1811935800-1811941200@newrysurestart.org
SUMMARY:Baby Café
DESCRIPTION:
URL:http://newrysurestart.org/booking/baby-cafe/2027-06-02/
LOCATION:Newry Leisure Centre (Training Room)\, 60 Cecil Street\, Newry\, BT35 6AU\, United Kingdom
END:VEVENT
BEGIN:VEVENT
DTSTART;TZID=UTC:20270603T103000
DTEND;TZID=UTC:20270603T114500
DTSTAMP:20260420T114509
CREATED:20260411T092506Z
LAST-MODIFIED:20260411T092506Z
UID:10008114-1812018600-1812023100@newrysurestart.org
SUMMARY:Parent & Toddler Group
DESCRIPTION:
URL:http://newrysurestart.org/booking/parent-toddler-group-3/2027-06-03/
LOCATION:Warrenpoint\, United Kingdom
END:VEVENT
BEGIN:VEVENT
DTSTART;TZID=UTC:20270603T103000
DTEND;TZID=UTC:20270603T114500
DTSTAMP:20260420T114509
CREATED:20260411T093105Z
LAST-MODIFIED:20260411T093105Z
UID:10008180-1812018600-1812023100@newrysurestart.org
SUMMARY:Small Word Parent & Toddler Group
DESCRIPTION:
URL:http://newrysurestart.org/booking/small-word-parent-toddler-group/2027-06-03/
LOCATION:Altnaveigh House\, Belfast Road\, 51 Downshire Rd\, Newry\, BT34 1EE
END:VEVENT
BEGIN:VEVENT
DTSTART;TZID=UTC:20270607T100000
DTEND;TZID=UTC:20270607T120000
DTSTAMP:20260420T114509
CREATED:20260411T102608Z
LAST-MODIFIED:20260411T102608Z
UID:10008734-1812362400-1812369600@newrysurestart.org
SUMMARY:Paediatric First Aid
DESCRIPTION:Creche Available
URL:http://newrysurestart.org/booking/paediatric-first-aid/2027-06-07/
LOCATION:Fiveways\, 101 Armagh Rd\, Newry\, BT35 6PW
ORGANIZER;CN="Karen Mc":MAILTO:karenmcgrath@newrysurestart.org
END:VEVENT
BEGIN:VEVENT
DTSTART;TZID=UTC:20270607T103000
DTEND;TZID=UTC:20270607T114500
DTSTAMP:20260420T114509
CREATED:20260409T211315Z
LAST-MODIFIED:20260409T211315Z
UID:10007517-1812364200-1812368700@newrysurestart.org
SUMMARY:Parent & Toddler
DESCRIPTION:
URL:http://newrysurestart.org/booking/parent-toddler/2027-06-07/
LOCATION:Altnaveigh House\, Belfast Road\, 51 Downshire Rd\, Newry\, BT34 1EE
END:VEVENT
BEGIN:VEVENT
DTSTART;TZID=UTC:20270608T093000
DTEND;TZID=UTC:20270608T101500
DTSTAMP:20260420T114509
CREATED:20260409T212512Z
LAST-MODIFIED:20260409T212512Z
UID:10007582-1812447000-1812449700@newrysurestart.org
SUMMARY:Tiny Beats SLT
DESCRIPTION:
URL:http://newrysurestart.org/booking/tiny-beats-slt/2027-06-08/
LOCATION:Derrybeg Community Centre\, Derrybeg Park\, Newry\, BT35 6EZ
END:VEVENT
BEGIN:VEVENT
DTSTART;TZID=UTC:20270608T093000
DTEND;TZID=UTC:20270608T110000
DTSTAMP:20260420T114509
CREATED:20260411T095242Z
LAST-MODIFIED:20260411T095242Z
UID:10008553-1812447000-1812452400@newrysurestart.org
SUMMARY:Big feeling\, Busy minds
DESCRIPTION:
URL:http://newrysurestart.org/booking/big-feeling-busy-minds/2027-06-08/
ORGANIZER;CN="Newry Sure Start":MAILTO:info@newrysurestart.org
END:VEVENT
BEGIN:VEVENT
DTSTART;TZID=UTC:20270608T103000
DTEND;TZID=UTC:20270608T113000
DTSTAMP:20260420T114509
CREATED:20260409T212733Z
LAST-MODIFIED:20260409T212733Z
UID:10007645-1812450600-1812454200@newrysurestart.org
SUMMARY:Sure Start Sounds
DESCRIPTION:
URL:http://newrysurestart.org/booking/sure-start-sounds-2/2027-06-08/
LOCATION:Derrybeg Community Centre\, Derrybeg Park\, Newry\, BT35 6EZ
ORGANIZER;CN="Karen S":MAILTO:karens@newrysurestart.org
END:VEVENT
BEGIN:VEVENT
DTSTART;TZID=UTC:20270609T100000
DTEND;TZID=UTC:20270609T113000
DTSTAMP:20260420T114509
CREATED:20260411T091454Z
LAST-MODIFIED:20260411T091454Z
UID:10007788-1812535200-1812540600@newrysurestart.org
SUMMARY:Breastfeeding Support
DESCRIPTION:
URL:http://newrysurestart.org/booking/breastfeeding-support/2027-06-09/
LOCATION:Newry Leisure Centre (Training Room)\, 60 Cecil Street\, Newry\, BT35 6AU\, United Kingdom
END:VEVENT
BEGIN:VEVENT
DTSTART;TZID=UTC:20270609T103000
DTEND;TZID=UTC:20270609T113000
DTSTAMP:20260420T114509
CREATED:20260411T103458Z
LAST-MODIFIED:20260411T103458Z
UID:10008792-1812537000-1812540600@newrysurestart.org
SUMMARY:Infant Massage
DESCRIPTION:
URL:http://newrysurestart.org/booking/infant-massage-5/2027-06-09/
ORGANIZER;CN="Thelma D":MAILTO:thelmad@newrysurestart.org
END:VEVENT
BEGIN:VEVENT
DTSTART;TZID=UTC:20270609T103000
DTEND;TZID=UTC:20270609T114500
DTSTAMP:20260420T114509
CREATED:20260409T213558Z
LAST-MODIFIED:20260409T213558Z
UID:10007708-1812537000-1812541500@newrysurestart.org
SUMMARY:Parent & Toddler Group
DESCRIPTION:
URL:http://newrysurestart.org/booking/parent-toddler-group-2/2027-06-09/
LOCATION:Derrybeg Community Centre\, Derrybeg Park\, Newry\, BT35 6EZ
END:VEVENT
BEGIN:VEVENT
DTSTART;TZID=UTC:20270609T113000
DTEND;TZID=UTC:20270609T130000
DTSTAMP:20260420T114509
CREATED:20260411T091620Z
LAST-MODIFIED:20260411T091620Z
UID:10007853-1812540600-1812546000@newrysurestart.org
SUMMARY:Baby Café
DESCRIPTION:
URL:http://newrysurestart.org/booking/baby-cafe/2027-06-09/
LOCATION:Newry Leisure Centre (Training Room)\, 60 Cecil Street\, Newry\, BT35 6AU\, United Kingdom
END:VEVENT
BEGIN:VEVENT
DTSTART;TZID=UTC:20270610T103000
DTEND;TZID=UTC:20270610T114500
DTSTAMP:20260420T114509
CREATED:20260411T092506Z
LAST-MODIFIED:20260411T092506Z
UID:10008115-1812623400-1812627900@newrysurestart.org
SUMMARY:Parent & Toddler Group
DESCRIPTION:
URL:http://newrysurestart.org/booking/parent-toddler-group-3/2027-06-10/
LOCATION:Warrenpoint\, United Kingdom
END:VEVENT
BEGIN:VEVENT
DTSTART;TZID=UTC:20270610T103000
DTEND;TZID=UTC:20270610T114500
DTSTAMP:20260420T114509
CREATED:20260411T093105Z
LAST-MODIFIED:20260411T093105Z
UID:10008181-1812623400-1812627900@newrysurestart.org
SUMMARY:Small Word Parent & Toddler Group
DESCRIPTION:
URL:http://newrysurestart.org/booking/small-word-parent-toddler-group/2027-06-10/
LOCATION:Altnaveigh House\, Belfast Road\, 51 Downshire Rd\, Newry\, BT34 1EE
END:VEVENT
BEGIN:VEVENT
DTSTART;TZID=UTC:20270614T100000
DTEND;TZID=UTC:20270614T120000
DTSTAMP:20260420T114509
CREATED:20260411T102608Z
LAST-MODIFIED:20260411T102608Z
UID:10008735-1812967200-1812974400@newrysurestart.org
SUMMARY:Paediatric First Aid
DESCRIPTION:Creche Available
URL:http://newrysurestart.org/booking/paediatric-first-aid/2027-06-14/
LOCATION:Fiveways\, 101 Armagh Rd\, Newry\, BT35 6PW
ORGANIZER;CN="Karen Mc":MAILTO:karenmcgrath@newrysurestart.org
END:VEVENT
BEGIN:VEVENT
DTSTART;TZID=UTC:20270614T103000
DTEND;TZID=UTC:20270614T114500
DTSTAMP:20260420T114509
CREATED:20260409T211315Z
LAST-MODIFIED:20260409T211315Z
UID:10007518-1812969000-1812973500@newrysurestart.org
SUMMARY:Parent & Toddler
DESCRIPTION:
URL:http://newrysurestart.org/booking/parent-toddler/2027-06-14/
LOCATION:Altnaveigh House\, Belfast Road\, 51 Downshire Rd\, Newry\, BT34 1EE
END:VEVENT
BEGIN:VEVENT
DTSTART;TZID=UTC:20270615T093000
DTEND;TZID=UTC:20270615T101500
DTSTAMP:20260420T114509
CREATED:20260409T212512Z
LAST-MODIFIED:20260409T212512Z
UID:10007583-1813051800-1813054500@newrysurestart.org
SUMMARY:Tiny Beats SLT
DESCRIPTION:
URL:http://newrysurestart.org/booking/tiny-beats-slt/2027-06-15/
LOCATION:Derrybeg Community Centre\, Derrybeg Park\, Newry\, BT35 6EZ
END:VEVENT
BEGIN:VEVENT
DTSTART;TZID=UTC:20270615T093000
DTEND;TZID=UTC:20270615T110000
DTSTAMP:20260420T114509
CREATED:20260411T095242Z
LAST-MODIFIED:20260411T095242Z
UID:10008554-1813051800-1813057200@newrysurestart.org
SUMMARY:Big feeling\, Busy minds
DESCRIPTION:
URL:http://newrysurestart.org/booking/big-feeling-busy-minds/2027-06-15/
ORGANIZER;CN="Newry Sure Start":MAILTO:info@newrysurestart.org
END:VEVENT
BEGIN:VEVENT
DTSTART;TZID=UTC:20270615T103000
DTEND;TZID=UTC:20270615T113000
DTSTAMP:20260420T114509
CREATED:20260409T212733Z
LAST-MODIFIED:20260409T212733Z
UID:10007646-1813055400-1813059000@newrysurestart.org
SUMMARY:Sure Start Sounds
DESCRIPTION:
URL:http://newrysurestart.org/booking/sure-start-sounds-2/2027-06-15/
LOCATION:Derrybeg Community Centre\, Derrybeg Park\, Newry\, BT35 6EZ
ORGANIZER;CN="Karen S":MAILTO:karens@newrysurestart.org
END:VEVENT
BEGIN:VEVENT
DTSTART;TZID=UTC:20270616T100000
DTEND;TZID=UTC:20270616T113000
DTSTAMP:20260420T114509
CREATED:20260411T091454Z
LAST-MODIFIED:20260411T091454Z
UID:10007789-1813140000-1813145400@newrysurestart.org
SUMMARY:Breastfeeding Support
DESCRIPTION:
URL:http://newrysurestart.org/booking/breastfeeding-support/2027-06-16/
LOCATION:Newry Leisure Centre (Training Room)\, 60 Cecil Street\, Newry\, BT35 6AU\, United Kingdom
END:VEVENT
BEGIN:VEVENT
DTSTART;TZID=UTC:20270616T103000
DTEND;TZID=UTC:20270616T113000
DTSTAMP:20260420T114509
CREATED:20260411T103458Z
LAST-MODIFIED:20260411T103458Z
UID:10008793-1813141800-1813145400@newrysurestart.org
SUMMARY:Infant Massage
DESCRIPTION:
URL:http://newrysurestart.org/booking/infant-massage-5/2027-06-16/
ORGANIZER;CN="Thelma D":MAILTO:thelmad@newrysurestart.org
END:VEVENT
BEGIN:VEVENT
DTSTART;TZID=UTC:20270616T103000
DTEND;TZID=UTC:20270616T114500
DTSTAMP:20260420T114509
CREATED:20260409T213558Z
LAST-MODIFIED:20260409T213558Z
UID:10007709-1813141800-1813146300@newrysurestart.org
SUMMARY:Parent & Toddler Group
DESCRIPTION:
URL:http://newrysurestart.org/booking/parent-toddler-group-2/2027-06-16/
LOCATION:Derrybeg Community Centre\, Derrybeg Park\, Newry\, BT35 6EZ
END:VEVENT
BEGIN:VEVENT
DTSTART;TZID=UTC:20270616T113000
DTEND;TZID=UTC:20270616T130000
DTSTAMP:20260420T114509
CREATED:20260411T091620Z
LAST-MODIFIED:20260411T091620Z
UID:10007854-1813145400-1813150800@newrysurestart.org
SUMMARY:Baby Café
DESCRIPTION:
URL:http://newrysurestart.org/booking/baby-cafe/2027-06-16/
LOCATION:Newry Leisure Centre (Training Room)\, 60 Cecil Street\, Newry\, BT35 6AU\, United Kingdom
END:VEVENT
END:VCALENDAR