BEGIN:VCALENDAR
VERSION:2.0
PRODID:-//Newry SureStart - ECPv6.15.12.2//NONSGML v1.0//EN
CALSCALE:GREGORIAN
METHOD:PUBLISH
X-WR-CALNAME:Newry SureStart
X-ORIGINAL-URL:http://newrysurestart.org
X-WR-CALDESC:Events for Newry SureStart
REFRESH-INTERVAL;VALUE=DURATION:PT1H
X-Robots-Tag:noindex
X-PUBLISHED-TTL:PT1H
BEGIN:VTIMEZONE
TZID:UTC
BEGIN:STANDARD
TZOFFSETFROM:+0000
TZOFFSETTO:+0000
TZNAME:UTC
DTSTART:20260101T000000
END:STANDARD
END:VTIMEZONE
BEGIN:VEVENT
DTSTART;TZID=UTC:20270701T103000
DTEND;TZID=UTC:20270701T114500
DTSTAMP:20260420T134535
CREATED:20260411T093105Z
LAST-MODIFIED:20260411T093105Z
UID:10008184-1814437800-1814442300@newrysurestart.org
SUMMARY:Small Word Parent & Toddler Group
DESCRIPTION:
URL:http://newrysurestart.org/booking/small-word-parent-toddler-group/2027-07-01/
LOCATION:Altnaveigh House\, Belfast Road\, 51 Downshire Rd\, Newry\, BT34 1EE
END:VEVENT
BEGIN:VEVENT
DTSTART;TZID=UTC:20270707T113000
DTEND;TZID=UTC:20270707T130000
DTSTAMP:20260420T134535
CREATED:20260411T091620Z
LAST-MODIFIED:20260411T091620Z
UID:10007857-1814959800-1814965200@newrysurestart.org
SUMMARY:Baby Café
DESCRIPTION:
URL:http://newrysurestart.org/booking/baby-cafe/2027-07-07/
LOCATION:Newry Leisure Centre (Training Room)\, 60 Cecil Street\, Newry\, BT35 6AU\, United Kingdom
END:VEVENT
BEGIN:VEVENT
DTSTART;TZID=UTC:20270708T103000
DTEND;TZID=UTC:20270708T114500
DTSTAMP:20260420T134535
CREATED:20260411T093105Z
LAST-MODIFIED:20260411T093105Z
UID:10008185-1815042600-1815047100@newrysurestart.org
SUMMARY:Small Word Parent & Toddler Group
DESCRIPTION:
URL:http://newrysurestart.org/booking/small-word-parent-toddler-group/2027-07-08/
LOCATION:Altnaveigh House\, Belfast Road\, 51 Downshire Rd\, Newry\, BT34 1EE
END:VEVENT
BEGIN:VEVENT
DTSTART;TZID=UTC:20270714T113000
DTEND;TZID=UTC:20270714T130000
DTSTAMP:20260420T134535
CREATED:20260411T091620Z
LAST-MODIFIED:20260411T091620Z
UID:10007858-1815564600-1815570000@newrysurestart.org
SUMMARY:Baby Café
DESCRIPTION:
URL:http://newrysurestart.org/booking/baby-cafe/2027-07-14/
LOCATION:Newry Leisure Centre (Training Room)\, 60 Cecil Street\, Newry\, BT35 6AU\, United Kingdom
END:VEVENT
BEGIN:VEVENT
DTSTART;TZID=UTC:20270715T103000
DTEND;TZID=UTC:20270715T114500
DTSTAMP:20260420T134535
CREATED:20260411T093105Z
LAST-MODIFIED:20260411T093105Z
UID:10008186-1815647400-1815651900@newrysurestart.org
SUMMARY:Small Word Parent & Toddler Group
DESCRIPTION:
URL:http://newrysurestart.org/booking/small-word-parent-toddler-group/2027-07-15/
LOCATION:Altnaveigh House\, Belfast Road\, 51 Downshire Rd\, Newry\, BT34 1EE
END:VEVENT
BEGIN:VEVENT
DTSTART;TZID=UTC:20270721T113000
DTEND;TZID=UTC:20270721T130000
DTSTAMP:20260420T134535
CREATED:20260411T091620Z
LAST-MODIFIED:20260411T091620Z
UID:10007859-1816169400-1816174800@newrysurestart.org
SUMMARY:Baby Café
DESCRIPTION:
URL:http://newrysurestart.org/booking/baby-cafe/2027-07-21/
LOCATION:Newry Leisure Centre (Training Room)\, 60 Cecil Street\, Newry\, BT35 6AU\, United Kingdom
END:VEVENT
BEGIN:VEVENT
DTSTART;TZID=UTC:20270722T103000
DTEND;TZID=UTC:20270722T114500
DTSTAMP:20260420T134535
CREATED:20260411T093105Z
LAST-MODIFIED:20260411T093105Z
UID:10008187-1816252200-1816256700@newrysurestart.org
SUMMARY:Small Word Parent & Toddler Group
DESCRIPTION:
URL:http://newrysurestart.org/booking/small-word-parent-toddler-group/2027-07-22/
LOCATION:Altnaveigh House\, Belfast Road\, 51 Downshire Rd\, Newry\, BT34 1EE
END:VEVENT
BEGIN:VEVENT
DTSTART;TZID=UTC:20270728T113000
DTEND;TZID=UTC:20270728T130000
DTSTAMP:20260420T134535
CREATED:20260411T091620Z
LAST-MODIFIED:20260411T091620Z
UID:10007860-1816774200-1816779600@newrysurestart.org
SUMMARY:Baby Café
DESCRIPTION:
URL:http://newrysurestart.org/booking/baby-cafe/2027-07-28/
LOCATION:Newry Leisure Centre (Training Room)\, 60 Cecil Street\, Newry\, BT35 6AU\, United Kingdom
END:VEVENT
BEGIN:VEVENT
DTSTART;TZID=UTC:20270729T103000
DTEND;TZID=UTC:20270729T114500
DTSTAMP:20260420T134535
CREATED:20260411T093105Z
LAST-MODIFIED:20260411T093105Z
UID:10008188-1816857000-1816861500@newrysurestart.org
SUMMARY:Small Word Parent & Toddler Group
DESCRIPTION:
URL:http://newrysurestart.org/booking/small-word-parent-toddler-group/2027-07-29/
LOCATION:Altnaveigh House\, Belfast Road\, 51 Downshire Rd\, Newry\, BT34 1EE
END:VEVENT
END:VCALENDAR