BEGIN:VCALENDAR
VERSION:2.0
PRODID:-//Newry SureStart - ECPv6.15.12.2//NONSGML v1.0//EN
CALSCALE:GREGORIAN
METHOD:PUBLISH
X-ORIGINAL-URL:http://newrysurestart.org
X-WR-CALDESC:Events for Newry SureStart
REFRESH-INTERVAL;VALUE=DURATION:PT1H
X-Robots-Tag:noindex
X-PUBLISHED-TTL:PT1H
BEGIN:VTIMEZONE
TZID:UTC
BEGIN:STANDARD
TZOFFSETFROM:+0000
TZOFFSETTO:+0000
TZNAME:UTC
DTSTART:20260101T000000
END:STANDARD
END:VTIMEZONE
BEGIN:VEVENT
DTSTART;TZID=UTC:20270804T113000
DTEND;TZID=UTC:20270804T130000
DTSTAMP:20260420T152629
CREATED:20260411T091620Z
LAST-MODIFIED:20260411T091620Z
UID:10007861-1817379000-1817384400@newrysurestart.org
SUMMARY:Baby Café
DESCRIPTION:
URL:http://newrysurestart.org/booking/baby-cafe/2027-08-04/
LOCATION:Newry Leisure Centre (Training Room)\, 60 Cecil Street\, Newry\, BT35 6AU\, United Kingdom
END:VEVENT
BEGIN:VEVENT
DTSTART;TZID=UTC:20270805T103000
DTEND;TZID=UTC:20270805T114500
DTSTAMP:20260420T152629
CREATED:20260411T093105Z
LAST-MODIFIED:20260411T093105Z
UID:10008189-1817461800-1817466300@newrysurestart.org
SUMMARY:Small Word Parent & Toddler Group
DESCRIPTION:
URL:http://newrysurestart.org/booking/small-word-parent-toddler-group/2027-08-05/
LOCATION:Altnaveigh House\, Belfast Road\, 51 Downshire Rd\, Newry\, BT34 1EE
END:VEVENT
BEGIN:VEVENT
DTSTART;TZID=UTC:20270811T113000
DTEND;TZID=UTC:20270811T130000
DTSTAMP:20260420T152629
CREATED:20260411T091620Z
LAST-MODIFIED:20260411T091620Z
UID:10007862-1817983800-1817989200@newrysurestart.org
SUMMARY:Baby Café
DESCRIPTION:
URL:http://newrysurestart.org/booking/baby-cafe/2027-08-11/
LOCATION:Newry Leisure Centre (Training Room)\, 60 Cecil Street\, Newry\, BT35 6AU\, United Kingdom
END:VEVENT
BEGIN:VEVENT
DTSTART;TZID=UTC:20270812T103000
DTEND;TZID=UTC:20270812T114500
DTSTAMP:20260420T152629
CREATED:20260411T093105Z
LAST-MODIFIED:20260411T093105Z
UID:10008190-1818066600-1818071100@newrysurestart.org
SUMMARY:Small Word Parent & Toddler Group
DESCRIPTION:
URL:http://newrysurestart.org/booking/small-word-parent-toddler-group/2027-08-12/
LOCATION:Altnaveigh House\, Belfast Road\, 51 Downshire Rd\, Newry\, BT34 1EE
END:VEVENT
BEGIN:VEVENT
DTSTART;TZID=UTC:20270818T113000
DTEND;TZID=UTC:20270818T130000
DTSTAMP:20260420T152629
CREATED:20260411T091620Z
LAST-MODIFIED:20260411T091620Z
UID:10007863-1818588600-1818594000@newrysurestart.org
SUMMARY:Baby Café
DESCRIPTION:
URL:http://newrysurestart.org/booking/baby-cafe/2027-08-18/
LOCATION:Newry Leisure Centre (Training Room)\, 60 Cecil Street\, Newry\, BT35 6AU\, United Kingdom
END:VEVENT
BEGIN:VEVENT
DTSTART;TZID=UTC:20270819T103000
DTEND;TZID=UTC:20270819T114500
DTSTAMP:20260420T152629
CREATED:20260411T093105Z
LAST-MODIFIED:20260411T093105Z
UID:10008191-1818671400-1818675900@newrysurestart.org
SUMMARY:Small Word Parent & Toddler Group
DESCRIPTION:
URL:http://newrysurestart.org/booking/small-word-parent-toddler-group/2027-08-19/
LOCATION:Altnaveigh House\, Belfast Road\, 51 Downshire Rd\, Newry\, BT34 1EE
END:VEVENT
BEGIN:VEVENT
DTSTART;TZID=UTC:20270825T113000
DTEND;TZID=UTC:20270825T130000
DTSTAMP:20260420T152629
CREATED:20260411T091620Z
LAST-MODIFIED:20260411T091620Z
UID:10007864-1819193400-1819198800@newrysurestart.org
SUMMARY:Baby Café
DESCRIPTION:
URL:http://newrysurestart.org/booking/baby-cafe/2027-08-25/
LOCATION:Newry Leisure Centre (Training Room)\, 60 Cecil Street\, Newry\, BT35 6AU\, United Kingdom
END:VEVENT
BEGIN:VEVENT
DTSTART;TZID=UTC:20270826T103000
DTEND;TZID=UTC:20270826T114500
DTSTAMP:20260420T152629
CREATED:20260411T093105Z
LAST-MODIFIED:20260411T093105Z
UID:10008192-1819276200-1819280700@newrysurestart.org
SUMMARY:Small Word Parent & Toddler Group
DESCRIPTION:
URL:http://newrysurestart.org/booking/small-word-parent-toddler-group/2027-08-26/
LOCATION:Altnaveigh House\, Belfast Road\, 51 Downshire Rd\, Newry\, BT34 1EE
END:VEVENT
END:VCALENDAR