BEGIN:VCALENDAR
VERSION:2.0
PRODID:-//Newry SureStart - ECPv6.15.12.2//NONSGML v1.0//EN
CALSCALE:GREGORIAN
METHOD:PUBLISH
X-ORIGINAL-URL:http://newrysurestart.org
X-WR-CALDESC:Events for Newry SureStart
REFRESH-INTERVAL;VALUE=DURATION:PT1H
X-Robots-Tag:noindex
X-PUBLISHED-TTL:PT1H
BEGIN:VTIMEZONE
TZID:UTC
BEGIN:STANDARD
TZOFFSETFROM:+0000
TZOFFSETTO:+0000
TZNAME:UTC
DTSTART:20260101T000000
END:STANDARD
END:VTIMEZONE
BEGIN:VEVENT
DTSTART;TZID=UTC:20271006T113000
DTEND;TZID=UTC:20271006T130000
DTSTAMP:20260420T185137
CREATED:20260411T091620Z
LAST-MODIFIED:20260411T091620Z
UID:10007870-1822822200-1822827600@newrysurestart.org
SUMMARY:Baby Café
DESCRIPTION:
URL:http://newrysurestart.org/booking/baby-cafe/2027-10-06/
LOCATION:Newry Leisure Centre (Training Room)\, 60 Cecil Street\, Newry\, BT35 6AU\, United Kingdom
END:VEVENT
BEGIN:VEVENT
DTSTART;TZID=UTC:20271007T103000
DTEND;TZID=UTC:20271007T114500
DTSTAMP:20260420T185137
CREATED:20260411T093105Z
LAST-MODIFIED:20260411T093105Z
UID:10008198-1822905000-1822909500@newrysurestart.org
SUMMARY:Small Word Parent & Toddler Group
DESCRIPTION:
URL:http://newrysurestart.org/booking/small-word-parent-toddler-group/2027-10-07/
LOCATION:Altnaveigh House\, Belfast Road\, 51 Downshire Rd\, Newry\, BT34 1EE
END:VEVENT
BEGIN:VEVENT
DTSTART;TZID=UTC:20271013T113000
DTEND;TZID=UTC:20271013T130000
DTSTAMP:20260420T185137
CREATED:20260411T091620Z
LAST-MODIFIED:20260411T091620Z
UID:10007871-1823427000-1823432400@newrysurestart.org
SUMMARY:Baby Café
DESCRIPTION:
URL:http://newrysurestart.org/booking/baby-cafe/2027-10-13/
LOCATION:Newry Leisure Centre (Training Room)\, 60 Cecil Street\, Newry\, BT35 6AU\, United Kingdom
END:VEVENT
BEGIN:VEVENT
DTSTART;TZID=UTC:20271014T103000
DTEND;TZID=UTC:20271014T114500
DTSTAMP:20260420T185137
CREATED:20260411T093105Z
LAST-MODIFIED:20260411T093105Z
UID:10008199-1823509800-1823514300@newrysurestart.org
SUMMARY:Small Word Parent & Toddler Group
DESCRIPTION:
URL:http://newrysurestart.org/booking/small-word-parent-toddler-group/2027-10-14/
LOCATION:Altnaveigh House\, Belfast Road\, 51 Downshire Rd\, Newry\, BT34 1EE
END:VEVENT
BEGIN:VEVENT
DTSTART;TZID=UTC:20271020T113000
DTEND;TZID=UTC:20271020T130000
DTSTAMP:20260420T185137
CREATED:20260411T091620Z
LAST-MODIFIED:20260411T091620Z
UID:10007872-1824031800-1824037200@newrysurestart.org
SUMMARY:Baby Café
DESCRIPTION:
URL:http://newrysurestart.org/booking/baby-cafe/2027-10-20/
LOCATION:Newry Leisure Centre (Training Room)\, 60 Cecil Street\, Newry\, BT35 6AU\, United Kingdom
END:VEVENT
BEGIN:VEVENT
DTSTART;TZID=UTC:20271021T103000
DTEND;TZID=UTC:20271021T114500
DTSTAMP:20260420T185137
CREATED:20260411T093105Z
LAST-MODIFIED:20260411T093105Z
UID:10008200-1824114600-1824119100@newrysurestart.org
SUMMARY:Small Word Parent & Toddler Group
DESCRIPTION:
URL:http://newrysurestart.org/booking/small-word-parent-toddler-group/2027-10-21/
LOCATION:Altnaveigh House\, Belfast Road\, 51 Downshire Rd\, Newry\, BT34 1EE
END:VEVENT
BEGIN:VEVENT
DTSTART;TZID=UTC:20271027T113000
DTEND;TZID=UTC:20271027T130000
DTSTAMP:20260420T185137
CREATED:20260411T091620Z
LAST-MODIFIED:20260411T091620Z
UID:10007873-1824636600-1824642000@newrysurestart.org
SUMMARY:Baby Café
DESCRIPTION:
URL:http://newrysurestart.org/booking/baby-cafe/2027-10-27/
LOCATION:Newry Leisure Centre (Training Room)\, 60 Cecil Street\, Newry\, BT35 6AU\, United Kingdom
END:VEVENT
BEGIN:VEVENT
DTSTART;TZID=UTC:20271028T103000
DTEND;TZID=UTC:20271028T114500
DTSTAMP:20260420T185137
CREATED:20260411T093105Z
LAST-MODIFIED:20260411T093105Z
UID:10008201-1824719400-1824723900@newrysurestart.org
SUMMARY:Small Word Parent & Toddler Group
DESCRIPTION:
URL:http://newrysurestart.org/booking/small-word-parent-toddler-group/2027-10-28/
LOCATION:Altnaveigh House\, Belfast Road\, 51 Downshire Rd\, Newry\, BT34 1EE
END:VEVENT
END:VCALENDAR