BEGIN:VCALENDAR
VERSION:2.0
PRODID:-//Newry SureStart - ECPv6.15.12.2//NONSGML v1.0//EN
CALSCALE:GREGORIAN
METHOD:PUBLISH
X-ORIGINAL-URL:http://newrysurestart.org
X-WR-CALDESC:Events for Newry SureStart
REFRESH-INTERVAL;VALUE=DURATION:PT1H
X-Robots-Tag:noindex
X-PUBLISHED-TTL:PT1H
BEGIN:VTIMEZONE
TZID:UTC
BEGIN:STANDARD
TZOFFSETFROM:+0000
TZOFFSETTO:+0000
TZNAME:UTC
DTSTART:20270101T000000
END:STANDARD
END:VTIMEZONE
BEGIN:VEVENT
DTSTART;TZID=UTC:20280705T113000
DTEND;TZID=UTC:20280705T130000
DTSTAMP:20260421T115533
CREATED:20260411T091620Z
LAST-MODIFIED:20260411T091620Z
UID:10007909-1846409400-1846414800@newrysurestart.org
SUMMARY:Baby Café
DESCRIPTION:
URL:http://newrysurestart.org/booking/baby-cafe/2028-07-05/
LOCATION:Newry Leisure Centre (Training Room)\, 60 Cecil Street\, Newry\, BT35 6AU\, United Kingdom
END:VEVENT
BEGIN:VEVENT
DTSTART;TZID=UTC:20280706T103000
DTEND;TZID=UTC:20280706T114500
DTSTAMP:20260421T115533
CREATED:20260411T093105Z
LAST-MODIFIED:20260411T093105Z
UID:10008237-1846492200-1846496700@newrysurestart.org
SUMMARY:Small Word Parent & Toddler Group
DESCRIPTION:
URL:http://newrysurestart.org/booking/small-word-parent-toddler-group/2028-07-06/
LOCATION:Altnaveigh House\, Belfast Road\, 51 Downshire Rd\, Newry\, BT34 1EE
END:VEVENT
BEGIN:VEVENT
DTSTART;TZID=UTC:20280712T113000
DTEND;TZID=UTC:20280712T130000
DTSTAMP:20260421T115533
CREATED:20260411T091620Z
LAST-MODIFIED:20260411T091620Z
UID:10007910-1847014200-1847019600@newrysurestart.org
SUMMARY:Baby Café
DESCRIPTION:
URL:http://newrysurestart.org/booking/baby-cafe/2028-07-12/
LOCATION:Newry Leisure Centre (Training Room)\, 60 Cecil Street\, Newry\, BT35 6AU\, United Kingdom
END:VEVENT
BEGIN:VEVENT
DTSTART;TZID=UTC:20280713T103000
DTEND;TZID=UTC:20280713T114500
DTSTAMP:20260421T115533
CREATED:20260411T093105Z
LAST-MODIFIED:20260411T093105Z
UID:10008238-1847097000-1847101500@newrysurestart.org
SUMMARY:Small Word Parent & Toddler Group
DESCRIPTION:
URL:http://newrysurestart.org/booking/small-word-parent-toddler-group/2028-07-13/
LOCATION:Altnaveigh House\, Belfast Road\, 51 Downshire Rd\, Newry\, BT34 1EE
END:VEVENT
BEGIN:VEVENT
DTSTART;TZID=UTC:20280719T113000
DTEND;TZID=UTC:20280719T130000
DTSTAMP:20260421T115533
CREATED:20260411T091620Z
LAST-MODIFIED:20260411T091620Z
UID:10007911-1847619000-1847624400@newrysurestart.org
SUMMARY:Baby Café
DESCRIPTION:
URL:http://newrysurestart.org/booking/baby-cafe/2028-07-19/
LOCATION:Newry Leisure Centre (Training Room)\, 60 Cecil Street\, Newry\, BT35 6AU\, United Kingdom
END:VEVENT
BEGIN:VEVENT
DTSTART;TZID=UTC:20280720T103000
DTEND;TZID=UTC:20280720T114500
DTSTAMP:20260421T115533
CREATED:20260411T093105Z
LAST-MODIFIED:20260411T093105Z
UID:10008239-1847701800-1847706300@newrysurestart.org
SUMMARY:Small Word Parent & Toddler Group
DESCRIPTION:
URL:http://newrysurestart.org/booking/small-word-parent-toddler-group/2028-07-20/
LOCATION:Altnaveigh House\, Belfast Road\, 51 Downshire Rd\, Newry\, BT34 1EE
END:VEVENT
BEGIN:VEVENT
DTSTART;TZID=UTC:20280726T113000
DTEND;TZID=UTC:20280726T130000
DTSTAMP:20260421T115533
CREATED:20260411T091620Z
LAST-MODIFIED:20260411T091620Z
UID:10007912-1848223800-1848229200@newrysurestart.org
SUMMARY:Baby Café
DESCRIPTION:
URL:http://newrysurestart.org/booking/baby-cafe/2028-07-26/
LOCATION:Newry Leisure Centre (Training Room)\, 60 Cecil Street\, Newry\, BT35 6AU\, United Kingdom
END:VEVENT
BEGIN:VEVENT
DTSTART;TZID=UTC:20280727T103000
DTEND;TZID=UTC:20280727T114500
DTSTAMP:20260421T115533
CREATED:20260411T093105Z
LAST-MODIFIED:20260411T093105Z
UID:10008240-1848306600-1848311100@newrysurestart.org
SUMMARY:Small Word Parent & Toddler Group
DESCRIPTION:
URL:http://newrysurestart.org/booking/small-word-parent-toddler-group/2028-07-27/
LOCATION:Altnaveigh House\, Belfast Road\, 51 Downshire Rd\, Newry\, BT34 1EE
END:VEVENT
END:VCALENDAR