BEGIN:VCALENDAR
VERSION:2.0
PRODID:-//Newry SureStart - ECPv6.15.12.2//NONSGML v1.0//EN
CALSCALE:GREGORIAN
METHOD:PUBLISH
X-WR-CALNAME:Newry SureStart
X-ORIGINAL-URL:http://newrysurestart.org
X-WR-CALDESC:Events for Newry SureStart
REFRESH-INTERVAL;VALUE=DURATION:PT1H
X-Robots-Tag:noindex
X-PUBLISHED-TTL:PT1H
BEGIN:VTIMEZONE
TZID:UTC
BEGIN:STANDARD
TZOFFSETFROM:+0000
TZOFFSETTO:+0000
TZNAME:UTC
DTSTART:20270101T000000
END:STANDARD
END:VTIMEZONE
BEGIN:VEVENT
DTSTART;TZID=UTC:20280906T113000
DTEND;TZID=UTC:20280906T130000
DTSTAMP:20260421T154833
CREATED:20260411T091620Z
LAST-MODIFIED:20260411T091620Z
UID:10007918-1851852600-1851858000@newrysurestart.org
SUMMARY:Baby Café
DESCRIPTION:
URL:http://newrysurestart.org/booking/baby-cafe/2028-09-06/
LOCATION:Newry Leisure Centre (Training Room)\, 60 Cecil Street\, Newry\, BT35 6AU\, United Kingdom
END:VEVENT
BEGIN:VEVENT
DTSTART;TZID=UTC:20280907T103000
DTEND;TZID=UTC:20280907T114500
DTSTAMP:20260421T154833
CREATED:20260411T093105Z
LAST-MODIFIED:20260411T093105Z
UID:10008246-1851935400-1851939900@newrysurestart.org
SUMMARY:Small Word Parent & Toddler Group
DESCRIPTION:
URL:http://newrysurestart.org/booking/small-word-parent-toddler-group/2028-09-07/
LOCATION:Altnaveigh House\, Belfast Road\, 51 Downshire Rd\, Newry\, BT34 1EE
END:VEVENT
BEGIN:VEVENT
DTSTART;TZID=UTC:20280913T113000
DTEND;TZID=UTC:20280913T130000
DTSTAMP:20260421T154833
CREATED:20260411T091620Z
LAST-MODIFIED:20260411T091620Z
UID:10007919-1852457400-1852462800@newrysurestart.org
SUMMARY:Baby Café
DESCRIPTION:
URL:http://newrysurestart.org/booking/baby-cafe/2028-09-13/
LOCATION:Newry Leisure Centre (Training Room)\, 60 Cecil Street\, Newry\, BT35 6AU\, United Kingdom
END:VEVENT
BEGIN:VEVENT
DTSTART;TZID=UTC:20280914T103000
DTEND;TZID=UTC:20280914T114500
DTSTAMP:20260421T154833
CREATED:20260411T093105Z
LAST-MODIFIED:20260411T093105Z
UID:10008247-1852540200-1852544700@newrysurestart.org
SUMMARY:Small Word Parent & Toddler Group
DESCRIPTION:
URL:http://newrysurestart.org/booking/small-word-parent-toddler-group/2028-09-14/
LOCATION:Altnaveigh House\, Belfast Road\, 51 Downshire Rd\, Newry\, BT34 1EE
END:VEVENT
BEGIN:VEVENT
DTSTART;TZID=UTC:20280920T113000
DTEND;TZID=UTC:20280920T130000
DTSTAMP:20260421T154833
CREATED:20260411T091620Z
LAST-MODIFIED:20260411T091620Z
UID:10007920-1853062200-1853067600@newrysurestart.org
SUMMARY:Baby Café
DESCRIPTION:
URL:http://newrysurestart.org/booking/baby-cafe/2028-09-20/
LOCATION:Newry Leisure Centre (Training Room)\, 60 Cecil Street\, Newry\, BT35 6AU\, United Kingdom
END:VEVENT
BEGIN:VEVENT
DTSTART;TZID=UTC:20280921T103000
DTEND;TZID=UTC:20280921T114500
DTSTAMP:20260421T154833
CREATED:20260411T093105Z
LAST-MODIFIED:20260411T093105Z
UID:10008248-1853145000-1853149500@newrysurestart.org
SUMMARY:Small Word Parent & Toddler Group
DESCRIPTION:
URL:http://newrysurestart.org/booking/small-word-parent-toddler-group/2028-09-21/
LOCATION:Altnaveigh House\, Belfast Road\, 51 Downshire Rd\, Newry\, BT34 1EE
END:VEVENT
BEGIN:VEVENT
DTSTART;TZID=UTC:20280927T113000
DTEND;TZID=UTC:20280927T130000
DTSTAMP:20260421T154833
CREATED:20260411T091620Z
LAST-MODIFIED:20260411T091620Z
UID:10007921-1853667000-1853672400@newrysurestart.org
SUMMARY:Baby Café
DESCRIPTION:
URL:http://newrysurestart.org/booking/baby-cafe/2028-09-27/
LOCATION:Newry Leisure Centre (Training Room)\, 60 Cecil Street\, Newry\, BT35 6AU\, United Kingdom
END:VEVENT
BEGIN:VEVENT
DTSTART;TZID=UTC:20280928T103000
DTEND;TZID=UTC:20280928T114500
DTSTAMP:20260421T154833
CREATED:20260411T093105Z
LAST-MODIFIED:20260411T093105Z
UID:10008249-1853749800-1853754300@newrysurestart.org
SUMMARY:Small Word Parent & Toddler Group
DESCRIPTION:
URL:http://newrysurestart.org/booking/small-word-parent-toddler-group/2028-09-28/
LOCATION:Altnaveigh House\, Belfast Road\, 51 Downshire Rd\, Newry\, BT34 1EE
END:VEVENT
END:VCALENDAR