BEGIN:VCALENDAR
VERSION:2.0
PRODID:-//Newry SureStart - ECPv6.15.12.2//NONSGML v1.0//EN
CALSCALE:GREGORIAN
METHOD:PUBLISH
X-WR-CALNAME:Newry SureStart
X-ORIGINAL-URL:http://newrysurestart.org
X-WR-CALDESC:Events for Newry SureStart
REFRESH-INTERVAL;VALUE=DURATION:PT1H
X-Robots-Tag:noindex
X-PUBLISHED-TTL:PT1H
BEGIN:VTIMEZONE
TZID:UTC
BEGIN:STANDARD
TZOFFSETFROM:+0000
TZOFFSETTO:+0000
TZNAME:UTC
DTSTART:20270101T000000
END:STANDARD
END:VTIMEZONE
BEGIN:VEVENT
DTSTART;TZID=UTC:20281004T113000
DTEND;TZID=UTC:20281004T130000
DTSTAMP:20260421T174027
CREATED:20260411T091620Z
LAST-MODIFIED:20260411T091620Z
UID:10007922-1854271800-1854277200@newrysurestart.org
SUMMARY:Baby Café
DESCRIPTION:
URL:http://newrysurestart.org/booking/baby-cafe/2028-10-04/
LOCATION:Newry Leisure Centre (Training Room)\, 60 Cecil Street\, Newry\, BT35 6AU\, United Kingdom
END:VEVENT
BEGIN:VEVENT
DTSTART;TZID=UTC:20281005T103000
DTEND;TZID=UTC:20281005T114500
DTSTAMP:20260421T174027
CREATED:20260411T093105Z
LAST-MODIFIED:20260411T093105Z
UID:10008250-1854354600-1854359100@newrysurestart.org
SUMMARY:Small Word Parent & Toddler Group
DESCRIPTION:
URL:http://newrysurestart.org/booking/small-word-parent-toddler-group/2028-10-05/
LOCATION:Altnaveigh House\, Belfast Road\, 51 Downshire Rd\, Newry\, BT34 1EE
END:VEVENT
BEGIN:VEVENT
DTSTART;TZID=UTC:20281011T113000
DTEND;TZID=UTC:20281011T130000
DTSTAMP:20260421T174027
CREATED:20260411T091620Z
LAST-MODIFIED:20260411T091620Z
UID:10007923-1854876600-1854882000@newrysurestart.org
SUMMARY:Baby Café
DESCRIPTION:
URL:http://newrysurestart.org/booking/baby-cafe/2028-10-11/
LOCATION:Newry Leisure Centre (Training Room)\, 60 Cecil Street\, Newry\, BT35 6AU\, United Kingdom
END:VEVENT
BEGIN:VEVENT
DTSTART;TZID=UTC:20281012T103000
DTEND;TZID=UTC:20281012T114500
DTSTAMP:20260421T174027
CREATED:20260411T093105Z
LAST-MODIFIED:20260411T093105Z
UID:10008251-1854959400-1854963900@newrysurestart.org
SUMMARY:Small Word Parent & Toddler Group
DESCRIPTION:
URL:http://newrysurestart.org/booking/small-word-parent-toddler-group/2028-10-12/
LOCATION:Altnaveigh House\, Belfast Road\, 51 Downshire Rd\, Newry\, BT34 1EE
END:VEVENT
BEGIN:VEVENT
DTSTART;TZID=UTC:20281018T113000
DTEND;TZID=UTC:20281018T130000
DTSTAMP:20260421T174027
CREATED:20260411T091620Z
LAST-MODIFIED:20260411T091620Z
UID:10007924-1855481400-1855486800@newrysurestart.org
SUMMARY:Baby Café
DESCRIPTION:
URL:http://newrysurestart.org/booking/baby-cafe/2028-10-18/
LOCATION:Newry Leisure Centre (Training Room)\, 60 Cecil Street\, Newry\, BT35 6AU\, United Kingdom
END:VEVENT
BEGIN:VEVENT
DTSTART;TZID=UTC:20281019T103000
DTEND;TZID=UTC:20281019T114500
DTSTAMP:20260421T174027
CREATED:20260411T093105Z
LAST-MODIFIED:20260411T093105Z
UID:10008252-1855564200-1855568700@newrysurestart.org
SUMMARY:Small Word Parent & Toddler Group
DESCRIPTION:
URL:http://newrysurestart.org/booking/small-word-parent-toddler-group/2028-10-19/
LOCATION:Altnaveigh House\, Belfast Road\, 51 Downshire Rd\, Newry\, BT34 1EE
END:VEVENT
BEGIN:VEVENT
DTSTART;TZID=UTC:20281025T113000
DTEND;TZID=UTC:20281025T130000
DTSTAMP:20260421T174027
CREATED:20260411T091620Z
LAST-MODIFIED:20260411T091620Z
UID:10007925-1856086200-1856091600@newrysurestart.org
SUMMARY:Baby Café
DESCRIPTION:
URL:http://newrysurestart.org/booking/baby-cafe/2028-10-25/
LOCATION:Newry Leisure Centre (Training Room)\, 60 Cecil Street\, Newry\, BT35 6AU\, United Kingdom
END:VEVENT
BEGIN:VEVENT
DTSTART;TZID=UTC:20281026T103000
DTEND;TZID=UTC:20281026T114500
DTSTAMP:20260421T174027
CREATED:20260411T093105Z
LAST-MODIFIED:20260411T093105Z
UID:10008253-1856169000-1856173500@newrysurestart.org
SUMMARY:Small Word Parent & Toddler Group
DESCRIPTION:
URL:http://newrysurestart.org/booking/small-word-parent-toddler-group/2028-10-26/
LOCATION:Altnaveigh House\, Belfast Road\, 51 Downshire Rd\, Newry\, BT34 1EE
END:VEVENT
END:VCALENDAR