BEGIN:VCALENDAR
VERSION:2.0
PRODID:-//Newry SureStart - ECPv6.15.12.2//NONSGML v1.0//EN
CALSCALE:GREGORIAN
METHOD:PUBLISH
X-WR-CALNAME:Newry SureStart
X-ORIGINAL-URL:http://newrysurestart.org
X-WR-CALDESC:Events for Newry SureStart
REFRESH-INTERVAL;VALUE=DURATION:PT1H
X-Robots-Tag:noindex
X-PUBLISHED-TTL:PT1H
BEGIN:VTIMEZONE
TZID:UTC
BEGIN:STANDARD
TZOFFSETFROM:+0000
TZOFFSETTO:+0000
TZNAME:UTC
DTSTART:20280101T000000
END:STANDARD
END:VTIMEZONE
BEGIN:VEVENT
DTSTART;TZID=UTC:20290103T113000
DTEND;TZID=UTC:20290103T130000
DTSTAMP:20260421T232624
CREATED:20260411T091620Z
LAST-MODIFIED:20260411T091620Z
UID:10007935-1862134200-1862139600@newrysurestart.org
SUMMARY:Baby Café
DESCRIPTION:
URL:http://newrysurestart.org/booking/baby-cafe/2029-01-03/
LOCATION:Newry Leisure Centre (Training Room)\, 60 Cecil Street\, Newry\, BT35 6AU\, United Kingdom
END:VEVENT
BEGIN:VEVENT
DTSTART;TZID=UTC:20290104T103000
DTEND;TZID=UTC:20290104T114500
DTSTAMP:20260421T232624
CREATED:20260411T093105Z
LAST-MODIFIED:20260411T093105Z
UID:10008263-1862217000-1862221500@newrysurestart.org
SUMMARY:Small Word Parent & Toddler Group
DESCRIPTION:
URL:http://newrysurestart.org/booking/small-word-parent-toddler-group/2029-01-04/
LOCATION:Altnaveigh House\, Belfast Road\, 51 Downshire Rd\, Newry\, BT34 1EE
END:VEVENT
BEGIN:VEVENT
DTSTART;TZID=UTC:20290110T113000
DTEND;TZID=UTC:20290110T130000
DTSTAMP:20260421T232624
CREATED:20260411T091620Z
LAST-MODIFIED:20260411T091620Z
UID:10007936-1862739000-1862744400@newrysurestart.org
SUMMARY:Baby Café
DESCRIPTION:
URL:http://newrysurestart.org/booking/baby-cafe/2029-01-10/
LOCATION:Newry Leisure Centre (Training Room)\, 60 Cecil Street\, Newry\, BT35 6AU\, United Kingdom
END:VEVENT
BEGIN:VEVENT
DTSTART;TZID=UTC:20290111T103000
DTEND;TZID=UTC:20290111T114500
DTSTAMP:20260421T232624
CREATED:20260411T093105Z
LAST-MODIFIED:20260411T093105Z
UID:10008264-1862821800-1862826300@newrysurestart.org
SUMMARY:Small Word Parent & Toddler Group
DESCRIPTION:
URL:http://newrysurestart.org/booking/small-word-parent-toddler-group/2029-01-11/
LOCATION:Altnaveigh House\, Belfast Road\, 51 Downshire Rd\, Newry\, BT34 1EE
END:VEVENT
BEGIN:VEVENT
DTSTART;TZID=UTC:20290117T113000
DTEND;TZID=UTC:20290117T130000
DTSTAMP:20260421T232624
CREATED:20260411T091620Z
LAST-MODIFIED:20260411T091620Z
UID:10007937-1863343800-1863349200@newrysurestart.org
SUMMARY:Baby Café
DESCRIPTION:
URL:http://newrysurestart.org/booking/baby-cafe/2029-01-17/
LOCATION:Newry Leisure Centre (Training Room)\, 60 Cecil Street\, Newry\, BT35 6AU\, United Kingdom
END:VEVENT
BEGIN:VEVENT
DTSTART;TZID=UTC:20290118T103000
DTEND;TZID=UTC:20290118T114500
DTSTAMP:20260421T232624
CREATED:20260411T093105Z
LAST-MODIFIED:20260411T093105Z
UID:10008265-1863426600-1863431100@newrysurestart.org
SUMMARY:Small Word Parent & Toddler Group
DESCRIPTION:
URL:http://newrysurestart.org/booking/small-word-parent-toddler-group/2029-01-18/
LOCATION:Altnaveigh House\, Belfast Road\, 51 Downshire Rd\, Newry\, BT34 1EE
END:VEVENT
BEGIN:VEVENT
DTSTART;TZID=UTC:20290124T113000
DTEND;TZID=UTC:20290124T130000
DTSTAMP:20260421T232624
CREATED:20260411T091620Z
LAST-MODIFIED:20260411T091620Z
UID:10007938-1863948600-1863954000@newrysurestart.org
SUMMARY:Baby Café
DESCRIPTION:
URL:http://newrysurestart.org/booking/baby-cafe/2029-01-24/
LOCATION:Newry Leisure Centre (Training Room)\, 60 Cecil Street\, Newry\, BT35 6AU\, United Kingdom
END:VEVENT
BEGIN:VEVENT
DTSTART;TZID=UTC:20290125T103000
DTEND;TZID=UTC:20290125T114500
DTSTAMP:20260421T232624
CREATED:20260411T093105Z
LAST-MODIFIED:20260411T093105Z
UID:10008266-1864031400-1864035900@newrysurestart.org
SUMMARY:Small Word Parent & Toddler Group
DESCRIPTION:
URL:http://newrysurestart.org/booking/small-word-parent-toddler-group/2029-01-25/
LOCATION:Altnaveigh House\, Belfast Road\, 51 Downshire Rd\, Newry\, BT34 1EE
END:VEVENT
BEGIN:VEVENT
DTSTART;TZID=UTC:20290131T113000
DTEND;TZID=UTC:20290131T130000
DTSTAMP:20260421T232624
CREATED:20260411T091620Z
LAST-MODIFIED:20260411T091620Z
UID:10007939-1864553400-1864558800@newrysurestart.org
SUMMARY:Baby Café
DESCRIPTION:
URL:http://newrysurestart.org/booking/baby-cafe/2029-01-31/
LOCATION:Newry Leisure Centre (Training Room)\, 60 Cecil Street\, Newry\, BT35 6AU\, United Kingdom
END:VEVENT
END:VCALENDAR