BEGIN:VCALENDAR
VERSION:2.0
PRODID:-//Newry SureStart - ECPv6.15.12.2//NONSGML v1.0//EN
CALSCALE:GREGORIAN
METHOD:PUBLISH
X-ORIGINAL-URL:http://newrysurestart.org
X-WR-CALDESC:Events for Newry SureStart
REFRESH-INTERVAL;VALUE=DURATION:PT1H
X-Robots-Tag:noindex
X-PUBLISHED-TTL:PT1H
BEGIN:VTIMEZONE
TZID:UTC
BEGIN:STANDARD
TZOFFSETFROM:+0000
TZOFFSETTO:+0000
TZNAME:UTC
DTSTART:20280101T000000
END:STANDARD
END:VTIMEZONE
BEGIN:VEVENT
DTSTART;TZID=UTC:20290201T103000
DTEND;TZID=UTC:20290201T114500
DTSTAMP:20260422T012612
CREATED:20260411T093105Z
LAST-MODIFIED:20260411T093105Z
UID:10008267-1864636200-1864640700@newrysurestart.org
SUMMARY:Small Word Parent & Toddler Group
DESCRIPTION:
URL:http://newrysurestart.org/booking/small-word-parent-toddler-group/2029-02-01/
LOCATION:Altnaveigh House\, Belfast Road\, 51 Downshire Rd\, Newry\, BT34 1EE
END:VEVENT
BEGIN:VEVENT
DTSTART;TZID=UTC:20290207T113000
DTEND;TZID=UTC:20290207T130000
DTSTAMP:20260422T012612
CREATED:20260411T091620Z
LAST-MODIFIED:20260411T091620Z
UID:10007940-1865158200-1865163600@newrysurestart.org
SUMMARY:Baby Café
DESCRIPTION:
URL:http://newrysurestart.org/booking/baby-cafe/2029-02-07/
LOCATION:Newry Leisure Centre (Training Room)\, 60 Cecil Street\, Newry\, BT35 6AU\, United Kingdom
END:VEVENT
BEGIN:VEVENT
DTSTART;TZID=UTC:20290208T103000
DTEND;TZID=UTC:20290208T114500
DTSTAMP:20260422T012612
CREATED:20260411T093105Z
LAST-MODIFIED:20260411T093105Z
UID:10008268-1865241000-1865245500@newrysurestart.org
SUMMARY:Small Word Parent & Toddler Group
DESCRIPTION:
URL:http://newrysurestart.org/booking/small-word-parent-toddler-group/2029-02-08/
LOCATION:Altnaveigh House\, Belfast Road\, 51 Downshire Rd\, Newry\, BT34 1EE
END:VEVENT
BEGIN:VEVENT
DTSTART;TZID=UTC:20290214T113000
DTEND;TZID=UTC:20290214T130000
DTSTAMP:20260422T012612
CREATED:20260411T091620Z
LAST-MODIFIED:20260411T091620Z
UID:10007941-1865763000-1865768400@newrysurestart.org
SUMMARY:Baby Café
DESCRIPTION:
URL:http://newrysurestart.org/booking/baby-cafe/2029-02-14/
LOCATION:Newry Leisure Centre (Training Room)\, 60 Cecil Street\, Newry\, BT35 6AU\, United Kingdom
END:VEVENT
BEGIN:VEVENT
DTSTART;TZID=UTC:20290215T103000
DTEND;TZID=UTC:20290215T114500
DTSTAMP:20260422T012612
CREATED:20260411T093105Z
LAST-MODIFIED:20260411T093105Z
UID:10008269-1865845800-1865850300@newrysurestart.org
SUMMARY:Small Word Parent & Toddler Group
DESCRIPTION:
URL:http://newrysurestart.org/booking/small-word-parent-toddler-group/2029-02-15/
LOCATION:Altnaveigh House\, Belfast Road\, 51 Downshire Rd\, Newry\, BT34 1EE
END:VEVENT
BEGIN:VEVENT
DTSTART;TZID=UTC:20290221T113000
DTEND;TZID=UTC:20290221T130000
DTSTAMP:20260422T012612
CREATED:20260411T091620Z
LAST-MODIFIED:20260411T091620Z
UID:10007942-1866367800-1866373200@newrysurestart.org
SUMMARY:Baby Café
DESCRIPTION:
URL:http://newrysurestart.org/booking/baby-cafe/2029-02-21/
LOCATION:Newry Leisure Centre (Training Room)\, 60 Cecil Street\, Newry\, BT35 6AU\, United Kingdom
END:VEVENT
BEGIN:VEVENT
DTSTART;TZID=UTC:20290222T103000
DTEND;TZID=UTC:20290222T114500
DTSTAMP:20260422T012612
CREATED:20260411T093105Z
LAST-MODIFIED:20260411T093105Z
UID:10008270-1866450600-1866455100@newrysurestart.org
SUMMARY:Small Word Parent & Toddler Group
DESCRIPTION:
URL:http://newrysurestart.org/booking/small-word-parent-toddler-group/2029-02-22/
LOCATION:Altnaveigh House\, Belfast Road\, 51 Downshire Rd\, Newry\, BT34 1EE
END:VEVENT
BEGIN:VEVENT
DTSTART;TZID=UTC:20290228T113000
DTEND;TZID=UTC:20290228T130000
DTSTAMP:20260422T012612
CREATED:20260411T091620Z
LAST-MODIFIED:20260411T091620Z
UID:10007943-1866972600-1866978000@newrysurestart.org
SUMMARY:Baby Café
DESCRIPTION:
URL:http://newrysurestart.org/booking/baby-cafe/2029-02-28/
LOCATION:Newry Leisure Centre (Training Room)\, 60 Cecil Street\, Newry\, BT35 6AU\, United Kingdom
END:VEVENT
END:VCALENDAR