BEGIN:VCALENDAR
VERSION:2.0
PRODID:-//Newry SureStart - ECPv6.15.12.2//NONSGML v1.0//EN
CALSCALE:GREGORIAN
METHOD:PUBLISH
X-ORIGINAL-URL:http://newrysurestart.org
X-WR-CALDESC:Events for Newry SureStart
REFRESH-INTERVAL;VALUE=DURATION:PT1H
X-Robots-Tag:noindex
X-PUBLISHED-TTL:PT1H
BEGIN:VTIMEZONE
TZID:UTC
BEGIN:STANDARD
TZOFFSETFROM:+0000
TZOFFSETTO:+0000
TZNAME:UTC
DTSTART:20280101T000000
END:STANDARD
END:VTIMEZONE
BEGIN:VEVENT
DTSTART;TZID=UTC:20290404T113000
DTEND;TZID=UTC:20290404T130000
DTSTAMP:20260422T052206
CREATED:20260411T091620Z
LAST-MODIFIED:20260411T091620Z
UID:10007948-1869996600-1870002000@newrysurestart.org
SUMMARY:Baby Café
DESCRIPTION:
URL:http://newrysurestart.org/booking/baby-cafe/2029-04-04/
LOCATION:Newry Leisure Centre (Training Room)\, 60 Cecil Street\, Newry\, BT35 6AU\, United Kingdom
END:VEVENT
BEGIN:VEVENT
DTSTART;TZID=UTC:20290405T103000
DTEND;TZID=UTC:20290405T114500
DTSTAMP:20260422T052206
CREATED:20260411T093105Z
LAST-MODIFIED:20260411T093105Z
UID:10008276-1870079400-1870083900@newrysurestart.org
SUMMARY:Small Word Parent & Toddler Group
DESCRIPTION:
URL:http://newrysurestart.org/booking/small-word-parent-toddler-group/2029-04-05/
LOCATION:Altnaveigh House\, Belfast Road\, 51 Downshire Rd\, Newry\, BT34 1EE
END:VEVENT
BEGIN:VEVENT
DTSTART;TZID=UTC:20290411T113000
DTEND;TZID=UTC:20290411T130000
DTSTAMP:20260422T052206
CREATED:20260411T091620Z
LAST-MODIFIED:20260411T091620Z
UID:10007949-1870601400-1870606800@newrysurestart.org
SUMMARY:Baby Café
DESCRIPTION:
URL:http://newrysurestart.org/booking/baby-cafe/2029-04-11/
LOCATION:Newry Leisure Centre (Training Room)\, 60 Cecil Street\, Newry\, BT35 6AU\, United Kingdom
END:VEVENT
BEGIN:VEVENT
DTSTART;TZID=UTC:20290412T103000
DTEND;TZID=UTC:20290412T114500
DTSTAMP:20260422T052206
CREATED:20260411T093105Z
LAST-MODIFIED:20260411T093105Z
UID:10008277-1870684200-1870688700@newrysurestart.org
SUMMARY:Small Word Parent & Toddler Group
DESCRIPTION:
URL:http://newrysurestart.org/booking/small-word-parent-toddler-group/2029-04-12/
LOCATION:Altnaveigh House\, Belfast Road\, 51 Downshire Rd\, Newry\, BT34 1EE
END:VEVENT
BEGIN:VEVENT
DTSTART;TZID=UTC:20290418T113000
DTEND;TZID=UTC:20290418T130000
DTSTAMP:20260422T052206
CREATED:20260411T091620Z
LAST-MODIFIED:20260411T091620Z
UID:10007950-1871206200-1871211600@newrysurestart.org
SUMMARY:Baby Café
DESCRIPTION:
URL:http://newrysurestart.org/booking/baby-cafe/2029-04-18/
LOCATION:Newry Leisure Centre (Training Room)\, 60 Cecil Street\, Newry\, BT35 6AU\, United Kingdom
END:VEVENT
BEGIN:VEVENT
DTSTART;TZID=UTC:20290419T103000
DTEND;TZID=UTC:20290419T114500
DTSTAMP:20260422T052206
CREATED:20260411T093105Z
LAST-MODIFIED:20260411T093105Z
UID:10008278-1871289000-1871293500@newrysurestart.org
SUMMARY:Small Word Parent & Toddler Group
DESCRIPTION:
URL:http://newrysurestart.org/booking/small-word-parent-toddler-group/2029-04-19/
LOCATION:Altnaveigh House\, Belfast Road\, 51 Downshire Rd\, Newry\, BT34 1EE
END:VEVENT
BEGIN:VEVENT
DTSTART;TZID=UTC:20290425T113000
DTEND;TZID=UTC:20290425T130000
DTSTAMP:20260422T052206
CREATED:20260411T091620Z
LAST-MODIFIED:20260411T091620Z
UID:10007951-1871811000-1871816400@newrysurestart.org
SUMMARY:Baby Café
DESCRIPTION:
URL:http://newrysurestart.org/booking/baby-cafe/2029-04-25/
LOCATION:Newry Leisure Centre (Training Room)\, 60 Cecil Street\, Newry\, BT35 6AU\, United Kingdom
END:VEVENT
BEGIN:VEVENT
DTSTART;TZID=UTC:20290426T103000
DTEND;TZID=UTC:20290426T114500
DTSTAMP:20260422T052206
CREATED:20260411T093105Z
LAST-MODIFIED:20260411T093105Z
UID:10008279-1871893800-1871898300@newrysurestart.org
SUMMARY:Small Word Parent & Toddler Group
DESCRIPTION:
URL:http://newrysurestart.org/booking/small-word-parent-toddler-group/2029-04-26/
LOCATION:Altnaveigh House\, Belfast Road\, 51 Downshire Rd\, Newry\, BT34 1EE
END:VEVENT
END:VCALENDAR