BEGIN:VCALENDAR
VERSION:2.0
PRODID:-//Newry SureStart - ECPv6.15.12.2//NONSGML v1.0//EN
CALSCALE:GREGORIAN
METHOD:PUBLISH
X-ORIGINAL-URL:http://newrysurestart.org
X-WR-CALDESC:Events for Newry SureStart
REFRESH-INTERVAL;VALUE=DURATION:PT1H
X-Robots-Tag:noindex
X-PUBLISHED-TTL:PT1H
BEGIN:VTIMEZONE
TZID:UTC
BEGIN:STANDARD
TZOFFSETFROM:+0000
TZOFFSETTO:+0000
TZNAME:UTC
DTSTART:20280101T000000
END:STANDARD
END:VTIMEZONE
BEGIN:VEVENT
DTSTART;TZID=UTC:20290502T113000
DTEND;TZID=UTC:20290502T130000
DTSTAMP:20260422T070255
CREATED:20260411T091620Z
LAST-MODIFIED:20260411T091620Z
UID:10007952-1872415800-1872421200@newrysurestart.org
SUMMARY:Baby Café
DESCRIPTION:
URL:http://newrysurestart.org/booking/baby-cafe/2029-05-02/
LOCATION:Newry Leisure Centre (Training Room)\, 60 Cecil Street\, Newry\, BT35 6AU\, United Kingdom
END:VEVENT
BEGIN:VEVENT
DTSTART;TZID=UTC:20290503T103000
DTEND;TZID=UTC:20290503T114500
DTSTAMP:20260422T070255
CREATED:20260411T093105Z
LAST-MODIFIED:20260411T093105Z
UID:10008280-1872498600-1872503100@newrysurestart.org
SUMMARY:Small Word Parent & Toddler Group
DESCRIPTION:
URL:http://newrysurestart.org/booking/small-word-parent-toddler-group/2029-05-03/
LOCATION:Altnaveigh House\, Belfast Road\, 51 Downshire Rd\, Newry\, BT34 1EE
END:VEVENT
BEGIN:VEVENT
DTSTART;TZID=UTC:20290509T113000
DTEND;TZID=UTC:20290509T130000
DTSTAMP:20260422T070255
CREATED:20260411T091620Z
LAST-MODIFIED:20260411T091620Z
UID:10007953-1873020600-1873026000@newrysurestart.org
SUMMARY:Baby Café
DESCRIPTION:
URL:http://newrysurestart.org/booking/baby-cafe/2029-05-09/
LOCATION:Newry Leisure Centre (Training Room)\, 60 Cecil Street\, Newry\, BT35 6AU\, United Kingdom
END:VEVENT
BEGIN:VEVENT
DTSTART;TZID=UTC:20290510T103000
DTEND;TZID=UTC:20290510T114500
DTSTAMP:20260422T070255
CREATED:20260411T093105Z
LAST-MODIFIED:20260411T093105Z
UID:10008281-1873103400-1873107900@newrysurestart.org
SUMMARY:Small Word Parent & Toddler Group
DESCRIPTION:
URL:http://newrysurestart.org/booking/small-word-parent-toddler-group/2029-05-10/
LOCATION:Altnaveigh House\, Belfast Road\, 51 Downshire Rd\, Newry\, BT34 1EE
END:VEVENT
BEGIN:VEVENT
DTSTART;TZID=UTC:20290516T113000
DTEND;TZID=UTC:20290516T130000
DTSTAMP:20260422T070255
CREATED:20260411T091620Z
LAST-MODIFIED:20260411T091620Z
UID:10007954-1873625400-1873630800@newrysurestart.org
SUMMARY:Baby Café
DESCRIPTION:
URL:http://newrysurestart.org/booking/baby-cafe/2029-05-16/
LOCATION:Newry Leisure Centre (Training Room)\, 60 Cecil Street\, Newry\, BT35 6AU\, United Kingdom
END:VEVENT
BEGIN:VEVENT
DTSTART;TZID=UTC:20290517T103000
DTEND;TZID=UTC:20290517T114500
DTSTAMP:20260422T070255
CREATED:20260411T093105Z
LAST-MODIFIED:20260411T093105Z
UID:10008282-1873708200-1873712700@newrysurestart.org
SUMMARY:Small Word Parent & Toddler Group
DESCRIPTION:
URL:http://newrysurestart.org/booking/small-word-parent-toddler-group/2029-05-17/
LOCATION:Altnaveigh House\, Belfast Road\, 51 Downshire Rd\, Newry\, BT34 1EE
END:VEVENT
BEGIN:VEVENT
DTSTART;TZID=UTC:20290523T113000
DTEND;TZID=UTC:20290523T130000
DTSTAMP:20260422T070255
CREATED:20260411T091620Z
LAST-MODIFIED:20260411T091620Z
UID:10007955-1874230200-1874235600@newrysurestart.org
SUMMARY:Baby Café
DESCRIPTION:
URL:http://newrysurestart.org/booking/baby-cafe/2029-05-23/
LOCATION:Newry Leisure Centre (Training Room)\, 60 Cecil Street\, Newry\, BT35 6AU\, United Kingdom
END:VEVENT
BEGIN:VEVENT
DTSTART;TZID=UTC:20290524T103000
DTEND;TZID=UTC:20290524T114500
DTSTAMP:20260422T070255
CREATED:20260411T093105Z
LAST-MODIFIED:20260411T093105Z
UID:10008283-1874313000-1874317500@newrysurestart.org
SUMMARY:Small Word Parent & Toddler Group
DESCRIPTION:
URL:http://newrysurestart.org/booking/small-word-parent-toddler-group/2029-05-24/
LOCATION:Altnaveigh House\, Belfast Road\, 51 Downshire Rd\, Newry\, BT34 1EE
END:VEVENT
BEGIN:VEVENT
DTSTART;TZID=UTC:20290530T113000
DTEND;TZID=UTC:20290530T130000
DTSTAMP:20260422T070255
CREATED:20260411T091620Z
LAST-MODIFIED:20260411T091620Z
UID:10007956-1874835000-1874840400@newrysurestart.org
SUMMARY:Baby Café
DESCRIPTION:
URL:http://newrysurestart.org/booking/baby-cafe/2029-05-30/
LOCATION:Newry Leisure Centre (Training Room)\, 60 Cecil Street\, Newry\, BT35 6AU\, United Kingdom
END:VEVENT
BEGIN:VEVENT
DTSTART;TZID=UTC:20290531T103000
DTEND;TZID=UTC:20290531T114500
DTSTAMP:20260422T070255
CREATED:20260411T093105Z
LAST-MODIFIED:20260411T093105Z
UID:10008284-1874917800-1874922300@newrysurestart.org
SUMMARY:Small Word Parent & Toddler Group
DESCRIPTION:
URL:http://newrysurestart.org/booking/small-word-parent-toddler-group/2029-05-31/
LOCATION:Altnaveigh House\, Belfast Road\, 51 Downshire Rd\, Newry\, BT34 1EE
END:VEVENT
END:VCALENDAR