BEGIN:VCALENDAR
VERSION:2.0
PRODID:-//Newry SureStart - ECPv6.15.12.2//NONSGML v1.0//EN
CALSCALE:GREGORIAN
METHOD:PUBLISH
X-ORIGINAL-URL:http://newrysurestart.org
X-WR-CALDESC:Events for Newry SureStart
REFRESH-INTERVAL;VALUE=DURATION:PT1H
X-Robots-Tag:noindex
X-PUBLISHED-TTL:PT1H
BEGIN:VTIMEZONE
TZID:UTC
BEGIN:STANDARD
TZOFFSETFROM:+0000
TZOFFSETTO:+0000
TZNAME:UTC
DTSTART:20280101T000000
END:STANDARD
END:VTIMEZONE
BEGIN:VEVENT
DTSTART;TZID=UTC:20290801T113000
DTEND;TZID=UTC:20290801T130000
DTSTAMP:20260422T125121
CREATED:20260411T091620Z
LAST-MODIFIED:20260411T091620Z
UID:10007965-1880278200-1880283600@newrysurestart.org
SUMMARY:Baby Café
DESCRIPTION:
URL:http://newrysurestart.org/booking/baby-cafe/2029-08-01/
LOCATION:Newry Leisure Centre (Training Room)\, 60 Cecil Street\, Newry\, BT35 6AU\, United Kingdom
END:VEVENT
BEGIN:VEVENT
DTSTART;TZID=UTC:20290802T103000
DTEND;TZID=UTC:20290802T114500
DTSTAMP:20260422T125121
CREATED:20260411T093105Z
LAST-MODIFIED:20260411T093105Z
UID:10008293-1880361000-1880365500@newrysurestart.org
SUMMARY:Small Word Parent & Toddler Group
DESCRIPTION:
URL:http://newrysurestart.org/booking/small-word-parent-toddler-group/2029-08-02/
LOCATION:Altnaveigh House\, Belfast Road\, 51 Downshire Rd\, Newry\, BT34 1EE
END:VEVENT
BEGIN:VEVENT
DTSTART;TZID=UTC:20290808T113000
DTEND;TZID=UTC:20290808T130000
DTSTAMP:20260422T125121
CREATED:20260411T091620Z
LAST-MODIFIED:20260411T091620Z
UID:10007966-1880883000-1880888400@newrysurestart.org
SUMMARY:Baby Café
DESCRIPTION:
URL:http://newrysurestart.org/booking/baby-cafe/2029-08-08/
LOCATION:Newry Leisure Centre (Training Room)\, 60 Cecil Street\, Newry\, BT35 6AU\, United Kingdom
END:VEVENT
BEGIN:VEVENT
DTSTART;TZID=UTC:20290809T103000
DTEND;TZID=UTC:20290809T114500
DTSTAMP:20260422T125121
CREATED:20260411T093105Z
LAST-MODIFIED:20260411T093105Z
UID:10008294-1880965800-1880970300@newrysurestart.org
SUMMARY:Small Word Parent & Toddler Group
DESCRIPTION:
URL:http://newrysurestart.org/booking/small-word-parent-toddler-group/2029-08-09/
LOCATION:Altnaveigh House\, Belfast Road\, 51 Downshire Rd\, Newry\, BT34 1EE
END:VEVENT
BEGIN:VEVENT
DTSTART;TZID=UTC:20290815T113000
DTEND;TZID=UTC:20290815T130000
DTSTAMP:20260422T125121
CREATED:20260411T091620Z
LAST-MODIFIED:20260411T091620Z
UID:10007967-1881487800-1881493200@newrysurestart.org
SUMMARY:Baby Café
DESCRIPTION:
URL:http://newrysurestart.org/booking/baby-cafe/2029-08-15/
LOCATION:Newry Leisure Centre (Training Room)\, 60 Cecil Street\, Newry\, BT35 6AU\, United Kingdom
END:VEVENT
BEGIN:VEVENT
DTSTART;TZID=UTC:20290816T103000
DTEND;TZID=UTC:20290816T114500
DTSTAMP:20260422T125121
CREATED:20260411T093105Z
LAST-MODIFIED:20260411T093105Z
UID:10008295-1881570600-1881575100@newrysurestart.org
SUMMARY:Small Word Parent & Toddler Group
DESCRIPTION:
URL:http://newrysurestart.org/booking/small-word-parent-toddler-group/2029-08-16/
LOCATION:Altnaveigh House\, Belfast Road\, 51 Downshire Rd\, Newry\, BT34 1EE
END:VEVENT
BEGIN:VEVENT
DTSTART;TZID=UTC:20290822T113000
DTEND;TZID=UTC:20290822T130000
DTSTAMP:20260422T125121
CREATED:20260411T091620Z
LAST-MODIFIED:20260411T091620Z
UID:10007968-1882092600-1882098000@newrysurestart.org
SUMMARY:Baby Café
DESCRIPTION:
URL:http://newrysurestart.org/booking/baby-cafe/2029-08-22/
LOCATION:Newry Leisure Centre (Training Room)\, 60 Cecil Street\, Newry\, BT35 6AU\, United Kingdom
END:VEVENT
BEGIN:VEVENT
DTSTART;TZID=UTC:20290823T103000
DTEND;TZID=UTC:20290823T114500
DTSTAMP:20260422T125121
CREATED:20260411T093105Z
LAST-MODIFIED:20260411T093105Z
UID:10008296-1882175400-1882179900@newrysurestart.org
SUMMARY:Small Word Parent & Toddler Group
DESCRIPTION:
URL:http://newrysurestart.org/booking/small-word-parent-toddler-group/2029-08-23/
LOCATION:Altnaveigh House\, Belfast Road\, 51 Downshire Rd\, Newry\, BT34 1EE
END:VEVENT
BEGIN:VEVENT
DTSTART;TZID=UTC:20290829T113000
DTEND;TZID=UTC:20290829T130000
DTSTAMP:20260422T125121
CREATED:20260411T091620Z
LAST-MODIFIED:20260411T091620Z
UID:10007969-1882697400-1882702800@newrysurestart.org
SUMMARY:Baby Café
DESCRIPTION:
URL:http://newrysurestart.org/booking/baby-cafe/2029-08-29/
LOCATION:Newry Leisure Centre (Training Room)\, 60 Cecil Street\, Newry\, BT35 6AU\, United Kingdom
END:VEVENT
BEGIN:VEVENT
DTSTART;TZID=UTC:20290830T103000
DTEND;TZID=UTC:20290830T114500
DTSTAMP:20260422T125121
CREATED:20260411T093105Z
LAST-MODIFIED:20260411T093105Z
UID:10008297-1882780200-1882784700@newrysurestart.org
SUMMARY:Small Word Parent & Toddler Group
DESCRIPTION:
URL:http://newrysurestart.org/booking/small-word-parent-toddler-group/2029-08-30/
LOCATION:Altnaveigh House\, Belfast Road\, 51 Downshire Rd\, Newry\, BT34 1EE
END:VEVENT
END:VCALENDAR