BEGIN:VCALENDAR
VERSION:2.0
PRODID:-//Newry SureStart - ECPv6.15.12.2//NONSGML v1.0//EN
CALSCALE:GREGORIAN
METHOD:PUBLISH
X-WR-CALNAME:Newry SureStart
X-ORIGINAL-URL:http://newrysurestart.org
X-WR-CALDESC:Events for Newry SureStart
REFRESH-INTERVAL;VALUE=DURATION:PT1H
X-Robots-Tag:noindex
X-PUBLISHED-TTL:PT1H
BEGIN:VTIMEZONE
TZID:UTC
BEGIN:STANDARD
TZOFFSETFROM:+0000
TZOFFSETTO:+0000
TZNAME:UTC
DTSTART:20280101T000000
END:STANDARD
END:VTIMEZONE
BEGIN:VEVENT
DTSTART;TZID=UTC:20291205T113000
DTEND;TZID=UTC:20291205T130000
DTSTAMP:20260422T211819
CREATED:20260411T091620Z
LAST-MODIFIED:20260411T091620Z
UID:10007983-1891164600-1891170000@newrysurestart.org
SUMMARY:Baby Café
DESCRIPTION:
URL:http://newrysurestart.org/booking/baby-cafe/2029-12-05/
LOCATION:Newry Leisure Centre (Training Room)\, 60 Cecil Street\, Newry\, BT35 6AU\, United Kingdom
END:VEVENT
BEGIN:VEVENT
DTSTART;TZID=UTC:20291206T103000
DTEND;TZID=UTC:20291206T114500
DTSTAMP:20260422T211819
CREATED:20260411T093105Z
LAST-MODIFIED:20260411T093105Z
UID:10008311-1891247400-1891251900@newrysurestart.org
SUMMARY:Small Word Parent & Toddler Group
DESCRIPTION:
URL:http://newrysurestart.org/booking/small-word-parent-toddler-group/2029-12-06/
LOCATION:Altnaveigh House\, Belfast Road\, 51 Downshire Rd\, Newry\, BT34 1EE
END:VEVENT
BEGIN:VEVENT
DTSTART;TZID=UTC:20291212T113000
DTEND;TZID=UTC:20291212T130000
DTSTAMP:20260422T211819
CREATED:20260411T091620Z
LAST-MODIFIED:20260411T091620Z
UID:10007984-1891769400-1891774800@newrysurestart.org
SUMMARY:Baby Café
DESCRIPTION:
URL:http://newrysurestart.org/booking/baby-cafe/2029-12-12/
LOCATION:Newry Leisure Centre (Training Room)\, 60 Cecil Street\, Newry\, BT35 6AU\, United Kingdom
END:VEVENT
BEGIN:VEVENT
DTSTART;TZID=UTC:20291213T103000
DTEND;TZID=UTC:20291213T114500
DTSTAMP:20260422T211819
CREATED:20260411T093105Z
LAST-MODIFIED:20260411T093105Z
UID:10008312-1891852200-1891856700@newrysurestart.org
SUMMARY:Small Word Parent & Toddler Group
DESCRIPTION:
URL:http://newrysurestart.org/booking/small-word-parent-toddler-group/2029-12-13/
LOCATION:Altnaveigh House\, Belfast Road\, 51 Downshire Rd\, Newry\, BT34 1EE
END:VEVENT
BEGIN:VEVENT
DTSTART;TZID=UTC:20291219T113000
DTEND;TZID=UTC:20291219T130000
DTSTAMP:20260422T211819
CREATED:20260411T091620Z
LAST-MODIFIED:20260411T091620Z
UID:10007985-1892374200-1892379600@newrysurestart.org
SUMMARY:Baby Café
DESCRIPTION:
URL:http://newrysurestart.org/booking/baby-cafe/2029-12-19/
LOCATION:Newry Leisure Centre (Training Room)\, 60 Cecil Street\, Newry\, BT35 6AU\, United Kingdom
END:VEVENT
BEGIN:VEVENT
DTSTART;TZID=UTC:20291220T103000
DTEND;TZID=UTC:20291220T114500
DTSTAMP:20260422T211819
CREATED:20260411T093105Z
LAST-MODIFIED:20260411T093105Z
UID:10008313-1892457000-1892461500@newrysurestart.org
SUMMARY:Small Word Parent & Toddler Group
DESCRIPTION:
URL:http://newrysurestart.org/booking/small-word-parent-toddler-group/2029-12-20/
LOCATION:Altnaveigh House\, Belfast Road\, 51 Downshire Rd\, Newry\, BT34 1EE
END:VEVENT
BEGIN:VEVENT
DTSTART;TZID=UTC:20291226T113000
DTEND;TZID=UTC:20291226T130000
DTSTAMP:20260422T211819
CREATED:20260411T091620Z
LAST-MODIFIED:20260411T091620Z
UID:10007986-1892979000-1892984400@newrysurestart.org
SUMMARY:Baby Café
DESCRIPTION:
URL:http://newrysurestart.org/booking/baby-cafe/2029-12-26/
LOCATION:Newry Leisure Centre (Training Room)\, 60 Cecil Street\, Newry\, BT35 6AU\, United Kingdom
END:VEVENT
BEGIN:VEVENT
DTSTART;TZID=UTC:20291227T103000
DTEND;TZID=UTC:20291227T114500
DTSTAMP:20260422T211819
CREATED:20260411T093105Z
LAST-MODIFIED:20260411T093105Z
UID:10008314-1893061800-1893066300@newrysurestart.org
SUMMARY:Small Word Parent & Toddler Group
DESCRIPTION:
URL:http://newrysurestart.org/booking/small-word-parent-toddler-group/2029-12-27/
LOCATION:Altnaveigh House\, Belfast Road\, 51 Downshire Rd\, Newry\, BT34 1EE
END:VEVENT
END:VCALENDAR