BEGIN:VCALENDAR
VERSION:2.0
PRODID:-//Newry SureStart - ECPv6.15.12.2//NONSGML v1.0//EN
CALSCALE:GREGORIAN
METHOD:PUBLISH
X-WR-CALNAME:Newry SureStart
X-ORIGINAL-URL:http://newrysurestart.org
X-WR-CALDESC:Events for Newry SureStart
REFRESH-INTERVAL;VALUE=DURATION:PT1H
X-Robots-Tag:noindex
X-PUBLISHED-TTL:PT1H
BEGIN:VTIMEZONE
TZID:UTC
BEGIN:STANDARD
TZOFFSETFROM:+0000
TZOFFSETTO:+0000
TZNAME:UTC
DTSTART:20290101T000000
END:STANDARD
END:VTIMEZONE
BEGIN:VEVENT
DTSTART;TZID=UTC:20300102T113000
DTEND;TZID=UTC:20300102T130000
DTSTAMP:20260422T231940
CREATED:20260411T091620Z
LAST-MODIFIED:20260411T091620Z
UID:10007987-1893583800-1893589200@newrysurestart.org
SUMMARY:Baby Café
DESCRIPTION:
URL:http://newrysurestart.org/booking/baby-cafe/2030-01-02/
LOCATION:Newry Leisure Centre (Training Room)\, 60 Cecil Street\, Newry\, BT35 6AU\, United Kingdom
END:VEVENT
BEGIN:VEVENT
DTSTART;TZID=UTC:20300103T103000
DTEND;TZID=UTC:20300103T114500
DTSTAMP:20260422T231940
CREATED:20260411T093105Z
LAST-MODIFIED:20260411T093105Z
UID:10008315-1893666600-1893671100@newrysurestart.org
SUMMARY:Small Word Parent & Toddler Group
DESCRIPTION:
URL:http://newrysurestart.org/booking/small-word-parent-toddler-group/2030-01-03/
LOCATION:Altnaveigh House\, Belfast Road\, 51 Downshire Rd\, Newry\, BT34 1EE
END:VEVENT
BEGIN:VEVENT
DTSTART;TZID=UTC:20300109T113000
DTEND;TZID=UTC:20300109T130000
DTSTAMP:20260422T231940
CREATED:20260411T091620Z
LAST-MODIFIED:20260411T091620Z
UID:10007988-1894188600-1894194000@newrysurestart.org
SUMMARY:Baby Café
DESCRIPTION:
URL:http://newrysurestart.org/booking/baby-cafe/2030-01-09/
LOCATION:Newry Leisure Centre (Training Room)\, 60 Cecil Street\, Newry\, BT35 6AU\, United Kingdom
END:VEVENT
BEGIN:VEVENT
DTSTART;TZID=UTC:20300110T103000
DTEND;TZID=UTC:20300110T114500
DTSTAMP:20260422T231940
CREATED:20260411T093105Z
LAST-MODIFIED:20260411T093105Z
UID:10008316-1894271400-1894275900@newrysurestart.org
SUMMARY:Small Word Parent & Toddler Group
DESCRIPTION:
URL:http://newrysurestart.org/booking/small-word-parent-toddler-group/2030-01-10/
LOCATION:Altnaveigh House\, Belfast Road\, 51 Downshire Rd\, Newry\, BT34 1EE
END:VEVENT
BEGIN:VEVENT
DTSTART;TZID=UTC:20300116T113000
DTEND;TZID=UTC:20300116T130000
DTSTAMP:20260422T231940
CREATED:20260411T091620Z
LAST-MODIFIED:20260411T091620Z
UID:10007989-1894793400-1894798800@newrysurestart.org
SUMMARY:Baby Café
DESCRIPTION:
URL:http://newrysurestart.org/booking/baby-cafe/2030-01-16/
LOCATION:Newry Leisure Centre (Training Room)\, 60 Cecil Street\, Newry\, BT35 6AU\, United Kingdom
END:VEVENT
BEGIN:VEVENT
DTSTART;TZID=UTC:20300117T103000
DTEND;TZID=UTC:20300117T114500
DTSTAMP:20260422T231940
CREATED:20260411T093105Z
LAST-MODIFIED:20260411T093105Z
UID:10008317-1894876200-1894880700@newrysurestart.org
SUMMARY:Small Word Parent & Toddler Group
DESCRIPTION:
URL:http://newrysurestart.org/booking/small-word-parent-toddler-group/2030-01-17/
LOCATION:Altnaveigh House\, Belfast Road\, 51 Downshire Rd\, Newry\, BT34 1EE
END:VEVENT
BEGIN:VEVENT
DTSTART;TZID=UTC:20300123T113000
DTEND;TZID=UTC:20300123T130000
DTSTAMP:20260422T231940
CREATED:20260411T091620Z
LAST-MODIFIED:20260411T091620Z
UID:10007990-1895398200-1895403600@newrysurestart.org
SUMMARY:Baby Café
DESCRIPTION:
URL:http://newrysurestart.org/booking/baby-cafe/2030-01-23/
LOCATION:Newry Leisure Centre (Training Room)\, 60 Cecil Street\, Newry\, BT35 6AU\, United Kingdom
END:VEVENT
BEGIN:VEVENT
DTSTART;TZID=UTC:20300124T103000
DTEND;TZID=UTC:20300124T114500
DTSTAMP:20260422T231940
CREATED:20260411T093105Z
LAST-MODIFIED:20260411T093105Z
UID:10008318-1895481000-1895485500@newrysurestart.org
SUMMARY:Small Word Parent & Toddler Group
DESCRIPTION:
URL:http://newrysurestart.org/booking/small-word-parent-toddler-group/2030-01-24/
LOCATION:Altnaveigh House\, Belfast Road\, 51 Downshire Rd\, Newry\, BT34 1EE
END:VEVENT
BEGIN:VEVENT
DTSTART;TZID=UTC:20300130T113000
DTEND;TZID=UTC:20300130T130000
DTSTAMP:20260422T231940
CREATED:20260411T091620Z
LAST-MODIFIED:20260411T091620Z
UID:10007991-1896003000-1896008400@newrysurestart.org
SUMMARY:Baby Café
DESCRIPTION:
URL:http://newrysurestart.org/booking/baby-cafe/2030-01-30/
LOCATION:Newry Leisure Centre (Training Room)\, 60 Cecil Street\, Newry\, BT35 6AU\, United Kingdom
END:VEVENT
BEGIN:VEVENT
DTSTART;TZID=UTC:20300131T103000
DTEND;TZID=UTC:20300131T114500
DTSTAMP:20260422T231940
CREATED:20260411T093105Z
LAST-MODIFIED:20260411T093105Z
UID:10008319-1896085800-1896090300@newrysurestart.org
SUMMARY:Small Word Parent & Toddler Group
DESCRIPTION:
URL:http://newrysurestart.org/booking/small-word-parent-toddler-group/2030-01-31/
LOCATION:Altnaveigh House\, Belfast Road\, 51 Downshire Rd\, Newry\, BT34 1EE
END:VEVENT
END:VCALENDAR