BEGIN:VCALENDAR
VERSION:2.0
PRODID:-//Newry SureStart - ECPv6.15.12.2//NONSGML v1.0//EN
CALSCALE:GREGORIAN
METHOD:PUBLISH
X-ORIGINAL-URL:http://newrysurestart.org
X-WR-CALDESC:Events for Newry SureStart
REFRESH-INTERVAL;VALUE=DURATION:PT1H
X-Robots-Tag:noindex
X-PUBLISHED-TTL:PT1H
BEGIN:VTIMEZONE
TZID:UTC
BEGIN:STANDARD
TZOFFSETFROM:+0000
TZOFFSETTO:+0000
TZNAME:UTC
DTSTART:20290101T000000
END:STANDARD
END:VTIMEZONE
BEGIN:VEVENT
DTSTART;TZID=UTC:20301002T113000
DTEND;TZID=UTC:20301002T130000
DTSTAMP:20260423T171600
CREATED:20260411T091620Z
LAST-MODIFIED:20260411T091620Z
UID:10008026-1917171000-1917176400@newrysurestart.org
SUMMARY:Baby Café
DESCRIPTION:
URL:http://newrysurestart.org/booking/baby-cafe/2030-10-02/
LOCATION:Newry Leisure Centre (Training Room)\, 60 Cecil Street\, Newry\, BT35 6AU\, United Kingdom
END:VEVENT
BEGIN:VEVENT
DTSTART;TZID=UTC:20301003T103000
DTEND;TZID=UTC:20301003T114500
DTSTAMP:20260423T171601
CREATED:20260411T093105Z
LAST-MODIFIED:20260411T093105Z
UID:10008354-1917253800-1917258300@newrysurestart.org
SUMMARY:Small Word Parent & Toddler Group
DESCRIPTION:
URL:http://newrysurestart.org/booking/small-word-parent-toddler-group/2030-10-03/
LOCATION:Altnaveigh House\, Belfast Road\, 51 Downshire Rd\, Newry\, BT34 1EE
END:VEVENT
BEGIN:VEVENT
DTSTART;TZID=UTC:20301009T113000
DTEND;TZID=UTC:20301009T130000
DTSTAMP:20260423T171601
CREATED:20260411T091620Z
LAST-MODIFIED:20260411T091620Z
UID:10008027-1917775800-1917781200@newrysurestart.org
SUMMARY:Baby Café
DESCRIPTION:
URL:http://newrysurestart.org/booking/baby-cafe/2030-10-09/
LOCATION:Newry Leisure Centre (Training Room)\, 60 Cecil Street\, Newry\, BT35 6AU\, United Kingdom
END:VEVENT
BEGIN:VEVENT
DTSTART;TZID=UTC:20301010T103000
DTEND;TZID=UTC:20301010T114500
DTSTAMP:20260423T171601
CREATED:20260411T093105Z
LAST-MODIFIED:20260411T093105Z
UID:10008355-1917858600-1917863100@newrysurestart.org
SUMMARY:Small Word Parent & Toddler Group
DESCRIPTION:
URL:http://newrysurestart.org/booking/small-word-parent-toddler-group/2030-10-10/
LOCATION:Altnaveigh House\, Belfast Road\, 51 Downshire Rd\, Newry\, BT34 1EE
END:VEVENT
BEGIN:VEVENT
DTSTART;TZID=UTC:20301016T113000
DTEND;TZID=UTC:20301016T130000
DTSTAMP:20260423T171601
CREATED:20260411T091620Z
LAST-MODIFIED:20260411T091620Z
UID:10008028-1918380600-1918386000@newrysurestart.org
SUMMARY:Baby Café
DESCRIPTION:
URL:http://newrysurestart.org/booking/baby-cafe/2030-10-16/
LOCATION:Newry Leisure Centre (Training Room)\, 60 Cecil Street\, Newry\, BT35 6AU\, United Kingdom
END:VEVENT
BEGIN:VEVENT
DTSTART;TZID=UTC:20301017T103000
DTEND;TZID=UTC:20301017T114500
DTSTAMP:20260423T171601
CREATED:20260411T093105Z
LAST-MODIFIED:20260411T093105Z
UID:10008356-1918463400-1918467900@newrysurestart.org
SUMMARY:Small Word Parent & Toddler Group
DESCRIPTION:
URL:http://newrysurestart.org/booking/small-word-parent-toddler-group/2030-10-17/
LOCATION:Altnaveigh House\, Belfast Road\, 51 Downshire Rd\, Newry\, BT34 1EE
END:VEVENT
BEGIN:VEVENT
DTSTART;TZID=UTC:20301023T113000
DTEND;TZID=UTC:20301023T130000
DTSTAMP:20260423T171601
CREATED:20260411T091620Z
LAST-MODIFIED:20260411T091620Z
UID:10008029-1918985400-1918990800@newrysurestart.org
SUMMARY:Baby Café
DESCRIPTION:
URL:http://newrysurestart.org/booking/baby-cafe/2030-10-23/
LOCATION:Newry Leisure Centre (Training Room)\, 60 Cecil Street\, Newry\, BT35 6AU\, United Kingdom
END:VEVENT
BEGIN:VEVENT
DTSTART;TZID=UTC:20301024T103000
DTEND;TZID=UTC:20301024T114500
DTSTAMP:20260423T171601
CREATED:20260411T093105Z
LAST-MODIFIED:20260411T093105Z
UID:10008357-1919068200-1919072700@newrysurestart.org
SUMMARY:Small Word Parent & Toddler Group
DESCRIPTION:
URL:http://newrysurestart.org/booking/small-word-parent-toddler-group/2030-10-24/
LOCATION:Altnaveigh House\, Belfast Road\, 51 Downshire Rd\, Newry\, BT34 1EE
END:VEVENT
BEGIN:VEVENT
DTSTART;TZID=UTC:20301030T113000
DTEND;TZID=UTC:20301030T130000
DTSTAMP:20260423T171601
CREATED:20260411T091620Z
LAST-MODIFIED:20260411T091620Z
UID:10008030-1919590200-1919595600@newrysurestart.org
SUMMARY:Baby Café
DESCRIPTION:
URL:http://newrysurestart.org/booking/baby-cafe/2030-10-30/
LOCATION:Newry Leisure Centre (Training Room)\, 60 Cecil Street\, Newry\, BT35 6AU\, United Kingdom
END:VEVENT
BEGIN:VEVENT
DTSTART;TZID=UTC:20301031T103000
DTEND;TZID=UTC:20301031T114500
DTSTAMP:20260423T171601
CREATED:20260411T093105Z
LAST-MODIFIED:20260411T093105Z
UID:10008358-1919673000-1919677500@newrysurestart.org
SUMMARY:Small Word Parent & Toddler Group
DESCRIPTION:
URL:http://newrysurestart.org/booking/small-word-parent-toddler-group/2030-10-31/
LOCATION:Altnaveigh House\, Belfast Road\, 51 Downshire Rd\, Newry\, BT34 1EE
END:VEVENT
END:VCALENDAR