BEGIN:VCALENDAR
VERSION:2.0
PRODID:-//Newry SureStart - ECPv6.15.12.2//NONSGML v1.0//EN
CALSCALE:GREGORIAN
METHOD:PUBLISH
X-WR-CALNAME:Newry SureStart
X-ORIGINAL-URL:http://newrysurestart.org
X-WR-CALDESC:Events for Newry SureStart
REFRESH-INTERVAL;VALUE=DURATION:PT1H
X-Robots-Tag:noindex
X-PUBLISHED-TTL:PT1H
BEGIN:VTIMEZONE
TZID:UTC
BEGIN:STANDARD
TZOFFSETFROM:+0000
TZOFFSETTO:+0000
TZNAME:UTC
DTSTART:20290101T000000
END:STANDARD
END:VTIMEZONE
BEGIN:VEVENT
DTSTART;TZID=UTC:20301106T113000
DTEND;TZID=UTC:20301106T130000
DTSTAMP:20260423T185538
CREATED:20260411T091620Z
LAST-MODIFIED:20260411T091620Z
UID:10008031-1920195000-1920200400@newrysurestart.org
SUMMARY:Baby Café
DESCRIPTION:
URL:http://newrysurestart.org/booking/baby-cafe/2030-11-06/
LOCATION:Newry Leisure Centre (Training Room)\, 60 Cecil Street\, Newry\, BT35 6AU\, United Kingdom
END:VEVENT
BEGIN:VEVENT
DTSTART;TZID=UTC:20301107T103000
DTEND;TZID=UTC:20301107T114500
DTSTAMP:20260423T185538
CREATED:20260411T093105Z
LAST-MODIFIED:20260411T093105Z
UID:10008359-1920277800-1920282300@newrysurestart.org
SUMMARY:Small Word Parent & Toddler Group
DESCRIPTION:
URL:http://newrysurestart.org/booking/small-word-parent-toddler-group/2030-11-07/
LOCATION:Altnaveigh House\, Belfast Road\, 51 Downshire Rd\, Newry\, BT34 1EE
END:VEVENT
BEGIN:VEVENT
DTSTART;TZID=UTC:20301113T113000
DTEND;TZID=UTC:20301113T130000
DTSTAMP:20260423T185538
CREATED:20260411T091620Z
LAST-MODIFIED:20260411T091620Z
UID:10008032-1920799800-1920805200@newrysurestart.org
SUMMARY:Baby Café
DESCRIPTION:
URL:http://newrysurestart.org/booking/baby-cafe/2030-11-13/
LOCATION:Newry Leisure Centre (Training Room)\, 60 Cecil Street\, Newry\, BT35 6AU\, United Kingdom
END:VEVENT
BEGIN:VEVENT
DTSTART;TZID=UTC:20301114T103000
DTEND;TZID=UTC:20301114T114500
DTSTAMP:20260423T185538
CREATED:20260411T093105Z
LAST-MODIFIED:20260411T093105Z
UID:10008360-1920882600-1920887100@newrysurestart.org
SUMMARY:Small Word Parent & Toddler Group
DESCRIPTION:
URL:http://newrysurestart.org/booking/small-word-parent-toddler-group/2030-11-14/
LOCATION:Altnaveigh House\, Belfast Road\, 51 Downshire Rd\, Newry\, BT34 1EE
END:VEVENT
BEGIN:VEVENT
DTSTART;TZID=UTC:20301120T113000
DTEND;TZID=UTC:20301120T130000
DTSTAMP:20260423T185538
CREATED:20260411T091620Z
LAST-MODIFIED:20260411T091620Z
UID:10008033-1921404600-1921410000@newrysurestart.org
SUMMARY:Baby Café
DESCRIPTION:
URL:http://newrysurestart.org/booking/baby-cafe/2030-11-20/
LOCATION:Newry Leisure Centre (Training Room)\, 60 Cecil Street\, Newry\, BT35 6AU\, United Kingdom
END:VEVENT
BEGIN:VEVENT
DTSTART;TZID=UTC:20301121T103000
DTEND;TZID=UTC:20301121T114500
DTSTAMP:20260423T185538
CREATED:20260411T093105Z
LAST-MODIFIED:20260411T093105Z
UID:10008361-1921487400-1921491900@newrysurestart.org
SUMMARY:Small Word Parent & Toddler Group
DESCRIPTION:
URL:http://newrysurestart.org/booking/small-word-parent-toddler-group/2030-11-21/
LOCATION:Altnaveigh House\, Belfast Road\, 51 Downshire Rd\, Newry\, BT34 1EE
END:VEVENT
BEGIN:VEVENT
DTSTART;TZID=UTC:20301127T113000
DTEND;TZID=UTC:20301127T130000
DTSTAMP:20260423T185538
CREATED:20260411T091620Z
LAST-MODIFIED:20260411T091620Z
UID:10008034-1922009400-1922014800@newrysurestart.org
SUMMARY:Baby Café
DESCRIPTION:
URL:http://newrysurestart.org/booking/baby-cafe/2030-11-27/
LOCATION:Newry Leisure Centre (Training Room)\, 60 Cecil Street\, Newry\, BT35 6AU\, United Kingdom
END:VEVENT
BEGIN:VEVENT
DTSTART;TZID=UTC:20301128T103000
DTEND;TZID=UTC:20301128T114500
DTSTAMP:20260423T185538
CREATED:20260411T093105Z
LAST-MODIFIED:20260411T093105Z
UID:10008362-1922092200-1922096700@newrysurestart.org
SUMMARY:Small Word Parent & Toddler Group
DESCRIPTION:
URL:http://newrysurestart.org/booking/small-word-parent-toddler-group/2030-11-28/
LOCATION:Altnaveigh House\, Belfast Road\, 51 Downshire Rd\, Newry\, BT34 1EE
END:VEVENT
END:VCALENDAR