BEGIN:VCALENDAR
VERSION:2.0
PRODID:-//Newry SureStart - ECPv6.15.12.2//NONSGML v1.0//EN
CALSCALE:GREGORIAN
METHOD:PUBLISH
X-ORIGINAL-URL:http://newrysurestart.org
X-WR-CALDESC:Events for Newry SureStart
REFRESH-INTERVAL;VALUE=DURATION:PT1H
X-Robots-Tag:noindex
X-PUBLISHED-TTL:PT1H
BEGIN:VTIMEZONE
TZID:UTC
BEGIN:STANDARD
TZOFFSETFROM:+0000
TZOFFSETTO:+0000
TZNAME:UTC
DTSTART:20290101T000000
END:STANDARD
END:VTIMEZONE
BEGIN:VEVENT
DTSTART;TZID=UTC:20301204T113000
DTEND;TZID=UTC:20301204T130000
DTSTAMP:20260423T210846
CREATED:20260411T091620Z
LAST-MODIFIED:20260411T091620Z
UID:10008035-1922614200-1922619600@newrysurestart.org
SUMMARY:Baby Café
DESCRIPTION:
URL:http://newrysurestart.org/booking/baby-cafe/2030-12-04/
LOCATION:Newry Leisure Centre (Training Room)\, 60 Cecil Street\, Newry\, BT35 6AU\, United Kingdom
END:VEVENT
BEGIN:VEVENT
DTSTART;TZID=UTC:20301205T103000
DTEND;TZID=UTC:20301205T114500
DTSTAMP:20260423T210846
CREATED:20260411T093105Z
LAST-MODIFIED:20260411T093105Z
UID:10008363-1922697000-1922701500@newrysurestart.org
SUMMARY:Small Word Parent & Toddler Group
DESCRIPTION:
URL:http://newrysurestart.org/booking/small-word-parent-toddler-group/2030-12-05/
LOCATION:Altnaveigh House\, Belfast Road\, 51 Downshire Rd\, Newry\, BT34 1EE
END:VEVENT
BEGIN:VEVENT
DTSTART;TZID=UTC:20301211T113000
DTEND;TZID=UTC:20301211T130000
DTSTAMP:20260423T210846
CREATED:20260411T091620Z
LAST-MODIFIED:20260411T091620Z
UID:10008036-1923219000-1923224400@newrysurestart.org
SUMMARY:Baby Café
DESCRIPTION:
URL:http://newrysurestart.org/booking/baby-cafe/2030-12-11/
LOCATION:Newry Leisure Centre (Training Room)\, 60 Cecil Street\, Newry\, BT35 6AU\, United Kingdom
END:VEVENT
BEGIN:VEVENT
DTSTART;TZID=UTC:20301212T103000
DTEND;TZID=UTC:20301212T114500
DTSTAMP:20260423T210846
CREATED:20260411T093105Z
LAST-MODIFIED:20260411T093105Z
UID:10008364-1923301800-1923306300@newrysurestart.org
SUMMARY:Small Word Parent & Toddler Group
DESCRIPTION:
URL:http://newrysurestart.org/booking/small-word-parent-toddler-group/2030-12-12/
LOCATION:Altnaveigh House\, Belfast Road\, 51 Downshire Rd\, Newry\, BT34 1EE
END:VEVENT
BEGIN:VEVENT
DTSTART;TZID=UTC:20301218T113000
DTEND;TZID=UTC:20301218T130000
DTSTAMP:20260423T210846
CREATED:20260411T091620Z
LAST-MODIFIED:20260411T091620Z
UID:10008037-1923823800-1923829200@newrysurestart.org
SUMMARY:Baby Café
DESCRIPTION:
URL:http://newrysurestart.org/booking/baby-cafe/2030-12-18/
LOCATION:Newry Leisure Centre (Training Room)\, 60 Cecil Street\, Newry\, BT35 6AU\, United Kingdom
END:VEVENT
BEGIN:VEVENT
DTSTART;TZID=UTC:20301219T103000
DTEND;TZID=UTC:20301219T114500
DTSTAMP:20260423T210846
CREATED:20260411T093105Z
LAST-MODIFIED:20260411T093105Z
UID:10008365-1923906600-1923911100@newrysurestart.org
SUMMARY:Small Word Parent & Toddler Group
DESCRIPTION:
URL:http://newrysurestart.org/booking/small-word-parent-toddler-group/2030-12-19/
LOCATION:Altnaveigh House\, Belfast Road\, 51 Downshire Rd\, Newry\, BT34 1EE
END:VEVENT
BEGIN:VEVENT
DTSTART;TZID=UTC:20301225T113000
DTEND;TZID=UTC:20301225T130000
DTSTAMP:20260423T210846
CREATED:20260411T091620Z
LAST-MODIFIED:20260411T091620Z
UID:10008038-1924428600-1924434000@newrysurestart.org
SUMMARY:Baby Café
DESCRIPTION:
URL:http://newrysurestart.org/booking/baby-cafe/2030-12-25/
LOCATION:Newry Leisure Centre (Training Room)\, 60 Cecil Street\, Newry\, BT35 6AU\, United Kingdom
END:VEVENT
BEGIN:VEVENT
DTSTART;TZID=UTC:20301226T103000
DTEND;TZID=UTC:20301226T114500
DTSTAMP:20260423T210846
CREATED:20260411T093105Z
LAST-MODIFIED:20260411T093105Z
UID:10008366-1924511400-1924515900@newrysurestart.org
SUMMARY:Small Word Parent & Toddler Group
DESCRIPTION:
URL:http://newrysurestart.org/booking/small-word-parent-toddler-group/2030-12-26/
LOCATION:Altnaveigh House\, Belfast Road\, 51 Downshire Rd\, Newry\, BT34 1EE
END:VEVENT
END:VCALENDAR