BEGIN:VCALENDAR
VERSION:2.0
PRODID:-//Newry SureStart - ECPv6.15.12.2//NONSGML v1.0//EN
CALSCALE:GREGORIAN
METHOD:PUBLISH
X-WR-CALNAME:Newry SureStart
X-ORIGINAL-URL:https://newrysurestart.org
X-WR-CALDESC:Events for Newry SureStart
REFRESH-INTERVAL;VALUE=DURATION:PT1H
X-Robots-Tag:noindex
X-PUBLISHED-TTL:PT1H
BEGIN:VTIMEZONE
TZID:UTC
BEGIN:STANDARD
TZOFFSETFROM:+0000
TZOFFSETTO:+0000
TZNAME:UTC
DTSTART:20240101T000000
END:STANDARD
END:VTIMEZONE
BEGIN:VEVENT
DTSTART;TZID=UTC:20250303T103000
DTEND;TZID=UTC:20250303T113000
DTSTAMP:20260421T181830
CREATED:20250326T152528Z
LAST-MODIFIED:20250408T121108Z
UID:10000910-1740997800-1741001400@newrysurestart.org
SUMMARY:Parent\, Carer & Toddler Group
DESCRIPTION:Our weekly drop-in early learning and play group for parents\, carers and children up to their 4th birthday.
URL:https://newrysurestart.org/booking/parent-carer-toddler-group/2025-03-03/
LOCATION:Altnaveigh House\, Belfast Road\, 51 Downshire Rd\, Newry\, BT34 1EE
ORGANIZER;CN="Karen S":MAILTO:karens@newrysurestart.org
END:VEVENT
BEGIN:VEVENT
DTSTART;TZID=UTC:20250304T093000
DTEND;TZID=UTC:20250304T103000
DTSTAMP:20260421T181830
CREATED:20250326T152527Z
LAST-MODIFIED:20250326T152527Z
UID:10000376-1741080600-1741084200@newrysurestart.org
SUMMARY:Tiny Beats
DESCRIPTION:Our weekly drop in musical rhyme and dance group suitable for all ages 4 and under.
URL:https://newrysurestart.org/booking/tiny-beats/2025-03-04/
LOCATION:Derrybeg Community Centre\, Derrybeg Park\, Newry\, BT35 6EZ
ORGANIZER;CN="Karen S":MAILTO:karens@newrysurestart.org
END:VEVENT
BEGIN:VEVENT
DTSTART;TZID=UTC:20250305T100000
DTEND;TZID=UTC:20250305T110000
DTSTAMP:20260421T181830
CREATED:20250326T152435Z
LAST-MODIFIED:20250326T152435Z
UID:10002089-1741168800-1741172400@newrysurestart.org
SUMMARY:Toddler and Talk
DESCRIPTION:Four-week programme to enhance speech language & communication development through play by having an opportunity to experience: \n• Interaction with peers\n• Activities to further develop attention and listening skills\n• Turn taking and waiting\n• Developing children’s speech language and communication skills through use of signs\, gestures\, and extending their vocabulary by following your child’s lead. \nBooking Form
URL:https://newrysurestart.org/booking/toddle-and-talk/2025-03-05/
LOCATION:Fiveways\, 101 Armagh Rd\, Newry\, BT35 6PW
ORGANIZER;CN="Adele T":MAILTO:adelet@newrysurestart.org
END:VEVENT
BEGIN:VEVENT
DTSTART;TZID=UTC:20250305T110000
DTEND;TZID=UTC:20250305T120000
DTSTAMP:20260421T181830
CREATED:20250326T152527Z
LAST-MODIFIED:20250326T152527Z
UID:10004821-1741172400-1741176000@newrysurestart.org
SUMMARY:Breastfeeding Support Group & Coffee Morning
DESCRIPTION:Our weekly drop-in support group\, all breastfeeding mums\, babies and antenatal women welcome. Delivered in partnership with the Health Visiting Team in the SH&SCT.
URL:https://newrysurestart.org/booking/breastfeeding-support-group-coffee-morning/2025-03-05/
LOCATION:Newry Leisure Centre (Training Room)\, 60 Cecil Street\, Newry\, BT35 6AU\, United Kingdom
ORGANIZER;CN="Sandra H":MAILTO:sandrah@newrysurestart.org
END:VEVENT
BEGIN:VEVENT
DTSTART;TZID=UTC:20250306T100000
DTEND;TZID=UTC:20250306T113000
DTSTAMP:20260421T181830
CREATED:20250326T152526Z
LAST-MODIFIED:20250326T152526Z
UID:10005154-1741255200-1741260600@newrysurestart.org
SUMMARY:All about us Parent & Child Group
DESCRIPTION:Our weekly drop-in support group for families with a young child who require additional support
URL:https://newrysurestart.org/booking/all-about-us-parent-child-group-2/2025-03-06/
LOCATION:Derrybeg Community Centre\, Derrybeg Park\, Newry\, BT35 6EZ
ORGANIZER;CN="Charmaine McC":MAILTO:charmaine@newrysurestart.org
END:VEVENT
BEGIN:VEVENT
DTSTART;TZID=UTC:20250306T103000
DTEND;TZID=UTC:20250306T113000
DTSTAMP:20260421T181830
CREATED:20250326T152435Z
LAST-MODIFIED:20250326T152435Z
UID:10002146-1741257000-1741260600@newrysurestart.org
SUMMARY:Ethnic Minorities and Roma Group
DESCRIPTION:Our weekly drop-in support group for members of the Roma community and Ethnic Minorities. Delivered in Partnership with the Early Years Toybox Project.
URL:https://newrysurestart.org/booking/ethnic-minorities-and-roma-group/2025-03-06/
LOCATION:Altnaveigh House\, Belfast Road\, 51 Downshire Rd\, Newry\, BT34 1EE
ORGANIZER;CN="Karen S":MAILTO:karens@newrysurestart.org
END:VEVENT
BEGIN:VEVENT
DTSTART;TZID=UTC:20250306T103000
DTEND;TZID=UTC:20250306T113000
DTSTAMP:20260421T181830
CREATED:20250326T152526Z
LAST-MODIFIED:20250326T152526Z
UID:10002669-1741257000-1741260600@newrysurestart.org
SUMMARY:Parent\, Carer & Toddler Group
DESCRIPTION:Our weekly drop-in early learning and play group for parents\, carers and children up to their 4th birthday.
URL:https://newrysurestart.org/booking/parent-carer-toddler-group-3/2025-03-06/
LOCATION:St Peter’s Parish Centre Warrenpoint\, Great Georges St S\, Warrenpoint\, Newry\, BT34 3NF
ORGANIZER;CN="Karen S":MAILTO:karens@newrysurestart.org
END:VEVENT
BEGIN:VEVENT
DTSTART;TZID=UTC:20250310T103000
DTEND;TZID=UTC:20250310T113000
DTSTAMP:20260421T181830
CREATED:20250326T152528Z
LAST-MODIFIED:20250408T121108Z
UID:10000911-1741602600-1741606200@newrysurestart.org
SUMMARY:Parent\, Carer & Toddler Group
DESCRIPTION:Our weekly drop-in early learning and play group for parents\, carers and children up to their 4th birthday.
URL:https://newrysurestart.org/booking/parent-carer-toddler-group/2025-03-10/
LOCATION:Altnaveigh House\, Belfast Road\, 51 Downshire Rd\, Newry\, BT34 1EE
ORGANIZER;CN="Karen S":MAILTO:karens@newrysurestart.org
END:VEVENT
BEGIN:VEVENT
DTSTART;TZID=UTC:20250311T093000
DTEND;TZID=UTC:20250311T103000
DTSTAMP:20260421T181830
CREATED:20250326T152527Z
LAST-MODIFIED:20250326T152527Z
UID:10000377-1741685400-1741689000@newrysurestart.org
SUMMARY:Tiny Beats
DESCRIPTION:Our weekly drop in musical rhyme and dance group suitable for all ages 4 and under.
URL:https://newrysurestart.org/booking/tiny-beats/2025-03-11/
LOCATION:Derrybeg Community Centre\, Derrybeg Park\, Newry\, BT35 6EZ
ORGANIZER;CN="Karen S":MAILTO:karens@newrysurestart.org
END:VEVENT
BEGIN:VEVENT
DTSTART;TZID=UTC:20250312T100000
DTEND;TZID=UTC:20250312T110000
DTSTAMP:20260421T181830
CREATED:20250326T152435Z
LAST-MODIFIED:20250326T152435Z
UID:10002090-1741773600-1741777200@newrysurestart.org
SUMMARY:Toddler and Talk
DESCRIPTION:Four-week programme to enhance speech language & communication development through play by having an opportunity to experience: \n• Interaction with peers\n• Activities to further develop attention and listening skills\n• Turn taking and waiting\n• Developing children’s speech language and communication skills through use of signs\, gestures\, and extending their vocabulary by following your child’s lead. \nBooking Form
URL:https://newrysurestart.org/booking/toddle-and-talk/2025-03-12/
LOCATION:Fiveways\, 101 Armagh Rd\, Newry\, BT35 6PW
ORGANIZER;CN="Adele T":MAILTO:adelet@newrysurestart.org
END:VEVENT
BEGIN:VEVENT
DTSTART;TZID=UTC:20250312T110000
DTEND;TZID=UTC:20250312T120000
DTSTAMP:20260421T181830
CREATED:20250326T152527Z
LAST-MODIFIED:20250326T152527Z
UID:10004822-1741777200-1741780800@newrysurestart.org
SUMMARY:Breastfeeding Support Group & Coffee Morning
DESCRIPTION:Our weekly drop-in support group\, all breastfeeding mums\, babies and antenatal women welcome. Delivered in partnership with the Health Visiting Team in the SH&SCT.
URL:https://newrysurestart.org/booking/breastfeeding-support-group-coffee-morning/2025-03-12/
LOCATION:Newry Leisure Centre (Training Room)\, 60 Cecil Street\, Newry\, BT35 6AU\, United Kingdom
ORGANIZER;CN="Sandra H":MAILTO:sandrah@newrysurestart.org
END:VEVENT
BEGIN:VEVENT
DTSTART;TZID=UTC:20250312T130000
DTEND;TZID=UTC:20250312T140000
DTSTAMP:20260421T181830
CREATED:20250326T152435Z
LAST-MODIFIED:20250326T152435Z
UID:10004475-1741784400-1741788000@newrysurestart.org
SUMMARY:Young Parents Group
DESCRIPTION:Bi weekly drop-in support group for young parents and carers with babies from birth to 2 years of age.\nDelivered in Partnership with the Family Nurse Partnership.
URL:https://newrysurestart.org/booking/young-parents-group-4/2025-03-12/
LOCATION:Fiveways\, 101 Armagh Rd\, Newry\, BT35 6PW
ORGANIZER;CN="Karen S":MAILTO:karens@newrysurestart.org
END:VEVENT
BEGIN:VEVENT
DTSTART;TZID=UTC:20250312T130000
DTEND;TZID=UTC:20250312T140000
DTSTAMP:20260421T181830
CREATED:20250326T152525Z
LAST-MODIFIED:20250326T152525Z
UID:10004340-1741784400-1741788000@newrysurestart.org
SUMMARY:Young Parents Group
DESCRIPTION:Bi weekly drop-in support group for young parents and carers with babies from birth to 2 years of age.\nDelivered in Partnership with the Family Nurse Partnership.
URL:https://newrysurestart.org/booking/young-parents-group/2025-03-12/
LOCATION:Fiveways\, 101 Armagh Rd\, Newry\, BT35 6PW
ORGANIZER;CN="Karen S":MAILTO:karens@newrysurestart.org
END:VEVENT
BEGIN:VEVENT
DTSTART;TZID=UTC:20250313T100000
DTEND;TZID=UTC:20250313T113000
DTSTAMP:20260421T181830
CREATED:20250326T152526Z
LAST-MODIFIED:20250326T152526Z
UID:10005155-1741860000-1741865400@newrysurestart.org
SUMMARY:All about us Parent & Child Group
DESCRIPTION:Our weekly drop-in support group for families with a young child who require additional support
URL:https://newrysurestart.org/booking/all-about-us-parent-child-group-2/2025-03-13/
LOCATION:Derrybeg Community Centre\, Derrybeg Park\, Newry\, BT35 6EZ
ORGANIZER;CN="Charmaine McC":MAILTO:charmaine@newrysurestart.org
END:VEVENT
BEGIN:VEVENT
DTSTART;TZID=UTC:20250313T103000
DTEND;TZID=UTC:20250313T113000
DTSTAMP:20260421T181830
CREATED:20250326T152435Z
LAST-MODIFIED:20250326T152435Z
UID:10002147-1741861800-1741865400@newrysurestart.org
SUMMARY:Ethnic Minorities and Roma Group
DESCRIPTION:Our weekly drop-in support group for members of the Roma community and Ethnic Minorities. Delivered in Partnership with the Early Years Toybox Project.
URL:https://newrysurestart.org/booking/ethnic-minorities-and-roma-group/2025-03-13/
LOCATION:Altnaveigh House\, Belfast Road\, 51 Downshire Rd\, Newry\, BT34 1EE
ORGANIZER;CN="Karen S":MAILTO:karens@newrysurestart.org
END:VEVENT
BEGIN:VEVENT
DTSTART;TZID=UTC:20250313T103000
DTEND;TZID=UTC:20250313T113000
DTSTAMP:20260421T181830
CREATED:20250326T152526Z
LAST-MODIFIED:20250326T152526Z
UID:10002670-1741861800-1741865400@newrysurestart.org
SUMMARY:Parent\, Carer & Toddler Group
DESCRIPTION:Our weekly drop-in early learning and play group for parents\, carers and children up to their 4th birthday.
URL:https://newrysurestart.org/booking/parent-carer-toddler-group-3/2025-03-13/
LOCATION:St Peter’s Parish Centre Warrenpoint\, Great Georges St S\, Warrenpoint\, Newry\, BT34 3NF
ORGANIZER;CN="Karen S":MAILTO:karens@newrysurestart.org
END:VEVENT
BEGIN:VEVENT
DTSTART;TZID=UTC:20250317T103000
DTEND;TZID=UTC:20250317T233000
DTSTAMP:20260421T181830
CREATED:20250326T152434Z
LAST-MODIFIED:20250326T152434Z
UID:10000912-1742207400-1742254200@newrysurestart.org
SUMMARY:Parent\, Carer & Toddler Group
DESCRIPTION:Our weekly drop-in early learning and play group for parents\, carers and children up to their 4th birthday.
URL:https://newrysurestart.org/booking/parent-carer-toddler-group-4/
LOCATION:Altnaveigh House\, Belfast Road\, 51 Downshire Rd\, Newry\, BT34 1EE
ORGANIZER;CN="Karen S":MAILTO:karens@newrysurestart.org
END:VEVENT
BEGIN:VEVENT
DTSTART;TZID=UTC:20250318T093000
DTEND;TZID=UTC:20250318T103000
DTSTAMP:20260421T181830
CREATED:20250326T152527Z
LAST-MODIFIED:20250326T152527Z
UID:10000378-1742290200-1742293800@newrysurestart.org
SUMMARY:Tiny Beats
DESCRIPTION:Our weekly drop in musical rhyme and dance group suitable for all ages 4 and under.
URL:https://newrysurestart.org/booking/tiny-beats/2025-03-18/
LOCATION:Derrybeg Community Centre\, Derrybeg Park\, Newry\, BT35 6EZ
ORGANIZER;CN="Karen S":MAILTO:karens@newrysurestart.org
END:VEVENT
BEGIN:VEVENT
DTSTART;TZID=UTC:20250319T100000
DTEND;TZID=UTC:20250319T110000
DTSTAMP:20260421T181830
CREATED:20250326T152435Z
LAST-MODIFIED:20250326T152435Z
UID:10002091-1742378400-1742382000@newrysurestart.org
SUMMARY:Toddler and Talk
DESCRIPTION:Four-week programme to enhance speech language & communication development through play by having an opportunity to experience: \n• Interaction with peers\n• Activities to further develop attention and listening skills\n• Turn taking and waiting\n• Developing children’s speech language and communication skills through use of signs\, gestures\, and extending their vocabulary by following your child’s lead. \nBooking Form
URL:https://newrysurestart.org/booking/toddle-and-talk/2025-03-19/
LOCATION:Fiveways\, 101 Armagh Rd\, Newry\, BT35 6PW
ORGANIZER;CN="Adele T":MAILTO:adelet@newrysurestart.org
END:VEVENT
BEGIN:VEVENT
DTSTART;TZID=UTC:20250319T110000
DTEND;TZID=UTC:20250319T120000
DTSTAMP:20260421T181830
CREATED:20250326T152527Z
LAST-MODIFIED:20250326T152527Z
UID:10004823-1742382000-1742385600@newrysurestart.org
SUMMARY:Breastfeeding Support Group & Coffee Morning
DESCRIPTION:Our weekly drop-in support group\, all breastfeeding mums\, babies and antenatal women welcome. Delivered in partnership with the Health Visiting Team in the SH&SCT.
URL:https://newrysurestart.org/booking/breastfeeding-support-group-coffee-morning/2025-03-19/
LOCATION:Newry Leisure Centre (Training Room)\, 60 Cecil Street\, Newry\, BT35 6AU\, United Kingdom
ORGANIZER;CN="Sandra H":MAILTO:sandrah@newrysurestart.org
END:VEVENT
BEGIN:VEVENT
DTSTART;TZID=UTC:20250320T100000
DTEND;TZID=UTC:20250320T113000
DTSTAMP:20260421T181830
CREATED:20250326T152526Z
LAST-MODIFIED:20250326T152526Z
UID:10005156-1742464800-1742470200@newrysurestart.org
SUMMARY:All about us Parent & Child Group
DESCRIPTION:Our weekly drop-in support group for families with a young child who require additional support
URL:https://newrysurestart.org/booking/all-about-us-parent-child-group-2/2025-03-20/
LOCATION:Derrybeg Community Centre\, Derrybeg Park\, Newry\, BT35 6EZ
ORGANIZER;CN="Charmaine McC":MAILTO:charmaine@newrysurestart.org
END:VEVENT
BEGIN:VEVENT
DTSTART;TZID=UTC:20250320T103000
DTEND;TZID=UTC:20250320T113000
DTSTAMP:20260421T181830
CREATED:20250326T152435Z
LAST-MODIFIED:20250326T152435Z
UID:10002148-1742466600-1742470200@newrysurestart.org
SUMMARY:Ethnic Minorities and Roma Group
DESCRIPTION:Our weekly drop-in support group for members of the Roma community and Ethnic Minorities. Delivered in Partnership with the Early Years Toybox Project.
URL:https://newrysurestart.org/booking/ethnic-minorities-and-roma-group/2025-03-20/
LOCATION:Altnaveigh House\, Belfast Road\, 51 Downshire Rd\, Newry\, BT34 1EE
ORGANIZER;CN="Karen S":MAILTO:karens@newrysurestart.org
END:VEVENT
BEGIN:VEVENT
DTSTART;TZID=UTC:20250320T103000
DTEND;TZID=UTC:20250320T113000
DTSTAMP:20260421T181830
CREATED:20250326T152526Z
LAST-MODIFIED:20250326T152526Z
UID:10002671-1742466600-1742470200@newrysurestart.org
SUMMARY:Parent\, Carer & Toddler Group
DESCRIPTION:Our weekly drop-in early learning and play group for parents\, carers and children up to their 4th birthday.
URL:https://newrysurestart.org/booking/parent-carer-toddler-group-3/2025-03-20/
LOCATION:St Peter’s Parish Centre Warrenpoint\, Great Georges St S\, Warrenpoint\, Newry\, BT34 3NF
ORGANIZER;CN="Karen S":MAILTO:karens@newrysurestart.org
END:VEVENT
BEGIN:VEVENT
DTSTART;TZID=UTC:20250321T100000
DTEND;TZID=UTC:20250321T130000
DTSTAMP:20260421T181830
CREATED:20250326T152434Z
LAST-MODIFIED:20250326T152434Z
UID:10002928-1742551200-1742562000@newrysurestart.org
SUMMARY:Development Programme for 2-3 Year Olds Open Day
DESCRIPTION:Open day for children eligible to apply for Development Programme for 2-3 Year Olds. \nAll welcome \n*Children must be eligible to register with Newry Sure Start and born between July 2nd 2022 and July 1st 2023. For further information email:\ncatherinemcc@newrysurestart.org
URL:https://newrysurestart.org/booking/development-programme-for-2-3-year-olds-open-day/
LOCATION:St Malachy’s Primary School\, 11 Martins Lane\, Newry\, BT35 8PJ
ORGANIZER;CN="Charmaine McC":MAILTO:charmaine@newrysurestart.org
END:VEVENT
BEGIN:VEVENT
DTSTART;TZID=UTC:20250324T103000
DTEND;TZID=UTC:20250324T113000
DTSTAMP:20260421T181830
CREATED:20250326T152528Z
LAST-MODIFIED:20250408T121108Z
UID:10000913-1742812200-1742815800@newrysurestart.org
SUMMARY:Parent\, Carer & Toddler Group
DESCRIPTION:Our weekly drop-in early learning and play group for parents\, carers and children up to their 4th birthday.
URL:https://newrysurestart.org/booking/parent-carer-toddler-group/2025-03-24/
LOCATION:Altnaveigh House\, Belfast Road\, 51 Downshire Rd\, Newry\, BT34 1EE
ORGANIZER;CN="Karen S":MAILTO:karens@newrysurestart.org
END:VEVENT
BEGIN:VEVENT
DTSTART;TZID=UTC:20250325T093000
DTEND;TZID=UTC:20250325T103000
DTSTAMP:20260421T181830
CREATED:20250326T152527Z
LAST-MODIFIED:20250326T152527Z
UID:10000379-1742895000-1742898600@newrysurestart.org
SUMMARY:Tiny Beats
DESCRIPTION:Our weekly drop in musical rhyme and dance group suitable for all ages 4 and under.
URL:https://newrysurestart.org/booking/tiny-beats/2025-03-25/
LOCATION:Derrybeg Community Centre\, Derrybeg Park\, Newry\, BT35 6EZ
ORGANIZER;CN="Karen S":MAILTO:karens@newrysurestart.org
END:VEVENT
BEGIN:VEVENT
DTSTART;TZID=UTC:20250326T100000
DTEND;TZID=UTC:20250326T110000
DTSTAMP:20260421T181830
CREATED:20250326T152435Z
LAST-MODIFIED:20250326T152435Z
UID:10002092-1742983200-1742986800@newrysurestart.org
SUMMARY:Toddler and Talk
DESCRIPTION:Four-week programme to enhance speech language & communication development through play by having an opportunity to experience: \n• Interaction with peers\n• Activities to further develop attention and listening skills\n• Turn taking and waiting\n• Developing children’s speech language and communication skills through use of signs\, gestures\, and extending their vocabulary by following your child’s lead. \nBooking Form
URL:https://newrysurestart.org/booking/toddle-and-talk/2025-03-26/
LOCATION:Fiveways\, 101 Armagh Rd\, Newry\, BT35 6PW
ORGANIZER;CN="Adele T":MAILTO:adelet@newrysurestart.org
END:VEVENT
BEGIN:VEVENT
DTSTART;TZID=UTC:20250326T110000
DTEND;TZID=UTC:20250326T120000
DTSTAMP:20260421T181830
CREATED:20250326T152527Z
LAST-MODIFIED:20250326T152527Z
UID:10004824-1742986800-1742990400@newrysurestart.org
SUMMARY:Breastfeeding Support Group & Coffee Morning
DESCRIPTION:Our weekly drop-in support group\, all breastfeeding mums\, babies and antenatal women welcome. Delivered in partnership with the Health Visiting Team in the SH&SCT.
URL:https://newrysurestart.org/booking/breastfeeding-support-group-coffee-morning/2025-03-26/
LOCATION:Newry Leisure Centre (Training Room)\, 60 Cecil Street\, Newry\, BT35 6AU\, United Kingdom
ORGANIZER;CN="Sandra H":MAILTO:sandrah@newrysurestart.org
END:VEVENT
BEGIN:VEVENT
DTSTART;TZID=UTC:20250326T130000
DTEND;TZID=UTC:20250326T140000
DTSTAMP:20260421T181830
CREATED:20250326T152435Z
LAST-MODIFIED:20250326T152435Z
UID:10004476-1742994000-1742997600@newrysurestart.org
SUMMARY:Young Parents Group
DESCRIPTION:Bi weekly drop-in support group for young parents and carers with babies from birth to 2 years of age.\nDelivered in Partnership with the Family Nurse Partnership.
URL:https://newrysurestart.org/booking/young-parents-group-4/2025-03-26/
LOCATION:Fiveways\, 101 Armagh Rd\, Newry\, BT35 6PW
ORGANIZER;CN="Karen S":MAILTO:karens@newrysurestart.org
END:VEVENT
BEGIN:VEVENT
DTSTART;TZID=UTC:20250326T130000
DTEND;TZID=UTC:20250326T140000
DTSTAMP:20260421T181830
CREATED:20250326T152525Z
LAST-MODIFIED:20250326T152525Z
UID:10004341-1742994000-1742997600@newrysurestart.org
SUMMARY:Young Parents Group
DESCRIPTION:Bi weekly drop-in support group for young parents and carers with babies from birth to 2 years of age.\nDelivered in Partnership with the Family Nurse Partnership.
URL:https://newrysurestart.org/booking/young-parents-group/2025-03-26/
LOCATION:Fiveways\, 101 Armagh Rd\, Newry\, BT35 6PW
ORGANIZER;CN="Karen S":MAILTO:karens@newrysurestart.org
END:VEVENT
END:VCALENDAR