BEGIN:VCALENDAR
VERSION:2.0
PRODID:-//Newry SureStart - ECPv6.15.12.2//NONSGML v1.0//EN
CALSCALE:GREGORIAN
METHOD:PUBLISH
X-WR-CALNAME:Newry SureStart
X-ORIGINAL-URL:https://newrysurestart.org
X-WR-CALDESC:Events for Newry SureStart
REFRESH-INTERVAL;VALUE=DURATION:PT1H
X-Robots-Tag:noindex
X-PUBLISHED-TTL:PT1H
BEGIN:VTIMEZONE
TZID:UTC
BEGIN:STANDARD
TZOFFSETFROM:+0000
TZOFFSETTO:+0000
TZNAME:UTC
DTSTART:20240101T000000
END:STANDARD
END:VTIMEZONE
BEGIN:VEVENT
DTSTART;TZID=UTC:20250501T100000
DTEND;TZID=UTC:20250501T120000
DTSTAMP:20260421T143021
CREATED:20250403T145427Z
LAST-MODIFIED:20250403T145427Z
UID:10005663-1746093600-1746100800@newrysurestart.org
SUMMARY:Lets Talk with your Baby Elkan
DESCRIPTION:An interactive programme for parents/carers and their babies aged from 3months – 12 months which promotes positive adult child interactions\, early attachment and communication skills.
URL:https://newrysurestart.org/booking/lets-talk-with-your-baby-elkan/2025-05-01/
LOCATION:Fiveways\, 101 Armagh Rd\, Newry\, BT35 6PW
ORGANIZER;CN="Adele T":MAILTO:adelet@newrysurestart.org
END:VEVENT
BEGIN:VEVENT
DTSTART;TZID=UTC:20250501T103000
DTEND;TZID=UTC:20250501T113000
DTSTAMP:20260421T143021
CREATED:20250326T152526Z
LAST-MODIFIED:20250326T152526Z
UID:10002677-1746095400-1746099000@newrysurestart.org
SUMMARY:Parent\, Carer & Toddler Group
DESCRIPTION:Our weekly drop-in early learning and play group for parents\, carers and children up to their 4th birthday.
URL:https://newrysurestart.org/booking/parent-carer-toddler-group-3/2025-05-01/
LOCATION:St Peter’s Parish Centre Warrenpoint\, Great Georges St S\, Warrenpoint\, Newry\, BT34 3NF
ORGANIZER;CN="Karen S":MAILTO:karens@newrysurestart.org
END:VEVENT
BEGIN:VEVENT
DTSTART;TZID=UTC:20250501T103000
DTEND;TZID=UTC:20250501T114500
DTSTAMP:20260421T143021
CREATED:20250326T152430Z
LAST-MODIFIED:20250326T152430Z
UID:10002154-1746095400-1746099900@newrysurestart.org
SUMMARY:"Small World" Parent and Toddler Group 
DESCRIPTION:Newry SureStart’s Parent and Toddler Group is dedicated to fostering cultural awareness and inclusiveness by exploring diverse cultures from around the world.
URL:https://newrysurestart.org/booking/small-world-parent-and-toddler-group/2025-05-01/
LOCATION:Altnaveigh House\, Belfast Road\, 51 Downshire Rd\, Newry\, BT34 1EE
ORGANIZER;CN="Karen S":MAILTO:karens@newrysurestart.org
END:VEVENT
BEGIN:VEVENT
DTSTART;TZID=UTC:20250505T080000
DTEND;TZID=UTC:20250505T170000
DTSTAMP:20260421T143021
CREATED:20250403T145914Z
LAST-MODIFIED:20250403T145914Z
UID:10005766-1746432000-1746464400@newrysurestart.org
SUMMARY:Bank Holiday - Project Closed
DESCRIPTION:
URL:https://newrysurestart.org/booking/bank-holiday-project-closed/
END:VEVENT
BEGIN:VEVENT
DTSTART;TZID=UTC:20250506T093000
DTEND;TZID=UTC:20250506T101500
DTSTAMP:20260421T143021
CREATED:20250326T152433Z
LAST-MODIFIED:20250408T120655Z
UID:10000385-1746523800-1746526500@newrysurestart.org
SUMMARY:Tiny Beats
DESCRIPTION:Our weekly drop in musical rhyme and dance group suitable for all ages 4 and under.
URL:https://newrysurestart.org/booking/tiny-beats-2/2025-05-06/
LOCATION:Derrybeg Community Centre\, Derrybeg Park\, Newry\, BT35 6EZ
ORGANIZER;CN="Karen S":MAILTO:karens@newrysurestart.org
END:VEVENT
BEGIN:VEVENT
DTSTART;TZID=UTC:20250506T100000
DTEND;TZID=UTC:20250506T120000
DTSTAMP:20260421T143021
CREATED:20250403T131337Z
LAST-MODIFIED:20250403T131338Z
UID:10005105-1746525600-1746532800@newrysurestart.org
SUMMARY:Paediatric First Aid (Limited creche available)
DESCRIPTION:Our Paediatric First Aid course equips you with essential skills to protect your family and gives you the confidence to handle emergencies effectively. 4 week course.
URL:https://newrysurestart.org/booking/paediatric-first-aid-limited-creche-available-2-2/
LOCATION:Fiveways\, 101 Armagh Rd\, Newry\, BT35 6PW
ORGANIZER;CN="Karen Mc":MAILTO:karenmcgrath@newrysurestart.org
END:VEVENT
BEGIN:VEVENT
DTSTART;TZID=UTC:20250506T110000
DTEND;TZID=UTC:20250506T120000
DTSTAMP:20260421T143021
CREATED:20250403T123408Z
LAST-MODIFIED:20250408T083553Z
UID:10006205-1746529200-1746532800@newrysurestart.org
SUMMARY:Infant Massage
DESCRIPTION:4 Week course \nInfant massage offers a range of benefits for both babies and parents. For babies\, it can help improve sleep quality\, reduce stress\, and promote healthy physical and emotional development. Gentle strokes and rhythmic movements can soothe a fussy baby\, aid digestion\, and enhance circulation \nBooking Form
URL:https://newrysurestart.org/booking/infant-massage-2-2/2025-05-06/
LOCATION:Derrybeg Community Centre\, Derrybeg Park\, Newry\, BT35 6EZ
ORGANIZER;CN="Thelma D":MAILTO:thelmad@newrysurestart.org
END:VEVENT
BEGIN:VEVENT
DTSTART;TZID=UTC:20250507T100000
DTEND;TZID=UTC:20250507T110000
DTSTAMP:20260421T143021
CREATED:20250326T152200Z
LAST-MODIFIED:20250516T113207Z
UID:10003224-1746612000-1746615600@newrysurestart.org
SUMMARY:Toddle and Talk
DESCRIPTION:Four-week programme to enhance speech\, language and communication development through play .  \nBooking Form
URL:https://newrysurestart.org/booking/toddle-and-talk-2/2025-05-07/
LOCATION:Fiveways\, 101 Armagh Rd\, Newry\, BT35 6PW
ORGANIZER;CN="Adele T":MAILTO:adelet@newrysurestart.org
END:VEVENT
BEGIN:VEVENT
DTSTART;TZID=UTC:20250507T100000
DTEND;TZID=UTC:20250507T110000
DTSTAMP:20260421T143021
CREATED:20250326T152433Z
LAST-MODIFIED:20250414T095233Z
UID:10004489-1746612000-1746615600@newrysurestart.org
SUMMARY:Bumps and Babies Club
DESCRIPTION:Our weekly drop-in support group for parents and carers with babies from birth to 12 months of age.
URL:https://newrysurestart.org/booking/bumps-and-babies-club-2/2025-05-07/
LOCATION:Newry Leisure Centre (Training Room)\, 60 Cecil Street\, Newry\, BT35 6AU\, United Kingdom
ORGANIZER;CN="Sandra H":MAILTO:sandrah@newrysurestart.org
END:VEVENT
BEGIN:VEVENT
DTSTART;TZID=UTC:20250507T110000
DTEND;TZID=UTC:20250507T120000
DTSTAMP:20260421T143021
CREATED:20250414T105254Z
LAST-MODIFIED:20250414T105256Z
UID:10004830-1746615600-1746619200@newrysurestart.org
SUMMARY:Breastfeeding Support Group & Coffee Morning
DESCRIPTION:Our weekly drop-in support group\, all breastfeeding mums\, babies and antenatal women welcome. Delivered in partnership with the Health Visiting Team in the SH&SCT.
URL:https://newrysurestart.org/booking/breastfeeding-support-group-coffee-morning-2/2025-05-07/
LOCATION:Newry Leisure Centre (Training Room)\, 60 Cecil Street\, Newry\, BT35 6AU\, United Kingdom
ORGANIZER;CN="Sandra H":MAILTO:sandrah@newrysurestart.org
END:VEVENT
BEGIN:VEVENT
DTSTART;TZID=UTC:20250507T130000
DTEND;TZID=UTC:20250507T140000
DTSTAMP:20260421T143021
CREATED:20250326T152435Z
LAST-MODIFIED:20250326T152435Z
UID:10004479-1746622800-1746626400@newrysurestart.org
SUMMARY:Young Parents Group
DESCRIPTION:Bi weekly drop-in support group for young parents and carers with babies from birth to 2 years of age.\nDelivered in Partnership with the Family Nurse Partnership.
URL:https://newrysurestart.org/booking/young-parents-group-4/2025-05-07/
LOCATION:Fiveways\, 101 Armagh Rd\, Newry\, BT35 6PW
ORGANIZER;CN="Karen S":MAILTO:karens@newrysurestart.org
END:VEVENT
BEGIN:VEVENT
DTSTART;TZID=UTC:20250507T190000
DTEND;TZID=UTC:20250507T200000
DTSTAMP:20260421T143021
CREATED:20250326T152158Z
LAST-MODIFIED:20250326T152301Z
UID:10003831-1746644400-1746648000@newrysurestart.org
SUMMARY:Boogie Bounce Fitness Class
DESCRIPTION:Join us for a fun and energetic exercise program on a mini trampoline! All parents are welcome to join in the fun. Contact Rebekah to book your spot today!”  \nHill Street\, Newry   \nBooking Form
URL:https://newrysurestart.org/booking/boogie-bounce-fitness-class/
ORGANIZER;CN="Karen Mc":MAILTO:karenmcgrath@newrysurestart.org
END:VEVENT
BEGIN:VEVENT
DTSTART;TZID=UTC:20250507T193000
DTEND;TZID=UTC:20250507T203000
DTSTAMP:20260421T143021
CREATED:20250326T152158Z
LAST-MODIFIED:20250326T152301Z
UID:10003887-1746646200-1746649800@newrysurestart.org
SUMMARY:Antenatal Pilates
DESCRIPTION:4-week Antenatal Pilates delivered by Catherine Elliott Physiotherapist.   \nThomas Davis Centre     \n 
URL:https://newrysurestart.org/booking/antenatal-pilates/2025-05-07/
ORGANIZER;CN="Mary R":MAILTO:maryr@newrysurestart.org
END:VEVENT
BEGIN:VEVENT
DTSTART;TZID=UTC:20250508T100000
DTEND;TZID=UTC:20250508T120000
DTSTAMP:20260421T143021
CREATED:20250403T145427Z
LAST-MODIFIED:20250403T145427Z
UID:10005664-1746698400-1746705600@newrysurestart.org
SUMMARY:Lets Talk with your Baby Elkan
DESCRIPTION:An interactive programme for parents/carers and their babies aged from 3months – 12 months which promotes positive adult child interactions\, early attachment and communication skills.
URL:https://newrysurestart.org/booking/lets-talk-with-your-baby-elkan/2025-05-08/
LOCATION:Fiveways\, 101 Armagh Rd\, Newry\, BT35 6PW
ORGANIZER;CN="Adele T":MAILTO:adelet@newrysurestart.org
END:VEVENT
BEGIN:VEVENT
DTSTART;TZID=UTC:20250508T103000
DTEND;TZID=UTC:20250508T113000
DTSTAMP:20260421T143021
CREATED:20250326T152526Z
LAST-MODIFIED:20250326T152526Z
UID:10002678-1746700200-1746703800@newrysurestart.org
SUMMARY:Parent\, Carer & Toddler Group
DESCRIPTION:Our weekly drop-in early learning and play group for parents\, carers and children up to their 4th birthday.
URL:https://newrysurestart.org/booking/parent-carer-toddler-group-3/2025-05-08/
LOCATION:St Peter’s Parish Centre Warrenpoint\, Great Georges St S\, Warrenpoint\, Newry\, BT34 3NF
ORGANIZER;CN="Karen S":MAILTO:karens@newrysurestart.org
END:VEVENT
BEGIN:VEVENT
DTSTART;TZID=UTC:20250508T103000
DTEND;TZID=UTC:20250508T114500
DTSTAMP:20260421T143021
CREATED:20250326T152430Z
LAST-MODIFIED:20250326T152430Z
UID:10002155-1746700200-1746704700@newrysurestart.org
SUMMARY:"Small World" Parent and Toddler Group 
DESCRIPTION:Newry SureStart’s Parent and Toddler Group is dedicated to fostering cultural awareness and inclusiveness by exploring diverse cultures from around the world.
URL:https://newrysurestart.org/booking/small-world-parent-and-toddler-group/2025-05-08/
LOCATION:Altnaveigh House\, Belfast Road\, 51 Downshire Rd\, Newry\, BT34 1EE
ORGANIZER;CN="Karen S":MAILTO:karens@newrysurestart.org
END:VEVENT
BEGIN:VEVENT
DTSTART;TZID=UTC:20250512T103000
DTEND;TZID=UTC:20250512T113000
DTSTAMP:20260421T143021
CREATED:20250502T095757Z
LAST-MODIFIED:20250502T100144Z
UID:10005655-1747045800-1747049400@newrysurestart.org
SUMMARY:Parent\, Carer & Toddler Group
DESCRIPTION:Our weekly drop-in early learning and play group for parents\, carers and children up to their 4th birthday.
URL:https://newrysurestart.org/booking/parent-carer-toddler-group-2-4/2025-05-12/
LOCATION:Altnaveigh House\, Belfast Road\, 51 Downshire Rd\, Newry\, BT34 1EE
ORGANIZER;CN="Karen S":MAILTO:karens@newrysurestart.org
END:VEVENT
BEGIN:VEVENT
DTSTART;TZID=UTC:20250513T093000
DTEND;TZID=UTC:20250513T101500
DTSTAMP:20260421T143021
CREATED:20250326T152433Z
LAST-MODIFIED:20250408T120655Z
UID:10000386-1747128600-1747131300@newrysurestart.org
SUMMARY:Tiny Beats
DESCRIPTION:Our weekly drop in musical rhyme and dance group suitable for all ages 4 and under.
URL:https://newrysurestart.org/booking/tiny-beats-2/2025-05-13/
LOCATION:Derrybeg Community Centre\, Derrybeg Park\, Newry\, BT35 6EZ
ORGANIZER;CN="Karen S":MAILTO:karens@newrysurestart.org
END:VEVENT
BEGIN:VEVENT
DTSTART;TZID=UTC:20250514T100000
DTEND;TZID=UTC:20250514T110000
DTSTAMP:20260421T143021
CREATED:20250326T152200Z
LAST-MODIFIED:20250516T113207Z
UID:10003225-1747216800-1747220400@newrysurestart.org
SUMMARY:Toddle and Talk
DESCRIPTION:Four-week programme to enhance speech\, language and communication development through play .  \nBooking Form
URL:https://newrysurestart.org/booking/toddle-and-talk-2/2025-05-14/
LOCATION:Fiveways\, 101 Armagh Rd\, Newry\, BT35 6PW
ORGANIZER;CN="Adele T":MAILTO:adelet@newrysurestart.org
END:VEVENT
BEGIN:VEVENT
DTSTART;TZID=UTC:20250514T100000
DTEND;TZID=UTC:20250514T110000
DTSTAMP:20260421T143021
CREATED:20250326T152433Z
LAST-MODIFIED:20250414T095233Z
UID:10004490-1747216800-1747220400@newrysurestart.org
SUMMARY:Bumps and Babies Club
DESCRIPTION:Our weekly drop-in support group for parents and carers with babies from birth to 12 months of age.
URL:https://newrysurestart.org/booking/bumps-and-babies-club-2/2025-05-14/
LOCATION:Newry Leisure Centre (Training Room)\, 60 Cecil Street\, Newry\, BT35 6AU\, United Kingdom
ORGANIZER;CN="Sandra H":MAILTO:sandrah@newrysurestart.org
END:VEVENT
BEGIN:VEVENT
DTSTART;TZID=UTC:20250514T103000
DTEND;TZID=UTC:20250514T113000
DTSTAMP:20260421T143021
CREATED:20250326T152158Z
LAST-MODIFIED:20250512T090932Z
UID:10004480-1747218600-1747222200@newrysurestart.org
SUMMARY:“Magic Minds” Parent \, Carer & Toddler Group
DESCRIPTION:Newry SureStart is excited to introduce the Magic Minds Parent and Toddler Group.\, a dedicated space for children with additional needs\, neurodiverse conditions\, developmental delays or those \n 
URL:https://newrysurestart.org/booking/magic-minds-parent-carer-toddler-group/2025-05-14/
LOCATION:Altnaveigh House\, Belfast Road\, 51 Downshire Rd\, Newry\, BT34 1EE
ORGANIZER;CN="Karen S":MAILTO:karens@newrysurestart.org
END:VEVENT
BEGIN:VEVENT
DTSTART;TZID=UTC:20250514T110000
DTEND;TZID=UTC:20250514T120000
DTSTAMP:20260421T143021
CREATED:20250414T105254Z
LAST-MODIFIED:20250414T105256Z
UID:10004831-1747220400-1747224000@newrysurestart.org
SUMMARY:Breastfeeding Support Group & Coffee Morning
DESCRIPTION:Our weekly drop-in support group\, all breastfeeding mums\, babies and antenatal women welcome. Delivered in partnership with the Health Visiting Team in the SH&SCT.
URL:https://newrysurestart.org/booking/breastfeeding-support-group-coffee-morning-2/2025-05-14/
LOCATION:Newry Leisure Centre (Training Room)\, 60 Cecil Street\, Newry\, BT35 6AU\, United Kingdom
ORGANIZER;CN="Sandra H":MAILTO:sandrah@newrysurestart.org
END:VEVENT
BEGIN:VEVENT
DTSTART;TZID=UTC:20250514T193000
DTEND;TZID=UTC:20250514T203000
DTSTAMP:20260421T143021
CREATED:20250326T152158Z
LAST-MODIFIED:20250326T152301Z
UID:10003888-1747251000-1747254600@newrysurestart.org
SUMMARY:Antenatal Pilates
DESCRIPTION:4-week Antenatal Pilates delivered by Catherine Elliott Physiotherapist.   \nThomas Davis Centre     \n 
URL:https://newrysurestart.org/booking/antenatal-pilates/2025-05-14/
ORGANIZER;CN="Mary R":MAILTO:maryr@newrysurestart.org
END:VEVENT
BEGIN:VEVENT
DTSTART;TZID=UTC:20250515T100000
DTEND;TZID=UTC:20250515T120000
DTSTAMP:20260421T143021
CREATED:20250527T113717Z
LAST-MODIFIED:20250527T113720Z
UID:10005665-1747303200-1747310400@newrysurestart.org
SUMMARY:Lets Talk with your Baby Elkan
DESCRIPTION:An interactive programme for parents/carers and their babies aged from 3months – 12 months which promotes positive adult child interactions\, early attachment and communication skills.
URL:https://newrysurestart.org/booking/lets-talk-with-your-baby-elkan-2/2025-05-15/
LOCATION:Fiveways\, 101 Armagh Rd\, Newry\, BT35 6PW
ORGANIZER;CN="Adele T":MAILTO:adelet@newrysurestart.org
END:VEVENT
BEGIN:VEVENT
DTSTART;TZID=UTC:20250515T103000
DTEND;TZID=UTC:20250515T113000
DTSTAMP:20260421T143021
CREATED:20250326T152526Z
LAST-MODIFIED:20250326T152526Z
UID:10002679-1747305000-1747308600@newrysurestart.org
SUMMARY:Parent\, Carer & Toddler Group
DESCRIPTION:Our weekly drop-in early learning and play group for parents\, carers and children up to their 4th birthday.
URL:https://newrysurestart.org/booking/parent-carer-toddler-group-3/2025-05-15/
LOCATION:St Peter’s Parish Centre Warrenpoint\, Great Georges St S\, Warrenpoint\, Newry\, BT34 3NF
ORGANIZER;CN="Karen S":MAILTO:karens@newrysurestart.org
END:VEVENT
BEGIN:VEVENT
DTSTART;TZID=UTC:20250515T103000
DTEND;TZID=UTC:20250515T114500
DTSTAMP:20260421T143022
CREATED:20250326T152430Z
LAST-MODIFIED:20250326T152430Z
UID:10002156-1747305000-1747309500@newrysurestart.org
SUMMARY:"Small World" Parent and Toddler Group 
DESCRIPTION:Newry SureStart’s Parent and Toddler Group is dedicated to fostering cultural awareness and inclusiveness by exploring diverse cultures from around the world.
URL:https://newrysurestart.org/booking/small-world-parent-and-toddler-group/2025-05-15/
LOCATION:Altnaveigh House\, Belfast Road\, 51 Downshire Rd\, Newry\, BT34 1EE
ORGANIZER;CN="Karen S":MAILTO:karens@newrysurestart.org
END:VEVENT
BEGIN:VEVENT
DTSTART;TZID=UTC:20250519T093000
DTEND;TZID=UTC:20250519T101500
DTSTAMP:20260421T143022
CREATED:20250512T091912Z
LAST-MODIFIED:20250512T091912Z
UID:10006209-1747647000-1747649700@newrysurestart.org
SUMMARY:Library Visit
DESCRIPTION:During our visit\, you’ll have the chance to see the fantastic children’s section\, learn about age-appropriate books and discover the many resources our local library offers families.\nStaff will also be there to help you sign up to library services!
URL:https://newrysurestart.org/booking/library-visit-2/
LOCATION:Newry Library\, 79 Hill Street\, Newry\, BT34 1DG
ORGANIZER;CN="Karen S":MAILTO:karens@newrysurestart.org
END:VEVENT
BEGIN:VEVENT
DTSTART;TZID=UTC:20250519T103000
DTEND;TZID=UTC:20250519T113000
DTSTAMP:20260421T143022
CREATED:20250502T095757Z
LAST-MODIFIED:20250502T100144Z
UID:10005656-1747650600-1747654200@newrysurestart.org
SUMMARY:Parent\, Carer & Toddler Group
DESCRIPTION:Our weekly drop-in early learning and play group for parents\, carers and children up to their 4th birthday.
URL:https://newrysurestart.org/booking/parent-carer-toddler-group-2-4/2025-05-19/
LOCATION:Altnaveigh House\, Belfast Road\, 51 Downshire Rd\, Newry\, BT34 1EE
ORGANIZER;CN="Karen S":MAILTO:karens@newrysurestart.org
END:VEVENT
BEGIN:VEVENT
DTSTART;TZID=UTC:20250520T093000
DTEND;TZID=UTC:20250520T101500
DTSTAMP:20260421T143022
CREATED:20250326T152433Z
LAST-MODIFIED:20250408T120655Z
UID:10000387-1747733400-1747736100@newrysurestart.org
SUMMARY:Tiny Beats
DESCRIPTION:Our weekly drop in musical rhyme and dance group suitable for all ages 4 and under.
URL:https://newrysurestart.org/booking/tiny-beats-2/2025-05-20/
LOCATION:Derrybeg Community Centre\, Derrybeg Park\, Newry\, BT35 6EZ
ORGANIZER;CN="Karen S":MAILTO:karens@newrysurestart.org
END:VEVENT
BEGIN:VEVENT
DTSTART;TZID=UTC:20250520T180000
DTEND;TZID=UTC:20250520T190000
DTSTAMP:20260421T143022
CREATED:20250326T152158Z
LAST-MODIFIED:20250326T152301Z
UID:10003776-1747764000-1747767600@newrysurestart.org
SUMMARY:Time for Dads
DESCRIPTION:Join us for our 3-week programme!.  Connect with other dads and carers while promoting wellbeing through fun and engaging physical activities.  Don’t miss out – lets stay active together !  \nBooking Form
URL:https://newrysurestart.org/booking/time-for-dads/2025-05-20/
LOCATION:Fiveways\, 101 Armagh Rd\, Newry\, BT35 6PW
ORGANIZER;CN="Karen Mc":MAILTO:karenmcgrath@newrysurestart.org
END:VEVENT
END:VCALENDAR