BEGIN:VCALENDAR
VERSION:2.0
PRODID:-//Newry SureStart - ECPv6.15.12.2//NONSGML v1.0//EN
CALSCALE:GREGORIAN
METHOD:PUBLISH
X-ORIGINAL-URL:https://newrysurestart.org
X-WR-CALDESC:Events for Newry SureStart
REFRESH-INTERVAL;VALUE=DURATION:PT1H
X-Robots-Tag:noindex
X-PUBLISHED-TTL:PT1H
BEGIN:VTIMEZONE
TZID:UTC
BEGIN:STANDARD
TZOFFSETFROM:+0000
TZOFFSETTO:+0000
TZNAME:UTC
DTSTART:20240101T000000
END:STANDARD
END:VTIMEZONE
BEGIN:VEVENT
DTSTART;TZID=UTC:20250902T093000
DTEND;TZID=UTC:20250902T103000
DTSTAMP:20260419T200212
CREATED:20250612T102058Z
LAST-MODIFIED:20250612T102058Z
UID:10006484-1756805400-1756809000@newrysurestart.org
SUMMARY:Tiny Beats
DESCRIPTION:Our weekly drop-in musical\, rhyme and dance group. suitable for all ages
URL:https://newrysurestart.org/booking/tiny-beats-4/2025-09-02/
END:VEVENT
BEGIN:VEVENT
DTSTART;TZID=UTC:20250903T100000
DTEND;TZID=UTC:20250903T110000
DTSTAMP:20260419T200212
CREATED:20250612T095508Z
LAST-MODIFIED:20250612T100437Z
UID:10006243-1756893600-1756897200@newrysurestart.org
SUMMARY:Bumps and Babies Club
DESCRIPTION:Our weekly drop-in support group for parents and carers with babies from birth to 12 months of age.
URL:https://newrysurestart.org/booking/bumps-and-babies-club/2025-09-03/
LOCATION:Newry Leisure Centre (Training Room)\, 60 Cecil Street\, Newry\, BT35 6AU\, United Kingdom
ORGANIZER;CN="Sandra H":MAILTO:sandrah@newrysurestart.org
END:VEVENT
BEGIN:VEVENT
DTSTART;TZID=UTC:20250903T103000
DTEND;TZID=UTC:20250903T120000
DTSTAMP:20260419T200212
CREATED:20250612T110005Z
LAST-MODIFIED:20250612T110005Z
UID:10006513-1756895400-1756900800@newrysurestart.org
SUMMARY:Parent\, Carer & Toddler Group
DESCRIPTION:Our weekly drop-in early learning and play group for parents\, carers and children up to their 4th birthday.
URL:https://newrysurestart.org/booking/parent-carer-toddler-group-6/2025-09-03/
LOCATION:Derrybeg Community Centre\, Derrybeg Park\, Newry\, BT35 6EZ
ORGANIZER;CN="Karen S":MAILTO:karens@newrysurestart.org
END:VEVENT
BEGIN:VEVENT
DTSTART;TZID=UTC:20250903T103000
DTEND;TZID=UTC:20250903T140000
DTSTAMP:20260419T200212
CREATED:20250612T105821Z
LAST-MODIFIED:20250616T110126Z
UID:10006539-1756895400-1756908000@newrysurestart.org
SUMMARY:“Magic Minds” Parent\, Carer and Toddler Group
DESCRIPTION:Magic Minds Parent and Toddler Group is  a dedicated space for children with additional needs\, neurodiverse conditions \, developmental delays or those awaiting a diagnosis.
URL:https://newrysurestart.org/booking/magic-minds-parent-carer-and-toddler-group/2025-09-03/
LOCATION:Altnaveigh House\, Belfast Road\, 51 Downshire Rd\, Newry\, BT34 1EE
ORGANIZER;CN="Karen S":MAILTO:karens@newrysurestart.org
END:VEVENT
BEGIN:VEVENT
DTSTART;TZID=UTC:20250903T110000
DTEND;TZID=UTC:20250903T120000
DTSTAMP:20260419T200212
CREATED:20250612T095722Z
LAST-MODIFIED:20250612T100530Z
UID:10006309-1756897200-1756900800@newrysurestart.org
SUMMARY:Breastfeeding  Support Group & Coffee Morning
DESCRIPTION:Our weekly drop-in support group\, all breastfeeding mums\, babies and antenatal women welcome. Delivered \nin partnership with the Health Visiting Team in the SH&SCT.
URL:https://newrysurestart.org/booking/breastfeeding-support-group-coffee-morning-3/2025-09-03/
LOCATION:Newry Leisure Centre (Training Room)\, 60 Cecil Street\, Newry\, BT35 6AU\, United Kingdom
ORGANIZER;CN="Sandra H":MAILTO:sandrah@newrysurestart.org
END:VEVENT
BEGIN:VEVENT
DTSTART;TZID=UTC:20250903T183000
DTEND;TZID=UTC:20250903T193000
DTSTAMP:20260419T200212
CREATED:20250612T104243Z
LAST-MODIFIED:20250612T104444Z
UID:10006502-1756924200-1756927800@newrysurestart.org
SUMMARY:Antenatal Pilates
DESCRIPTION:4-week Antenatal Pilates delivered by Catherine Elliott Physiotherapist BSc MSc MCSP MHCPC APPI AACP \nBooking Only: \nmaryr@newrysurestart.org
URL:https://newrysurestart.org/booking/antenatal-pilates-3/2025-09-03/
LOCATION:Thomas Davis Centre\, 21 Dorans Hill\, Newry\, BT35 8PQ
ORGANIZER;CN="Mary R":MAILTO:maryr@newrysurestart.org
END:VEVENT
BEGIN:VEVENT
DTSTART;TZID=UTC:20250904T100000
DTEND;TZID=UTC:20250904T120000
DTSTAMP:20260419T200212
CREATED:20250612T110905Z
LAST-MODIFIED:20250612T110905Z
UID:10006523-1756980000-1756987200@newrysurestart.org
SUMMARY:In It Together
DESCRIPTION:6 week programme for parents of children with a queried or diagnosed developmental additional need. \nBooking only – limited creche availability \ncharmainem@newrysurestart.org \nVenue to be confirmed
URL:https://newrysurestart.org/booking/in-it-together/2025-09-04/
ORGANIZER;CN="Charmaine McC":MAILTO:charmaine@newrysurestart.org
END:VEVENT
BEGIN:VEVENT
DTSTART;TZID=UTC:20250904T103000
DTEND;TZID=UTC:20250904T113000
DTSTAMP:20260419T200212
CREATED:20250612T110654Z
LAST-MODIFIED:20250612T110654Z
UID:10006519-1756981800-1756985400@newrysurestart.org
SUMMARY:Parent & Toddlers
DESCRIPTION:Our weekly drop-in early learning and play group for parents\, carers and children up to their 4th birthday.
URL:https://newrysurestart.org/booking/parent-toddlers/2025-09-04/
LOCATION:St Peter’s Parish Centre Warrenpoint\, Great Georges St S\, Warrenpoint\, Newry\, BT34 3NF
ORGANIZER;CN="Karen S":MAILTO:karens@newrysurestart.org
END:VEVENT
BEGIN:VEVENT
DTSTART;TZID=UTC:20250904T103000
DTEND;TZID=UTC:20250904T120000
DTSTAMP:20260419T200212
CREATED:20250612T111052Z
LAST-MODIFIED:20250612T111052Z
UID:10006529-1756981800-1756987200@newrysurestart.org
SUMMARY:“Small World” Parent and carer and toddler group
DESCRIPTION:Newry SureStart’s Parent and Toddler Group is dedicated to fostering cultural awareness and inclusiveness by exploring diverse cultures from around the world.
URL:https://newrysurestart.org/booking/small-world-parent-and-carer-and-toddler-group/2025-09-04/
LOCATION:Altnaveigh House\, Belfast Road\, 51 Downshire Rd\, Newry\, BT34 1EE
ORGANIZER;CN="Karen S":MAILTO:karens@newrysurestart.org
END:VEVENT
BEGIN:VEVENT
DTSTART;TZID=UTC:20250904T183000
DTEND;TZID=UTC:20250904T193000
DTSTAMP:20260419T200212
CREATED:20250612T112005Z
LAST-MODIFIED:20250613T091807Z
UID:10006533-1757010600-1757014200@newrysurestart.org
SUMMARY:Join Us for an Informative Talk on Pregnancy and Postpartum Wellness
DESCRIPTION:Are you expecting or recently had a baby ?  Join is for an empowering session with Catherine Elliott Physiotherapist BSc MSc MCSP MHCPC APPI AACP
URL:https://newrysurestart.org/booking/join-us-for-an-informative-talk-on-pregnancy-and-postpartum-wellness/2025-09-04/
LOCATION:Fiveways\, 101 Armagh Rd\, Newry\, BT35 6PW
ORGANIZER;CN="Mary R":MAILTO:maryr@newrysurestart.org
END:VEVENT
BEGIN:VEVENT
DTSTART;TZID=UTC:20250908T100000
DTEND;TZID=UTC:20250908T120000
DTSTAMP:20260419T200212
CREATED:20250612T102327Z
LAST-MODIFIED:20250612T102331Z
UID:10006370-1757325600-1757332800@newrysurestart.org
SUMMARY:Living Life to the Full
DESCRIPTION:Ready to take control of your mental well being?  This six week programme offers practical tools and CBT Therapy techniques to help you manage stress anxiety & low mood.  This could be the change that you are looking for! \nBooking only – limited creche available –  \nKarenmcgrath@newrysurestart.org
URL:https://newrysurestart.org/booking/living-life-to-the-full-2/2025-09-08/
LOCATION:Fiveways\, 101 Armagh Rd\, Newry\, BT35 6PW
ORGANIZER;CN="Karen Mc":MAILTO:karenmcgrath@newrysurestart.org
END:VEVENT
BEGIN:VEVENT
DTSTART;TZID=UTC:20250908T103000
DTEND;TZID=UTC:20250908T113000
DTSTAMP:20260419T200212
CREATED:20250612T093031Z
LAST-MODIFIED:20250612T093031Z
UID:10006224-1757327400-1757331000@newrysurestart.org
SUMMARY:Parent\, Carer & Toddler Group
DESCRIPTION:Our weekly drop-in early learning and play group for parents\, carers and children up to their 4th birthday.
URL:https://newrysurestart.org/booking/parent-carer-toddler-group-5/2025-09-08/
LOCATION:Altnaveigh House\, Belfast Road\, 51 Downshire Rd\, Newry\, BT34 1EE
ORGANIZER;CN="Karen S":MAILTO:karens@newrysurestart.org
END:VEVENT
BEGIN:VEVENT
DTSTART;TZID=UTC:20250908T180000
DTEND;TZID=UTC:20250908T200000
DTSTAMP:20260419T200212
CREATED:20250612T101105Z
LAST-MODIFIED:20250612T102632Z
UID:10006411-1757354400-1757361600@newrysurestart.org
SUMMARY:Paediatric First Aid for Dads
DESCRIPTION:Our Paediatric first aid course equips you with essential skills to protect your family and gives you the confidence to handle emergencies effectively. \nBooking only : Karenmcgrath@newrysurestart.org
URL:https://newrysurestart.org/booking/paediatric-first-aid-for-dads/2025-09-08/
LOCATION:Fiveways\, 101 Armagh Rd\, Newry\, BT35 6PW
ORGANIZER;CN="Karen Mc":MAILTO:karenmcgrath@newrysurestart.org
END:VEVENT
BEGIN:VEVENT
DTSTART;TZID=UTC:20250909T093000
DTEND;TZID=UTC:20250909T103000
DTSTAMP:20260419T200212
CREATED:20250612T102058Z
LAST-MODIFIED:20250612T102058Z
UID:10006485-1757410200-1757413800@newrysurestart.org
SUMMARY:Tiny Beats
DESCRIPTION:Our weekly drop-in musical\, rhyme and dance group. suitable for all ages
URL:https://newrysurestart.org/booking/tiny-beats-4/2025-09-09/
END:VEVENT
BEGIN:VEVENT
DTSTART;TZID=UTC:20250909T103000
DTEND;TZID=UTC:20250909T113000
DTSTAMP:20260419T200212
CREATED:20250612T104038Z
LAST-MODIFIED:20250612T104038Z
UID:10006497-1757413800-1757417400@newrysurestart.org
SUMMARY:Infant Massage
DESCRIPTION:Offers a range of benefits for both babies & parents.  For babies it can help improve sleep quality\, reduce stress and promote healthy physical and emotional development \nBooking only \nkarens@newrysurestart.org
URL:https://newrysurestart.org/booking/infant-massage-3/2025-09-09/
LOCATION:Derrybeg Community Centre\, Derrybeg Park\, Newry\, BT35 6EZ
ORGANIZER;CN="Karen S":MAILTO:karens@newrysurestart.org
END:VEVENT
BEGIN:VEVENT
DTSTART;TZID=UTC:20250910T100000
DTEND;TZID=UTC:20250910T110000
DTSTAMP:20260419T200212
CREATED:20250612T095508Z
LAST-MODIFIED:20250612T100437Z
UID:10006244-1757498400-1757502000@newrysurestart.org
SUMMARY:Bumps and Babies Club
DESCRIPTION:Our weekly drop-in support group for parents and carers with babies from birth to 12 months of age.
URL:https://newrysurestart.org/booking/bumps-and-babies-club/2025-09-10/
LOCATION:Newry Leisure Centre (Training Room)\, 60 Cecil Street\, Newry\, BT35 6AU\, United Kingdom
ORGANIZER;CN="Sandra H":MAILTO:sandrah@newrysurestart.org
END:VEVENT
BEGIN:VEVENT
DTSTART;TZID=UTC:20250910T100000
DTEND;TZID=UTC:20250910T110000
DTSTAMP:20260419T200212
CREATED:20250612T104757Z
LAST-MODIFIED:20250612T104757Z
UID:10006506-1757498400-1757502000@newrysurestart.org
SUMMARY:Toddler & Talk
DESCRIPTION:Four  week programme for parent & toddler  to enhance speech\, language and communication development through play \nBooking only \nadelet@newrysurestart.org
URL:https://newrysurestart.org/booking/toddler-talk/2025-09-10/
LOCATION:Fiveways\, 101 Armagh Rd\, Newry\, BT35 6PW
ORGANIZER;CN="Adele T":MAILTO:adelet@newrysurestart.org
END:VEVENT
BEGIN:VEVENT
DTSTART;TZID=UTC:20250910T103000
DTEND;TZID=UTC:20250910T120000
DTSTAMP:20260419T200212
CREATED:20250612T110005Z
LAST-MODIFIED:20250612T110005Z
UID:10006514-1757500200-1757505600@newrysurestart.org
SUMMARY:Parent\, Carer & Toddler Group
DESCRIPTION:Our weekly drop-in early learning and play group for parents\, carers and children up to their 4th birthday.
URL:https://newrysurestart.org/booking/parent-carer-toddler-group-6/2025-09-10/
LOCATION:Derrybeg Community Centre\, Derrybeg Park\, Newry\, BT35 6EZ
ORGANIZER;CN="Karen S":MAILTO:karens@newrysurestart.org
END:VEVENT
BEGIN:VEVENT
DTSTART;TZID=UTC:20250910T110000
DTEND;TZID=UTC:20250910T120000
DTSTAMP:20260419T200212
CREATED:20250612T095722Z
LAST-MODIFIED:20250612T100530Z
UID:10006310-1757502000-1757505600@newrysurestart.org
SUMMARY:Breastfeeding  Support Group & Coffee Morning
DESCRIPTION:Our weekly drop-in support group\, all breastfeeding mums\, babies and antenatal women welcome. Delivered \nin partnership with the Health Visiting Team in the SH&SCT.
URL:https://newrysurestart.org/booking/breastfeeding-support-group-coffee-morning-3/2025-09-10/
LOCATION:Newry Leisure Centre (Training Room)\, 60 Cecil Street\, Newry\, BT35 6AU\, United Kingdom
ORGANIZER;CN="Sandra H":MAILTO:sandrah@newrysurestart.org
END:VEVENT
BEGIN:VEVENT
DTSTART;TZID=UTC:20250910T130000
DTEND;TZID=UTC:20250910T143000
DTSTAMP:20260419T200212
CREATED:20250612T110317Z
LAST-MODIFIED:20250612T110317Z
UID:10006517-1757509200-1757514600@newrysurestart.org
SUMMARY:Young Parents Group
DESCRIPTION:Our bi- weekly drop-in support group for young parents and carers with babies from birth to 2 years of age. \nDelivered in Partnership with the Family Nurse Partnership.
URL:https://newrysurestart.org/booking/young-parents-group-5/2025-09-10/
LOCATION:Fiveways\, 101 Armagh Rd\, Newry\, BT35 6PW
ORGANIZER;CN="Karen S":MAILTO:karens@newrysurestart.org
END:VEVENT
BEGIN:VEVENT
DTSTART;TZID=UTC:20250910T183000
DTEND;TZID=UTC:20250910T193000
DTSTAMP:20260419T200212
CREATED:20250612T104243Z
LAST-MODIFIED:20250612T104444Z
UID:10006503-1757529000-1757532600@newrysurestart.org
SUMMARY:Antenatal Pilates
DESCRIPTION:4-week Antenatal Pilates delivered by Catherine Elliott Physiotherapist BSc MSc MCSP MHCPC APPI AACP \nBooking Only: \nmaryr@newrysurestart.org
URL:https://newrysurestart.org/booking/antenatal-pilates-3/2025-09-10/
LOCATION:Thomas Davis Centre\, 21 Dorans Hill\, Newry\, BT35 8PQ
ORGANIZER;CN="Mary R":MAILTO:maryr@newrysurestart.org
END:VEVENT
BEGIN:VEVENT
DTSTART;TZID=UTC:20250911T100000
DTEND;TZID=UTC:20250911T120000
DTSTAMP:20260419T200212
CREATED:20250612T110905Z
LAST-MODIFIED:20250612T110905Z
UID:10006524-1757584800-1757592000@newrysurestart.org
SUMMARY:In It Together
DESCRIPTION:6 week programme for parents of children with a queried or diagnosed developmental additional need. \nBooking only – limited creche availability \ncharmainem@newrysurestart.org \nVenue to be confirmed
URL:https://newrysurestart.org/booking/in-it-together/2025-09-11/
ORGANIZER;CN="Charmaine McC":MAILTO:charmaine@newrysurestart.org
END:VEVENT
BEGIN:VEVENT
DTSTART;TZID=UTC:20250911T103000
DTEND;TZID=UTC:20250911T113000
DTSTAMP:20260419T200212
CREATED:20250612T110654Z
LAST-MODIFIED:20250612T110654Z
UID:10006520-1757586600-1757590200@newrysurestart.org
SUMMARY:Parent & Toddlers
DESCRIPTION:Our weekly drop-in early learning and play group for parents\, carers and children up to their 4th birthday.
URL:https://newrysurestart.org/booking/parent-toddlers/2025-09-11/
LOCATION:St Peter’s Parish Centre Warrenpoint\, Great Georges St S\, Warrenpoint\, Newry\, BT34 3NF
ORGANIZER;CN="Karen S":MAILTO:karens@newrysurestart.org
END:VEVENT
BEGIN:VEVENT
DTSTART;TZID=UTC:20250911T103000
DTEND;TZID=UTC:20250911T120000
DTSTAMP:20260419T200212
CREATED:20250612T111052Z
LAST-MODIFIED:20250612T111052Z
UID:10006530-1757586600-1757592000@newrysurestart.org
SUMMARY:“Small World” Parent and carer and toddler group
DESCRIPTION:Newry SureStart’s Parent and Toddler Group is dedicated to fostering cultural awareness and inclusiveness by exploring diverse cultures from around the world.
URL:https://newrysurestart.org/booking/small-world-parent-and-carer-and-toddler-group/2025-09-11/
LOCATION:Altnaveigh House\, Belfast Road\, 51 Downshire Rd\, Newry\, BT34 1EE
ORGANIZER;CN="Karen S":MAILTO:karens@newrysurestart.org
END:VEVENT
BEGIN:VEVENT
DTSTART;TZID=UTC:20250911T183000
DTEND;TZID=UTC:20250911T193000
DTSTAMP:20260419T200212
CREATED:20250612T112005Z
LAST-MODIFIED:20250613T091807Z
UID:10006534-1757615400-1757619000@newrysurestart.org
SUMMARY:Join Us for an Informative Talk on Pregnancy and Postpartum Wellness
DESCRIPTION:Are you expecting or recently had a baby ?  Join is for an empowering session with Catherine Elliott Physiotherapist BSc MSc MCSP MHCPC APPI AACP
URL:https://newrysurestart.org/booking/join-us-for-an-informative-talk-on-pregnancy-and-postpartum-wellness/2025-09-11/
LOCATION:Fiveways\, 101 Armagh Rd\, Newry\, BT35 6PW
ORGANIZER;CN="Mary R":MAILTO:maryr@newrysurestart.org
END:VEVENT
BEGIN:VEVENT
DTSTART;TZID=UTC:20250911T183000
DTEND;TZID=UTC:20250911T193000
DTSTAMP:20260419T200212
CREATED:20250612T112312Z
LAST-MODIFIED:20250612T112312Z
UID:10006537-1757615400-1757619000@newrysurestart.org
SUMMARY:Pilates for Beginners
DESCRIPTION:Introduction to Pilates for Beginners with Catherine Elliott Physiotherapist  BSc MSc MCSP MHCPC APPI AACP \nBooking only : \nrebekahm@newrysurestart.org
URL:https://newrysurestart.org/booking/pilates-for-beginners/2025-09-11/
LOCATION:Thomas Davis Centre\, 21 Dorans Hill\, Newry\, BT35 8PQ
ORGANIZER;CN="Rebekah M":MAILTO:rebekahm@newrysurestart.org
END:VEVENT
BEGIN:VEVENT
DTSTART;TZID=UTC:20250915T100000
DTEND;TZID=UTC:20250915T120000
DTSTAMP:20260419T200212
CREATED:20250612T102327Z
LAST-MODIFIED:20250612T102331Z
UID:10006489-1757930400-1757937600@newrysurestart.org
SUMMARY:Living Life to the Full
DESCRIPTION:Ready to take control of your mental well being?  This six week programme offers practical tools and CBT Therapy techniques to help you manage stress anxiety & low mood.  This could be the change that you are looking for! \nBooking only – limited creche available –  \nKarenmcgrath@newrysurestart.org
URL:https://newrysurestart.org/booking/living-life-to-the-full-2/2025-09-15/
LOCATION:Fiveways\, 101 Armagh Rd\, Newry\, BT35 6PW
ORGANIZER;CN="Karen Mc":MAILTO:karenmcgrath@newrysurestart.org
END:VEVENT
BEGIN:VEVENT
DTSTART;TZID=UTC:20250915T103000
DTEND;TZID=UTC:20250915T113000
DTSTAMP:20260419T200212
CREATED:20250612T093031Z
LAST-MODIFIED:20250612T093031Z
UID:10006225-1757932200-1757935800@newrysurestart.org
SUMMARY:Parent\, Carer & Toddler Group
DESCRIPTION:Our weekly drop-in early learning and play group for parents\, carers and children up to their 4th birthday.
URL:https://newrysurestart.org/booking/parent-carer-toddler-group-5/2025-09-15/
LOCATION:Altnaveigh House\, Belfast Road\, 51 Downshire Rd\, Newry\, BT34 1EE
ORGANIZER;CN="Karen S":MAILTO:karens@newrysurestart.org
END:VEVENT
BEGIN:VEVENT
DTSTART;TZID=UTC:20250915T180000
DTEND;TZID=UTC:20250915T200000
DTSTAMP:20260419T200212
CREATED:20250612T101105Z
LAST-MODIFIED:20250612T102632Z
UID:10006494-1757959200-1757966400@newrysurestart.org
SUMMARY:Paediatric First Aid for Dads
DESCRIPTION:Our Paediatric first aid course equips you with essential skills to protect your family and gives you the confidence to handle emergencies effectively. \nBooking only : Karenmcgrath@newrysurestart.org
URL:https://newrysurestart.org/booking/paediatric-first-aid-for-dads/2025-09-15/
LOCATION:Fiveways\, 101 Armagh Rd\, Newry\, BT35 6PW
ORGANIZER;CN="Karen Mc":MAILTO:karenmcgrath@newrysurestart.org
END:VEVENT
BEGIN:VEVENT
DTSTART;TZID=UTC:20250916T093000
DTEND;TZID=UTC:20250916T103000
DTSTAMP:20260419T200212
CREATED:20250612T102058Z
LAST-MODIFIED:20250612T102058Z
UID:10006486-1758015000-1758018600@newrysurestart.org
SUMMARY:Tiny Beats
DESCRIPTION:Our weekly drop-in musical\, rhyme and dance group. suitable for all ages
URL:https://newrysurestart.org/booking/tiny-beats-4/2025-09-16/
END:VEVENT
END:VCALENDAR