BEGIN:VCALENDAR
VERSION:2.0
PRODID:-//Newry SureStart - ECPv6.15.12.2//NONSGML v1.0//EN
CALSCALE:GREGORIAN
METHOD:PUBLISH
X-ORIGINAL-URL:https://newrysurestart.org
X-WR-CALDESC:Events for Newry SureStart
REFRESH-INTERVAL;VALUE=DURATION:PT1H
X-Robots-Tag:noindex
X-PUBLISHED-TTL:PT1H
BEGIN:VTIMEZONE
TZID:UTC
BEGIN:STANDARD
TZOFFSETFROM:+0000
TZOFFSETTO:+0000
TZNAME:UTC
DTSTART:20240101T000000
END:STANDARD
END:VTIMEZONE
BEGIN:VEVENT
DTSTART;TZID=UTC:20251103T100000
DTEND;TZID=UTC:20251103T120000
DTSTAMP:20260419T155456
CREATED:20251009T092316Z
LAST-MODIFIED:20251009T092510Z
UID:10006665-1762164000-1762171200@newrysurestart.org
SUMMARY:5 Steps
DESCRIPTION:Workshop to unwind\, meet new people and focus on your wellbeing using the PHAs ‘5 Steps to Wellbeing’ approach. Limited Creche support available.
URL:https://newrysurestart.org/booking/5-steps/
LOCATION:Fiveways\, 101 Armagh Rd\, Newry\, BT35 6PW
ORGANIZER;CN="Karen Mc":MAILTO:karenmcgrath@newrysurestart.org
END:VEVENT
BEGIN:VEVENT
DTSTART;TZID=UTC:20251103T103000
DTEND;TZID=UTC:20251103T120000
DTSTAMP:20260419T155456
CREATED:20251009T092017Z
LAST-MODIFIED:20251009T092144Z
UID:10006604-1762165800-1762171200@newrysurestart.org
SUMMARY:Parent\, Carer & Toddler Group
DESCRIPTION:Weekly early learning and play group for parents\, carers and children up to their 4th birthday.
URL:https://newrysurestart.org/booking/parent-carer-toddler-group-7/2025-11-03/
LOCATION:Altnaveigh House\, Belfast Road\, 51 Downshire Rd\, Newry\, BT34 1EE
ORGANIZER;CN="Karen S":MAILTO:karens@newrysurestart.org
END:VEVENT
BEGIN:VEVENT
DTSTART;TZID=UTC:20251104T093000
DTEND;TZID=UTC:20251104T103000
DTSTAMP:20260419T155456
CREATED:20251009T092924Z
LAST-MODIFIED:20251009T092924Z
UID:10006673-1762248600-1762252200@newrysurestart.org
SUMMARY:Tiny Beats
DESCRIPTION:Our weekly drop-in musical\, rhyme and dance group\, suitable for all ages to enjoy.
URL:https://newrysurestart.org/booking/tiny-beats-5/2025-11-04/
LOCATION:Derrybeg Community Centre\, Derrybeg Park\, Newry\, BT35 6EZ
ORGANIZER;CN="Karen S":MAILTO:karens@newrysurestart.org
END:VEVENT
BEGIN:VEVENT
DTSTART;TZID=UTC:20251104T100000
DTEND;TZID=UTC:20251104T120000
DTSTAMP:20260419T155456
CREATED:20250612T101728Z
LAST-MODIFIED:20250612T101728Z
UID:10006480-1762250400-1762257600@newrysurestart.org
SUMMARY:Nurturing Programme
DESCRIPTION:Positive Parenting programme to assist with understanding your child and meeting their needs whilst looking after yourself . \nBooking Only – limited creche availability \nrebekahm@newrysurestart.org
URL:https://newrysurestart.org/booking/nurturing-programme/2025-11-04/
LOCATION:Fiveways\, 101 Armagh Rd\, Newry\, BT35 6PW
ORGANIZER;CN="Rebekah M":MAILTO:rebekahm@newrysurestart.org
END:VEVENT
BEGIN:VEVENT
DTSTART;TZID=UTC:20251104T100000
DTEND;TZID=UTC:20251104T120000
DTSTAMP:20260419T155456
CREATED:20251009T093338Z
LAST-MODIFIED:20251009T093407Z
UID:10006685-1762250400-1762257600@newrysurestart.org
SUMMARY:Newry Family Group
DESCRIPTION:(partnership with Home Start) Weekly group for parents and children to build friendships\, make connections & receive support on the parenting journey. \nBOOK IN EVENT
URL:https://newrysurestart.org/booking/newry-family-group/2025-11-04/
ORGANIZER;CN="Aisling Smith":MAILTO:aislings @newrysurestart.org
END:VEVENT
BEGIN:VEVENT
DTSTART;TZID=UTC:20251104T183000
DTEND;TZID=UTC:20251104T193000
DTSTAMP:20260419T155456
CREATED:20251009T093716Z
LAST-MODIFIED:20251009T093716Z
UID:10006693-1762281000-1762284600@newrysurestart.org
SUMMARY:Mindfulness in Pregnancy Programme
DESCRIPTION:Mindfulness during pregnancy reduces the fear of labour\, decreases the use of pain relief and lowers the risk of postnatal depression. Come along to learn more about having a healthy pregnancy. \nBook in
URL:https://newrysurestart.org/booking/mindfulness-in-pregnancy-programme/2025-11-04/
LOCATION:Fiveways\, 101 Armagh Rd\, Newry\, BT35 6PW
ORGANIZER;CN="Emma C":MAILTO:emmaca@newrysurestart.org
END:VEVENT
BEGIN:VEVENT
DTSTART;TZID=UTC:20251105T100000
DTEND;TZID=UTC:20251105T113000
DTSTAMP:20260419T155456
CREATED:20251009T095815Z
LAST-MODIFIED:20251009T095815Z
UID:10006797-1762336800-1762342200@newrysurestart.org
SUMMARY:Newry Family Group
DESCRIPTION:(partnership with Home Start) Weekly group for parents and their children to build friendships\, make connections & receive support on the parenting journey.
URL:https://newrysurestart.org/booking/newry-family-group-3/2025-11-05/
ORGANIZER;CN="Aisling Smith":MAILTO:aislings @newrysurestart.org
END:VEVENT
BEGIN:VEVENT
DTSTART;TZID=UTC:20251105T100000
DTEND;TZID=UTC:20251105T120000
DTSTAMP:20260419T155456
CREATED:20251009T094025Z
LAST-MODIFIED:20251009T094025Z
UID:10006765-1762336800-1762344000@newrysurestart.org
SUMMARY:Newry Family Group
DESCRIPTION:(partnership with Home Start) Weekly group for parents and their children to build friendships\, make connections & receive support on the parenting journey.
URL:https://newrysurestart.org/booking/newry-family-group-2/2025-11-05/
ORGANIZER;CN="Aisling Smith":MAILTO:aislings @newrysurestart.org
END:VEVENT
BEGIN:VEVENT
DTSTART;TZID=UTC:20251105T100000
DTEND;TZID=UTC:20251105T120000
DTSTAMP:20260419T155456
CREATED:20251009T094226Z
LAST-MODIFIED:20251009T094226Z
UID:10006776-1762336800-1762344000@newrysurestart.org
SUMMARY:Breastfeeding Support Group + Bumps & Babies Support Group
DESCRIPTION:Two weekly support groups for new parents. Facilitated by our Midwife & Health Visitor. (10-10.30 breastfeeding mothers only)
URL:https://newrysurestart.org/booking/breastfeeding-support-group-bumps-babies-support-group/2025-11-05/
LOCATION:Newry Leisure Centre (Training Room)\, 60 Cecil Street\, Newry\, BT35 6AU\, United Kingdom
ORGANIZER;CN="Sandra H":MAILTO:sandrah@newrysurestart.org
END:VEVENT
BEGIN:VEVENT
DTSTART;TZID=UTC:20251105T103000
DTEND;TZID=UTC:20251105T120000
DTSTAMP:20260419T155456
CREATED:20251009T093833Z
LAST-MODIFIED:20251009T093833Z
UID:10006701-1762338600-1762344000@newrysurestart.org
SUMMARY:Parent\, Carer & Toddler Group
DESCRIPTION:Weekly early learning and play group for parents\, carers and children up to their 4th birthday.
URL:https://newrysurestart.org/booking/parent-carer-toddler-group-8/2025-11-05/
LOCATION:Derrybeg Community Centre\, Derrybeg Park\, Newry\, BT35 6EZ
ORGANIZER;CN="Karen S":MAILTO:karens@newrysurestart.org
END:VEVENT
BEGIN:VEVENT
DTSTART;TZID=UTC:20251106T103000
DTEND;TZID=UTC:20251106T120000
DTSTAMP:20260419T155456
CREATED:20251009T100730Z
LAST-MODIFIED:20251009T100730Z
UID:10006815-1762425000-1762430400@newrysurestart.org
SUMMARY:Parent\, Carer & Toddler Group
DESCRIPTION:Weekly early learning and play group for parents\, carers and children up to their 4th birthday.
URL:https://newrysurestart.org/booking/parent-carer-toddler-group-9/2025-11-06/
LOCATION:St Peter’s Parish Centre Warrenpoint\, Great Georges St S\, Warrenpoint\, Newry\, BT34 3NF
ORGANIZER;CN="Karen S":MAILTO:karens@newrysurestart.org
END:VEVENT
BEGIN:VEVENT
DTSTART;TZID=UTC:20251106T103000
DTEND;TZID=UTC:20251106T120000
DTSTAMP:20260419T155456
CREATED:20251009T101131Z
LAST-MODIFIED:20251009T101131Z
UID:10006827-1762425000-1762430400@newrysurestart.org
SUMMARY:"Small World" Parent\, Carer and Toddler Group
DESCRIPTION:Dedicated to fostering cultural awareness and inclusiveness by exploring diverse global cultures.
URL:https://newrysurestart.org/booking/small-world-parent-carer-and-toddler-group/2025-11-06/
LOCATION:Altnaveigh House\, Belfast Road\, 51 Downshire Rd\, Newry\, BT34 1EE
ORGANIZER;CN="Karen S":MAILTO:karens@newrysurestart.org
END:VEVENT
BEGIN:VEVENT
DTSTART;TZID=UTC:20251110T100000
DTEND;TZID=UTC:20251110T120000
DTSTAMP:20260419T155456
CREATED:20251009T092421Z
LAST-MODIFIED:20251009T092421Z
UID:10006666-1762768800-1762776000@newrysurestart.org
SUMMARY:Craft It
DESCRIPTION:Unlock your creativity and unwind with our craft workshop as we create beautiful box frames. Limited Creche support available.
URL:https://newrysurestart.org/booking/craft-it/
LOCATION:Fiveways\, 101 Armagh Rd\, Newry\, BT35 6PW
ORGANIZER;CN="Rebekah M":MAILTO:rebekahm@newrysurestart.org
END:VEVENT
BEGIN:VEVENT
DTSTART;TZID=UTC:20251110T103000
DTEND;TZID=UTC:20251110T120000
DTSTAMP:20260419T155456
CREATED:20251009T092017Z
LAST-MODIFIED:20251009T092144Z
UID:10006605-1762770600-1762776000@newrysurestart.org
SUMMARY:Parent\, Carer & Toddler Group
DESCRIPTION:Weekly early learning and play group for parents\, carers and children up to their 4th birthday.
URL:https://newrysurestart.org/booking/parent-carer-toddler-group-7/2025-11-10/
LOCATION:Altnaveigh House\, Belfast Road\, 51 Downshire Rd\, Newry\, BT34 1EE
ORGANIZER;CN="Karen S":MAILTO:karens@newrysurestart.org
END:VEVENT
BEGIN:VEVENT
DTSTART;TZID=UTC:20251111T093000
DTEND;TZID=UTC:20251111T103000
DTSTAMP:20260419T155456
CREATED:20251009T092924Z
LAST-MODIFIED:20251009T092924Z
UID:10006674-1762853400-1762857000@newrysurestart.org
SUMMARY:Tiny Beats
DESCRIPTION:Our weekly drop-in musical\, rhyme and dance group\, suitable for all ages to enjoy.
URL:https://newrysurestart.org/booking/tiny-beats-5/2025-11-11/
LOCATION:Derrybeg Community Centre\, Derrybeg Park\, Newry\, BT35 6EZ
ORGANIZER;CN="Karen S":MAILTO:karens@newrysurestart.org
END:VEVENT
BEGIN:VEVENT
DTSTART;TZID=UTC:20251111T100000
DTEND;TZID=UTC:20251111T120000
DTSTAMP:20260419T155456
CREATED:20250612T101728Z
LAST-MODIFIED:20250612T101728Z
UID:10006481-1762855200-1762862400@newrysurestart.org
SUMMARY:Nurturing Programme
DESCRIPTION:Positive Parenting programme to assist with understanding your child and meeting their needs whilst looking after yourself . \nBooking Only – limited creche availability \nrebekahm@newrysurestart.org
URL:https://newrysurestart.org/booking/nurturing-programme/2025-11-11/
LOCATION:Fiveways\, 101 Armagh Rd\, Newry\, BT35 6PW
ORGANIZER;CN="Rebekah M":MAILTO:rebekahm@newrysurestart.org
END:VEVENT
BEGIN:VEVENT
DTSTART;TZID=UTC:20251111T100000
DTEND;TZID=UTC:20251111T120000
DTSTAMP:20260419T155456
CREATED:20251009T093338Z
LAST-MODIFIED:20251009T093407Z
UID:10006686-1762855200-1762862400@newrysurestart.org
SUMMARY:Newry Family Group
DESCRIPTION:(partnership with Home Start) Weekly group for parents and children to build friendships\, make connections & receive support on the parenting journey. \nBOOK IN EVENT
URL:https://newrysurestart.org/booking/newry-family-group/2025-11-11/
ORGANIZER;CN="Aisling Smith":MAILTO:aislings @newrysurestart.org
END:VEVENT
BEGIN:VEVENT
DTSTART;TZID=UTC:20251111T183000
DTEND;TZID=UTC:20251111T193000
DTSTAMP:20260419T155456
CREATED:20251009T093716Z
LAST-MODIFIED:20251009T093716Z
UID:10006694-1762885800-1762889400@newrysurestart.org
SUMMARY:Mindfulness in Pregnancy Programme
DESCRIPTION:Mindfulness during pregnancy reduces the fear of labour\, decreases the use of pain relief and lowers the risk of postnatal depression. Come along to learn more about having a healthy pregnancy. \nBook in
URL:https://newrysurestart.org/booking/mindfulness-in-pregnancy-programme/2025-11-11/
LOCATION:Fiveways\, 101 Armagh Rd\, Newry\, BT35 6PW
ORGANIZER;CN="Emma C":MAILTO:emmaca@newrysurestart.org
END:VEVENT
BEGIN:VEVENT
DTSTART;TZID=UTC:20251112T100000
DTEND;TZID=UTC:20251112T113000
DTSTAMP:20260419T155456
CREATED:20251009T095815Z
LAST-MODIFIED:20251009T095815Z
UID:10006798-1762941600-1762947000@newrysurestart.org
SUMMARY:Newry Family Group
DESCRIPTION:(partnership with Home Start) Weekly group for parents and their children to build friendships\, make connections & receive support on the parenting journey.
URL:https://newrysurestart.org/booking/newry-family-group-3/2025-11-12/
ORGANIZER;CN="Aisling Smith":MAILTO:aislings @newrysurestart.org
END:VEVENT
BEGIN:VEVENT
DTSTART;TZID=UTC:20251112T100000
DTEND;TZID=UTC:20251112T120000
DTSTAMP:20260419T155456
CREATED:20251009T094025Z
LAST-MODIFIED:20251009T094025Z
UID:10006766-1762941600-1762948800@newrysurestart.org
SUMMARY:Newry Family Group
DESCRIPTION:(partnership with Home Start) Weekly group for parents and their children to build friendships\, make connections & receive support on the parenting journey.
URL:https://newrysurestart.org/booking/newry-family-group-2/2025-11-12/
ORGANIZER;CN="Aisling Smith":MAILTO:aislings @newrysurestart.org
END:VEVENT
BEGIN:VEVENT
DTSTART;TZID=UTC:20251112T100000
DTEND;TZID=UTC:20251112T120000
DTSTAMP:20260419T155456
CREATED:20251009T094226Z
LAST-MODIFIED:20251009T094226Z
UID:10006777-1762941600-1762948800@newrysurestart.org
SUMMARY:Breastfeeding Support Group + Bumps & Babies Support Group
DESCRIPTION:Two weekly support groups for new parents. Facilitated by our Midwife & Health Visitor. (10-10.30 breastfeeding mothers only)
URL:https://newrysurestart.org/booking/breastfeeding-support-group-bumps-babies-support-group/2025-11-12/
LOCATION:Newry Leisure Centre (Training Room)\, 60 Cecil Street\, Newry\, BT35 6AU\, United Kingdom
ORGANIZER;CN="Sandra H":MAILTO:sandrah@newrysurestart.org
END:VEVENT
BEGIN:VEVENT
DTSTART;TZID=UTC:20251112T103000
DTEND;TZID=UTC:20251112T113000
DTSTAMP:20260419T155456
CREATED:20251009T094938Z
LAST-MODIFIED:20251009T095000Z
UID:10006790-1762943400-1762947000@newrysurestart.org
SUMMARY:Magic Minds Parent\, Carer & Toddler Group
DESCRIPTION:Bi-weekly support group for parents and carers of children with developmental delay\, neurodiverse conditions\, additional needs or awaiting a diagnosis. It also provides a supportive space for children to play\, explore and learn.
URL:https://newrysurestart.org/booking/magic-minds-parent-carer-toddler-group-3/2025-11-12/
LOCATION:Altnaveigh House\, Belfast Road\, 51 Downshire Rd\, Newry\, BT34 1EE
ORGANIZER;CN="Patricia Flynn-McKevit%E2%80%8B":MAILTO:patriciaf@newrysurestart.org
END:VEVENT
BEGIN:VEVENT
DTSTART;TZID=UTC:20251112T103000
DTEND;TZID=UTC:20251112T120000
DTSTAMP:20260419T155456
CREATED:20251009T093833Z
LAST-MODIFIED:20251009T093833Z
UID:10006702-1762943400-1762948800@newrysurestart.org
SUMMARY:Parent\, Carer & Toddler Group
DESCRIPTION:Weekly early learning and play group for parents\, carers and children up to their 4th birthday.
URL:https://newrysurestart.org/booking/parent-carer-toddler-group-8/2025-11-12/
LOCATION:Derrybeg Community Centre\, Derrybeg Park\, Newry\, BT35 6EZ
ORGANIZER;CN="Karen S":MAILTO:karens@newrysurestart.org
END:VEVENT
BEGIN:VEVENT
DTSTART;TZID=UTC:20251113T103000
DTEND;TZID=UTC:20251113T120000
DTSTAMP:20260419T155456
CREATED:20251009T100730Z
LAST-MODIFIED:20251009T100730Z
UID:10006816-1763029800-1763035200@newrysurestart.org
SUMMARY:Parent\, Carer & Toddler Group
DESCRIPTION:Weekly early learning and play group for parents\, carers and children up to their 4th birthday.
URL:https://newrysurestart.org/booking/parent-carer-toddler-group-9/2025-11-13/
LOCATION:St Peter’s Parish Centre Warrenpoint\, Great Georges St S\, Warrenpoint\, Newry\, BT34 3NF
ORGANIZER;CN="Karen S":MAILTO:karens@newrysurestart.org
END:VEVENT
BEGIN:VEVENT
DTSTART;TZID=UTC:20251113T103000
DTEND;TZID=UTC:20251113T120000
DTSTAMP:20260419T155456
CREATED:20251009T101131Z
LAST-MODIFIED:20251009T101131Z
UID:10006828-1763029800-1763035200@newrysurestart.org
SUMMARY:"Small World" Parent\, Carer and Toddler Group
DESCRIPTION:Dedicated to fostering cultural awareness and inclusiveness by exploring diverse global cultures.
URL:https://newrysurestart.org/booking/small-world-parent-carer-and-toddler-group/2025-11-13/
LOCATION:Altnaveigh House\, Belfast Road\, 51 Downshire Rd\, Newry\, BT34 1EE
ORGANIZER;CN="Karen S":MAILTO:karens@newrysurestart.org
END:VEVENT
BEGIN:VEVENT
DTSTART;TZID=UTC:20251117T103000
DTEND;TZID=UTC:20251117T120000
DTSTAMP:20260419T155456
CREATED:20251009T092017Z
LAST-MODIFIED:20251009T092144Z
UID:10006606-1763375400-1763380800@newrysurestart.org
SUMMARY:Parent\, Carer & Toddler Group
DESCRIPTION:Weekly early learning and play group for parents\, carers and children up to their 4th birthday.
URL:https://newrysurestart.org/booking/parent-carer-toddler-group-7/2025-11-17/
LOCATION:Altnaveigh House\, Belfast Road\, 51 Downshire Rd\, Newry\, BT34 1EE
ORGANIZER;CN="Karen S":MAILTO:karens@newrysurestart.org
END:VEVENT
BEGIN:VEVENT
DTSTART;TZID=UTC:20251118T093000
DTEND;TZID=UTC:20251118T103000
DTSTAMP:20260419T155456
CREATED:20251009T092924Z
LAST-MODIFIED:20251009T092924Z
UID:10006675-1763458200-1763461800@newrysurestart.org
SUMMARY:Tiny Beats
DESCRIPTION:Our weekly drop-in musical\, rhyme and dance group\, suitable for all ages to enjoy.
URL:https://newrysurestart.org/booking/tiny-beats-5/2025-11-18/
LOCATION:Derrybeg Community Centre\, Derrybeg Park\, Newry\, BT35 6EZ
ORGANIZER;CN="Karen S":MAILTO:karens@newrysurestart.org
END:VEVENT
BEGIN:VEVENT
DTSTART;TZID=UTC:20251118T100000
DTEND;TZID=UTC:20251118T120000
DTSTAMP:20260419T155456
CREATED:20250612T101728Z
LAST-MODIFIED:20250612T101728Z
UID:10006482-1763460000-1763467200@newrysurestart.org
SUMMARY:Nurturing Programme
DESCRIPTION:Positive Parenting programme to assist with understanding your child and meeting their needs whilst looking after yourself . \nBooking Only – limited creche availability \nrebekahm@newrysurestart.org
URL:https://newrysurestart.org/booking/nurturing-programme/2025-11-18/
LOCATION:Fiveways\, 101 Armagh Rd\, Newry\, BT35 6PW
ORGANIZER;CN="Rebekah M":MAILTO:rebekahm@newrysurestart.org
END:VEVENT
BEGIN:VEVENT
DTSTART;TZID=UTC:20251118T100000
DTEND;TZID=UTC:20251118T120000
DTSTAMP:20260419T155456
CREATED:20251009T093338Z
LAST-MODIFIED:20251009T093407Z
UID:10006687-1763460000-1763467200@newrysurestart.org
SUMMARY:Newry Family Group
DESCRIPTION:(partnership with Home Start) Weekly group for parents and children to build friendships\, make connections & receive support on the parenting journey. \nBOOK IN EVENT
URL:https://newrysurestart.org/booking/newry-family-group/2025-11-18/
ORGANIZER;CN="Aisling Smith":MAILTO:aislings @newrysurestart.org
END:VEVENT
BEGIN:VEVENT
DTSTART;TZID=UTC:20251118T183000
DTEND;TZID=UTC:20251118T193000
DTSTAMP:20260419T155456
CREATED:20251009T093716Z
LAST-MODIFIED:20251009T093716Z
UID:10006695-1763490600-1763494200@newrysurestart.org
SUMMARY:Mindfulness in Pregnancy Programme
DESCRIPTION:Mindfulness during pregnancy reduces the fear of labour\, decreases the use of pain relief and lowers the risk of postnatal depression. Come along to learn more about having a healthy pregnancy. \nBook in
URL:https://newrysurestart.org/booking/mindfulness-in-pregnancy-programme/2025-11-18/
LOCATION:Fiveways\, 101 Armagh Rd\, Newry\, BT35 6PW
ORGANIZER;CN="Emma C":MAILTO:emmaca@newrysurestart.org
END:VEVENT
END:VCALENDAR