BEGIN:VCALENDAR
VERSION:2.0
PRODID:-//Newry SureStart - ECPv6.15.12.2//NONSGML v1.0//EN
CALSCALE:GREGORIAN
METHOD:PUBLISH
X-WR-CALNAME:Newry SureStart
X-ORIGINAL-URL:https://newrysurestart.org
X-WR-CALDESC:Events for Newry SureStart
REFRESH-INTERVAL;VALUE=DURATION:PT1H
X-Robots-Tag:noindex
X-PUBLISHED-TTL:PT1H
BEGIN:VTIMEZONE
TZID:UTC
BEGIN:STANDARD
TZOFFSETFROM:+0000
TZOFFSETTO:+0000
TZNAME:UTC
DTSTART:20250101T000000
END:STANDARD
END:VTIMEZONE
BEGIN:VEVENT
DTSTART;TZID=UTC:20260105T103000
DTEND;TZID=UTC:20260105T123000
DTSTAMP:20260419T115916
CREATED:20260115T162139Z
LAST-MODIFIED:20260115T162139Z
UID:10007389-1767609000-1767616200@newrysurestart.org
SUMMARY:Bumps & Babies Group
DESCRIPTION:Support group for new parents/carers. Facilitated by Health Visitor and Family Support Worker.
URL:https://newrysurestart.org/booking/bumps-babies-group/2026-01-05/
LOCATION:Newry Leisure Centre (Training Room)\, 60 Cecil Street\, Newry\, BT35 6AU\, United Kingdom
ORGANIZER;CN="Elizabeth":MAILTO:elizabeth@newrysurestart.org
END:VEVENT
BEGIN:VEVENT
DTSTART;TZID=UTC:20260107T093000
DTEND;TZID=UTC:20260107T103000
DTSTAMP:20260419T115916
CREATED:20260109T124042Z
LAST-MODIFIED:20260115T154743Z
UID:10007365-1767778200-1767781800@newrysurestart.org
SUMMARY:Mum & Baby Pilates
DESCRIPTION:Get active as a mum without having to worry about childcare. \nSuitable for all fitness levels – Beginners welcome. \nGet Fit\, have fun and feel great.
URL:https://newrysurestart.org/booking/mum-baby-pilates/2026-01-07/
LOCATION:Thomas Davis Centre\, 21 Dorans Hill\, Newry\, BT35 8PQ
ORGANIZER;CN="Emma C":MAILTO:emmaca@newrysurestart.org
END:VEVENT
BEGIN:VEVENT
DTSTART;TZID=UTC:20260107T103000
DTEND;TZID=UTC:20260107T114500
DTSTAMP:20260419T115916
CREATED:20260115T155348Z
LAST-MODIFIED:20260115T155438Z
UID:10006522-1767781800-1767786300@newrysurestart.org
SUMMARY:Parent & Toddlers
DESCRIPTION:Our weekly drop-in early learning and play group for parents\, carers and children up to their 4th birthday. Parents/ carers have the opportunity to meet with other parents and carers.
URL:https://newrysurestart.org/booking/parent-toddlers-2/
LOCATION:Derrybeg Community Centre\, Derrybeg Park\, Newry\, BT35 6EZ
ORGANIZER;CN="Karen S":MAILTO:karens@newrysurestart.org
END:VEVENT
BEGIN:VEVENT
DTSTART;TZID=UTC:20260107T103000
DTEND;TZID=UTC:20260107T120000
DTSTAMP:20260419T115916
CREATED:20260109T123636Z
LAST-MODIFIED:20260113T153338Z
UID:10006838-1767781800-1767787200@newrysurestart.org
SUMMARY:Breastfeeding Support Group
DESCRIPTION:Support provided by a Midwife/Health Visitor to mums who have opted to breastfeed their babies. \nSuitable for parents and children under one year of age.
URL:https://newrysurestart.org/booking/breastfeeding-support-group/2026-01-07/
LOCATION:Newry Leisure Centre (Training Room)\, 60 Cecil Street\, Newry\, BT35 6AU\, United Kingdom
END:VEVENT
BEGIN:VEVENT
DTSTART;TZID=UTC:20260112T100000
DTEND;TZID=UTC:20260112T120000
DTSTAMP:20260419T115916
CREATED:20260113T154221Z
LAST-MODIFIED:20260115T111122Z
UID:10006841-1768212000-1768219200@newrysurestart.org
SUMMARY:Sip & Paint Workshop with Creche Support
DESCRIPTION:
URL:https://newrysurestart.org/booking/sip-paint-workshop-with-creche-support/
LOCATION:Fiveways\, 101 Armagh Rd\, Newry\, BT35 6PW
END:VEVENT
BEGIN:VEVENT
DTSTART;TZID=UTC:20260112T103000
DTEND;TZID=UTC:20260112T114500
DTSTAMP:20260419T115916
CREATED:20260109T130952Z
LAST-MODIFIED:20260113T171818Z
UID:10006842-1768213800-1768218300@newrysurestart.org
SUMMARY:Parent & Toddler Group
DESCRIPTION:Weekly early learning and play opportunities for children up until their 4th birthday. Parents/carers have the opportunity to meet other parents and carers.
URL:https://newrysurestart.org/booking/parent-toddler-group/2026-01-12/
LOCATION:Altnaveigh House\, Belfast Road\, 51 Downshire Rd\, Newry\, BT34 1EE
ORGANIZER;CN="Karen S":MAILTO:karens@newrysurestart.org
END:VEVENT
BEGIN:VEVENT
DTSTART;TZID=UTC:20260112T103000
DTEND;TZID=UTC:20260112T123000
DTSTAMP:20260419T115916
CREATED:20260115T162139Z
LAST-MODIFIED:20260115T162139Z
UID:10007390-1768213800-1768221000@newrysurestart.org
SUMMARY:Bumps & Babies Group
DESCRIPTION:Support group for new parents/carers. Facilitated by Health Visitor and Family Support Worker.
URL:https://newrysurestart.org/booking/bumps-babies-group/2026-01-12/
LOCATION:Newry Leisure Centre (Training Room)\, 60 Cecil Street\, Newry\, BT35 6AU\, United Kingdom
ORGANIZER;CN="Elizabeth":MAILTO:elizabeth@newrysurestart.org
END:VEVENT
BEGIN:VEVENT
DTSTART;TZID=UTC:20260113T093000
DTEND;TZID=UTC:20260113T101500
DTSTAMP:20260419T115916
CREATED:20260112T164013Z
LAST-MODIFIED:20260115T132341Z
UID:10006843-1768296600-1768299300@newrysurestart.org
SUMMARY:Tiny Beats
DESCRIPTION:Our weekly drop-in Speech and Language focused\, musical rhyme and dance group\, suitable for all ages to enjoy.
URL:https://newrysurestart.org/booking/tiny-beats-6/2026-01-13/
LOCATION:Derrybeg Community Centre\, Derrybeg Park\, Newry\, BT35 6EZ
ORGANIZER;CN="Karen S":MAILTO:karens@newrysurestart.org
END:VEVENT
BEGIN:VEVENT
DTSTART;TZID=UTC:20260113T100000
DTEND;TZID=UTC:20260113T113000
DTSTAMP:20260419T115916
CREATED:20260115T144143Z
LAST-MODIFIED:20260115T144321Z
UID:10006547-1768298400-1768303800@newrysurestart.org
SUMMARY:Little Stars Workshop
DESCRIPTION:Come along and have a coffee\, chat and meet families in our cosy and relaxed surroundings\, while also accessing information on self-care\, sensory play\, behaviour\, child development and much more! \nBooking required.
URL:https://newrysurestart.org/booking/little-stars-2/2026-01-13/
LOCATION:Newry Family resource centre\, Lisdrum House\, Chequer Hill\, Newry\, BT35 6DY\, United Kingdom
ORGANIZER;CN="Charmaine McC":MAILTO:charmaine@newrysurestart.org
END:VEVENT
BEGIN:VEVENT
DTSTART;TZID=UTC:20260113T100000
DTEND;TZID=UTC:20260113T120000
DTSTAMP:20260419T115916
CREATED:20260112T164942Z
LAST-MODIFIED:20260115T133244Z
UID:10006853-1768298400-1768305600@newrysurestart.org
SUMMARY:Solihull Parenting Programme (supported by Creche)
DESCRIPTION:The Solihull Approach is an eleven week evidence-based parenting intervention that focuses on understanding children’s behaviour.  The program is designed to help parents develop strategies that foster emotional health and positive relationships with their children. \n  \n 
URL:https://newrysurestart.org/booking/solihull-parenting-programme-supported-by-creche/2026-01-13/
LOCATION:Fiveways\, 101 Armagh Rd\, Newry\, BT35 6PW
ORGANIZER;CN="Newry Sure Start":MAILTO:info@newrysurestart.org
END:VEVENT
BEGIN:VEVENT
DTSTART;TZID=UTC:20260114T093000
DTEND;TZID=UTC:20260114T103000
DTSTAMP:20260419T115916
CREATED:20260109T124042Z
LAST-MODIFIED:20260115T154743Z
UID:10007073-1768383000-1768386600@newrysurestart.org
SUMMARY:Mum & Baby Pilates
DESCRIPTION:Get active as a mum without having to worry about childcare. \nSuitable for all fitness levels – Beginners welcome. \nGet Fit\, have fun and feel great.
URL:https://newrysurestart.org/booking/mum-baby-pilates/2026-01-14/
LOCATION:Thomas Davis Centre\, 21 Dorans Hill\, Newry\, BT35 8PQ
ORGANIZER;CN="Emma C":MAILTO:emmaca@newrysurestart.org
END:VEVENT
BEGIN:VEVENT
DTSTART;TZID=UTC:20260114T103000
DTEND;TZID=UTC:20260114T113000
DTSTAMP:20260419T115916
CREATED:20260113T154918Z
LAST-MODIFIED:20260115T145943Z
UID:10006792-1768386600-1768390200@newrysurestart.org
SUMMARY:Magic Minds
DESCRIPTION:Bi-weekly parents and toddlers session for families with a child experiencing neurodiversity.
URL:https://newrysurestart.org/booking/magic-minds-parent-carer-toddler-group-3-2/2026-01-14/
LOCATION:Altnaveigh House\, Belfast Road\, 51 Downshire Rd\, Newry\, BT34 1EE
ORGANIZER;CN="Patricia Flynn-McKevit%E2%80%8B":MAILTO:patriciaf@newrysurestart.org
END:VEVENT
BEGIN:VEVENT
DTSTART;TZID=UTC:20260114T103000
DTEND;TZID=UTC:20260114T114500
DTSTAMP:20260419T115916
CREATED:20260115T160144Z
LAST-MODIFIED:20260115T160144Z
UID:10007366-1768386600-1768391100@newrysurestart.org
SUMMARY:Parent & Toddler
DESCRIPTION:Our weekly drop-in early learning and play group for parents\, carers and children up to their 4th birthday. Parents/ carers have the opportunity to meet with other parents and carers.
URL:https://newrysurestart.org/booking/parent-toddlers-2-2/2026-01-14/
LOCATION:Derrybeg Community Centre\, Derrybeg Park\, Newry\, BT35 6EZ
ORGANIZER;CN="Karen S":MAILTO:karens@newrysurestart.org
END:VEVENT
BEGIN:VEVENT
DTSTART;TZID=UTC:20260114T103000
DTEND;TZID=UTC:20260114T120000
DTSTAMP:20260419T115916
CREATED:20260109T123636Z
LAST-MODIFIED:20260113T153338Z
UID:10006990-1768386600-1768392000@newrysurestart.org
SUMMARY:Breastfeeding Support Group
DESCRIPTION:Support provided by a Midwife/Health Visitor to mums who have opted to breastfeed their babies. \nSuitable for parents and children under one year of age.
URL:https://newrysurestart.org/booking/breastfeeding-support-group/2026-01-14/
LOCATION:Newry Leisure Centre (Training Room)\, 60 Cecil Street\, Newry\, BT35 6AU\, United Kingdom
END:VEVENT
BEGIN:VEVENT
DTSTART;TZID=UTC:20260114T130000
DTEND;TZID=UTC:20260114T143000
DTSTAMP:20260419T115916
CREATED:20260115T125602Z
LAST-MODIFIED:20260115T150226Z
UID:10007077-1768395600-1768401000@newrysurestart.org
SUMMARY:Young Parents Group
DESCRIPTION:Bi-Weekly group run in collaboration with Family Nursing Partnership supporting young parents.
URL:https://newrysurestart.org/booking/young-parents-group-6-2/2026-01-14/
LOCATION:Fiveways\, 101 Armagh Rd\, Newry\, BT35 6PW
ORGANIZER;CN="Bethany F":MAILTO:bethanyf@newrysurestart.org
END:VEVENT
BEGIN:VEVENT
DTSTART;TZID=UTC:20260115T103000
DTEND;TZID=UTC:20260115T114500
DTSTAMP:20260419T115916
CREATED:20260113T170400Z
LAST-MODIFIED:20260115T112526Z
UID:10007116-1768473000-1768477500@newrysurestart.org
SUMMARY:Parent & Toddler Group (Warrenpoint)
DESCRIPTION:Weekly early learning and play opportunities for children up until their 4th birthday. \nParent/carers have the opportunity to meet other parent and carers.
URL:https://newrysurestart.org/booking/parent-toddler-group-warrenpoint/2026-01-15/
LOCATION:Warrenpoint\, United Kingdom
ORGANIZER;CN="Karen S":MAILTO:karens@newrysurestart.org
END:VEVENT
BEGIN:VEVENT
DTSTART;TZID=UTC:20260115T103000
DTEND;TZID=UTC:20260115T120000
DTSTAMP:20260419T115916
CREATED:20260113T173618Z
LAST-MODIFIED:20260115T160009Z
UID:10006833-1768473000-1768478400@newrysurestart.org
SUMMARY:"Small World" Parent\, Carer and Toddler Group
DESCRIPTION:Dedicated to fostering cultural awareness and inclusiveness by exploring diverse global cultures.
URL:https://newrysurestart.org/booking/small-world-parent-carer-and-toddler-group-2/2026-01-15/
LOCATION:Altnaveigh House\, Belfast Road\, 51 Downshire Rd\, Newry\, BT34 1EE
ORGANIZER;CN="Karen S":MAILTO:karens@newrysurestart.org
END:VEVENT
BEGIN:VEVENT
DTSTART;TZID=UTC:20260116T100000
DTEND;TZID=UTC:20260116T110000
DTSTAMP:20260419T115916
CREATED:20250527T111550Z
LAST-MODIFIED:20260115T131805Z
UID:10007190-1768557600-1768561200@newrysurestart.org
SUMMARY:Walk and Talk
DESCRIPTION:Join us for our weekly walk and talk in Derrymore Woods for a chat and a stroll throughout the trees. Finish with a hot coffee/tea. Leave feeling healthier and happier.
URL:https://newrysurestart.org/booking/walk-and-talk/2026-01-16/
LOCATION:Derrymore Woods\, Bessbrook\, Newry\, Down\, BT35 7EF\, United Kingdom
ORGANIZER;CN="Newry Sure Start":MAILTO:info@newrysurestart.org
END:VEVENT
BEGIN:VEVENT
DTSTART;TZID=UTC:20260117T100000
DTEND;TZID=UTC:20260117T140000
DTSTAMP:20260419T115916
CREATED:20260113T172854Z
LAST-MODIFIED:20260113T172854Z
UID:10007201-1768644000-1768658400@newrysurestart.org
SUMMARY:New Year New You
DESCRIPTION:New Year – Vision Board – Retreat Day \nJoin us for an uplifting day to create your vision board for 2026 – including relaxation\, goal setting\, and well being tips and practises for you to use for the year ahead.
URL:https://newrysurestart.org/booking/new-year-new-you/
LOCATION:Fiveways\, 101 Armagh Rd\, Newry\, BT35 6PW
END:VEVENT
BEGIN:VEVENT
DTSTART;TZID=UTC:20260119T100000
DTEND;TZID=UTC:20260119T120000
DTSTAMP:20260419T115916
CREATED:20260115T102743Z
LAST-MODIFIED:20260115T150628Z
UID:10007202-1768816800-1768824000@newrysurestart.org
SUMMARY:Make A Story Sack
DESCRIPTION:Learn to make a story sack using household resources\, items you already have and natural resources to enhance your child’s learning and love of stories and reading.
URL:https://newrysurestart.org/booking/make-a-story-sack/2026-01-19/
LOCATION:Fiveways\, 101 Armagh Rd\, Newry\, BT35 6PW
ORGANIZER;CN="Newry Sure Start":MAILTO:info@newrysurestart.org
END:VEVENT
BEGIN:VEVENT
DTSTART;TZID=UTC:20260119T103000
DTEND;TZID=UTC:20260119T114500
DTSTAMP:20260419T115916
CREATED:20260109T130952Z
LAST-MODIFIED:20260113T171818Z
UID:10006863-1768818600-1768823100@newrysurestart.org
SUMMARY:Parent & Toddler Group
DESCRIPTION:Weekly early learning and play opportunities for children up until their 4th birthday. Parents/carers have the opportunity to meet other parents and carers.
URL:https://newrysurestart.org/booking/parent-toddler-group/2026-01-19/
LOCATION:Altnaveigh House\, Belfast Road\, 51 Downshire Rd\, Newry\, BT34 1EE
ORGANIZER;CN="Karen S":MAILTO:karens@newrysurestart.org
END:VEVENT
BEGIN:VEVENT
DTSTART;TZID=UTC:20260119T103000
DTEND;TZID=UTC:20260119T123000
DTSTAMP:20260419T115916
CREATED:20260115T162139Z
LAST-MODIFIED:20260115T162139Z
UID:10007391-1768818600-1768825800@newrysurestart.org
SUMMARY:Bumps & Babies Group
DESCRIPTION:Support group for new parents/carers. Facilitated by Health Visitor and Family Support Worker.
URL:https://newrysurestart.org/booking/bumps-babies-group/2026-01-19/
LOCATION:Newry Leisure Centre (Training Room)\, 60 Cecil Street\, Newry\, BT35 6AU\, United Kingdom
ORGANIZER;CN="Elizabeth":MAILTO:elizabeth@newrysurestart.org
END:VEVENT
BEGIN:VEVENT
DTSTART;TZID=UTC:20260120T093000
DTEND;TZID=UTC:20260120T101500
DTSTAMP:20260419T115916
CREATED:20260112T164013Z
LAST-MODIFIED:20260115T132341Z
UID:10006844-1768901400-1768904100@newrysurestart.org
SUMMARY:Tiny Beats
DESCRIPTION:Our weekly drop-in Speech and Language focused\, musical rhyme and dance group\, suitable for all ages to enjoy.
URL:https://newrysurestart.org/booking/tiny-beats-6/2026-01-20/
LOCATION:Derrybeg Community Centre\, Derrybeg Park\, Newry\, BT35 6EZ
ORGANIZER;CN="Karen S":MAILTO:karens@newrysurestart.org
END:VEVENT
BEGIN:VEVENT
DTSTART;TZID=UTC:20260120T100000
DTEND;TZID=UTC:20260120T120000
DTSTAMP:20260419T115916
CREATED:20260112T164942Z
LAST-MODIFIED:20260115T133244Z
UID:10006854-1768903200-1768910400@newrysurestart.org
SUMMARY:Solihull Parenting Programme (supported by Creche)
DESCRIPTION:The Solihull Approach is an eleven week evidence-based parenting intervention that focuses on understanding children’s behaviour.  The program is designed to help parents develop strategies that foster emotional health and positive relationships with their children. \n  \n 
URL:https://newrysurestart.org/booking/solihull-parenting-programme-supported-by-creche/2026-01-20/
LOCATION:Fiveways\, 101 Armagh Rd\, Newry\, BT35 6PW
ORGANIZER;CN="Newry Sure Start":MAILTO:info@newrysurestart.org
END:VEVENT
BEGIN:VEVENT
DTSTART;TZID=UTC:20260120T104500
DTEND;TZID=UTC:20260120T114500
DTSTAMP:20260419T115916
CREATED:20260115T103445Z
LAST-MODIFIED:20260115T124436Z
UID:10007203-1768905900-1768909500@newrysurestart.org
SUMMARY:Sure Start Sounds
DESCRIPTION:Join Emma for singing lessons with the aim of having the first Sure Start singing group in Northern Ireland. All levels of talent welcome to these fun and energetic sessions.
URL:https://newrysurestart.org/booking/sure-start-sounds/2026-01-20/
LOCATION:Derrybeg Community Centre\, Derrybeg Park\, Newry\, BT35 6EZ
ORGANIZER;CN="Newry Sure Start":MAILTO:info@newrysurestart.org
END:VEVENT
BEGIN:VEVENT
DTSTART;TZID=UTC:20260121T093000
DTEND;TZID=UTC:20260121T103000
DTSTAMP:20260419T115916
CREATED:20260109T124042Z
LAST-MODIFIED:20260115T154743Z
UID:10007074-1768987800-1768991400@newrysurestart.org
SUMMARY:Mum & Baby Pilates
DESCRIPTION:Get active as a mum without having to worry about childcare. \nSuitable for all fitness levels – Beginners welcome. \nGet Fit\, have fun and feel great.
URL:https://newrysurestart.org/booking/mum-baby-pilates/2026-01-21/
LOCATION:Thomas Davis Centre\, 21 Dorans Hill\, Newry\, BT35 8PQ
ORGANIZER;CN="Emma C":MAILTO:emmaca@newrysurestart.org
END:VEVENT
BEGIN:VEVENT
DTSTART;TZID=UTC:20260121T103000
DTEND;TZID=UTC:20260121T114500
DTSTAMP:20260419T115916
CREATED:20260115T160144Z
LAST-MODIFIED:20260115T160144Z
UID:10007381-1768991400-1768995900@newrysurestart.org
SUMMARY:Parent & Toddler
DESCRIPTION:Our weekly drop-in early learning and play group for parents\, carers and children up to their 4th birthday. Parents/ carers have the opportunity to meet with other parents and carers.
URL:https://newrysurestart.org/booking/parent-toddlers-2-2/2026-01-21/
LOCATION:Derrybeg Community Centre\, Derrybeg Park\, Newry\, BT35 6EZ
ORGANIZER;CN="Karen S":MAILTO:karens@newrysurestart.org
END:VEVENT
BEGIN:VEVENT
DTSTART;TZID=UTC:20260121T103000
DTEND;TZID=UTC:20260121T120000
DTSTAMP:20260419T115916
CREATED:20260109T123636Z
LAST-MODIFIED:20260113T153338Z
UID:10006991-1768991400-1768996800@newrysurestart.org
SUMMARY:Breastfeeding Support Group
DESCRIPTION:Support provided by a Midwife/Health Visitor to mums who have opted to breastfeed their babies. \nSuitable for parents and children under one year of age.
URL:https://newrysurestart.org/booking/breastfeeding-support-group/2026-01-21/
LOCATION:Newry Leisure Centre (Training Room)\, 60 Cecil Street\, Newry\, BT35 6AU\, United Kingdom
END:VEVENT
BEGIN:VEVENT
DTSTART;TZID=UTC:20260121T180000
DTEND;TZID=UTC:20260121T200000
DTSTAMP:20260419T115916
CREATED:20260115T104103Z
LAST-MODIFIED:20260115T104103Z
UID:10007266-1769018400-1769025600@newrysurestart.org
SUMMARY:Infant Feeding Workshop
DESCRIPTION:Infant feeding workshop to help you decide the best way to feed your baby to meet your and their needs. Explores benefits\, safety and lifestyles.
URL:https://newrysurestart.org/booking/infant-feeding-workshop/
LOCATION:Fiveways\, 101 Armagh Rd\, Newry\, BT35 6PW
ORGANIZER;CN="Emma C":MAILTO:emmaca@newrysurestart.org
END:VEVENT
BEGIN:VEVENT
DTSTART;TZID=UTC:20260122T103000
DTEND;TZID=UTC:20260122T114500
DTSTAMP:20260419T115916
CREATED:20260113T170400Z
LAST-MODIFIED:20260115T112526Z
UID:10007117-1769077800-1769082300@newrysurestart.org
SUMMARY:Parent & Toddler Group (Warrenpoint)
DESCRIPTION:Weekly early learning and play opportunities for children up until their 4th birthday. \nParent/carers have the opportunity to meet other parent and carers.
URL:https://newrysurestart.org/booking/parent-toddler-group-warrenpoint/2026-01-22/
LOCATION:Warrenpoint\, United Kingdom
ORGANIZER;CN="Karen S":MAILTO:karens@newrysurestart.org
END:VEVENT
END:VCALENDAR