BEGIN:VCALENDAR
VERSION:2.0
PRODID:-//Newry SureStart - ECPv6.15.12.2//NONSGML v1.0//EN
CALSCALE:GREGORIAN
METHOD:PUBLISH
X-ORIGINAL-URL:https://newrysurestart.org
X-WR-CALDESC:Events for Newry SureStart
REFRESH-INTERVAL;VALUE=DURATION:PT1H
X-Robots-Tag:noindex
X-PUBLISHED-TTL:PT1H
BEGIN:VTIMEZONE
TZID:UTC
BEGIN:STANDARD
TZOFFSETFROM:+0000
TZOFFSETTO:+0000
TZNAME:UTC
DTSTART:20260101T000000
END:STANDARD
END:VTIMEZONE
BEGIN:VEVENT
DTSTART;TZID=UTC:20270125T100000
DTEND;TZID=UTC:20270125T120000
DTSTAMP:20260419T143502
CREATED:20260411T102608Z
LAST-MODIFIED:20260411T102608Z
UID:10008715-1800871200-1800878400@newrysurestart.org
SUMMARY:Paediatric First Aid
DESCRIPTION:Creche Available
URL:https://newrysurestart.org/booking/paediatric-first-aid/2027-01-25/
LOCATION:Fiveways\, 101 Armagh Rd\, Newry\, BT35 6PW
ORGANIZER;CN="Karen Mc":MAILTO:karenmcgrath@newrysurestart.org
END:VEVENT
BEGIN:VEVENT
DTSTART;TZID=UTC:20270127T100000
DTEND;TZID=UTC:20270127T110000
DTSTAMP:20260419T143502
CREATED:20260411T100929Z
LAST-MODIFIED:20260411T100929Z
UID:10008654-1801044000-1801047600@newrysurestart.org
SUMMARY:Buggy Fitness
DESCRIPTION:
URL:https://newrysurestart.org/booking/buggy-fitness/2027-01-27/
LOCATION:Derrymore Woods\, Bessbrook\, Newry\, Down\, BT35 7EF\, United Kingdom
ORGANIZER;CN="Karen Mc":MAILTO:karenmcgrath@newrysurestart.org
END:VEVENT
BEGIN:VEVENT
DTSTART;TZID=UTC:20270201T100000
DTEND;TZID=UTC:20270201T120000
DTSTAMP:20260419T143502
CREATED:20260411T102608Z
LAST-MODIFIED:20260411T102608Z
UID:10008716-1801476000-1801483200@newrysurestart.org
SUMMARY:Paediatric First Aid
DESCRIPTION:Creche Available
URL:https://newrysurestart.org/booking/paediatric-first-aid/2027-02-01/
LOCATION:Fiveways\, 101 Armagh Rd\, Newry\, BT35 6PW
ORGANIZER;CN="Karen Mc":MAILTO:karenmcgrath@newrysurestart.org
END:VEVENT
BEGIN:VEVENT
DTSTART;TZID=UTC:20270203T100000
DTEND;TZID=UTC:20270203T110000
DTSTAMP:20260419T143502
CREATED:20260411T100929Z
LAST-MODIFIED:20260411T100929Z
UID:10008655-1801648800-1801652400@newrysurestart.org
SUMMARY:Buggy Fitness
DESCRIPTION:
URL:https://newrysurestart.org/booking/buggy-fitness/2027-02-03/
LOCATION:Derrymore Woods\, Bessbrook\, Newry\, Down\, BT35 7EF\, United Kingdom
ORGANIZER;CN="Karen Mc":MAILTO:karenmcgrath@newrysurestart.org
END:VEVENT
BEGIN:VEVENT
DTSTART;TZID=UTC:20270208T100000
DTEND;TZID=UTC:20270208T120000
DTSTAMP:20260419T143502
CREATED:20260411T102608Z
LAST-MODIFIED:20260411T102608Z
UID:10008717-1802080800-1802088000@newrysurestart.org
SUMMARY:Paediatric First Aid
DESCRIPTION:Creche Available
URL:https://newrysurestart.org/booking/paediatric-first-aid/2027-02-08/
LOCATION:Fiveways\, 101 Armagh Rd\, Newry\, BT35 6PW
ORGANIZER;CN="Karen Mc":MAILTO:karenmcgrath@newrysurestart.org
END:VEVENT
BEGIN:VEVENT
DTSTART;TZID=UTC:20270210T100000
DTEND;TZID=UTC:20270210T110000
DTSTAMP:20260419T143502
CREATED:20260411T100929Z
LAST-MODIFIED:20260411T100929Z
UID:10008656-1802253600-1802257200@newrysurestart.org
SUMMARY:Buggy Fitness
DESCRIPTION:
URL:https://newrysurestart.org/booking/buggy-fitness/2027-02-10/
LOCATION:Derrymore Woods\, Bessbrook\, Newry\, Down\, BT35 7EF\, United Kingdom
ORGANIZER;CN="Karen Mc":MAILTO:karenmcgrath@newrysurestart.org
END:VEVENT
BEGIN:VEVENT
DTSTART;TZID=UTC:20270215T100000
DTEND;TZID=UTC:20270215T120000
DTSTAMP:20260419T143502
CREATED:20260411T102608Z
LAST-MODIFIED:20260411T102608Z
UID:10008718-1802685600-1802692800@newrysurestart.org
SUMMARY:Paediatric First Aid
DESCRIPTION:Creche Available
URL:https://newrysurestart.org/booking/paediatric-first-aid/2027-02-15/
LOCATION:Fiveways\, 101 Armagh Rd\, Newry\, BT35 6PW
ORGANIZER;CN="Karen Mc":MAILTO:karenmcgrath@newrysurestart.org
END:VEVENT
BEGIN:VEVENT
DTSTART;TZID=UTC:20270217T100000
DTEND;TZID=UTC:20270217T110000
DTSTAMP:20260419T143502
CREATED:20260411T100929Z
LAST-MODIFIED:20260411T100929Z
UID:10008657-1802858400-1802862000@newrysurestart.org
SUMMARY:Buggy Fitness
DESCRIPTION:
URL:https://newrysurestart.org/booking/buggy-fitness/2027-02-17/
LOCATION:Derrymore Woods\, Bessbrook\, Newry\, Down\, BT35 7EF\, United Kingdom
ORGANIZER;CN="Karen Mc":MAILTO:karenmcgrath@newrysurestart.org
END:VEVENT
BEGIN:VEVENT
DTSTART;TZID=UTC:20270222T100000
DTEND;TZID=UTC:20270222T120000
DTSTAMP:20260419T143502
CREATED:20260411T102608Z
LAST-MODIFIED:20260411T102608Z
UID:10008719-1803290400-1803297600@newrysurestart.org
SUMMARY:Paediatric First Aid
DESCRIPTION:Creche Available
URL:https://newrysurestart.org/booking/paediatric-first-aid/2027-02-22/
LOCATION:Fiveways\, 101 Armagh Rd\, Newry\, BT35 6PW
ORGANIZER;CN="Karen Mc":MAILTO:karenmcgrath@newrysurestart.org
END:VEVENT
BEGIN:VEVENT
DTSTART;TZID=UTC:20270224T100000
DTEND;TZID=UTC:20270224T110000
DTSTAMP:20260419T143502
CREATED:20260411T100929Z
LAST-MODIFIED:20260411T100929Z
UID:10008658-1803463200-1803466800@newrysurestart.org
SUMMARY:Buggy Fitness
DESCRIPTION:
URL:https://newrysurestart.org/booking/buggy-fitness/2027-02-24/
LOCATION:Derrymore Woods\, Bessbrook\, Newry\, Down\, BT35 7EF\, United Kingdom
ORGANIZER;CN="Karen Mc":MAILTO:karenmcgrath@newrysurestart.org
END:VEVENT
BEGIN:VEVENT
DTSTART;TZID=UTC:20270301T100000
DTEND;TZID=UTC:20270301T120000
DTSTAMP:20260419T143502
CREATED:20260411T102608Z
LAST-MODIFIED:20260411T102608Z
UID:10008720-1803895200-1803902400@newrysurestart.org
SUMMARY:Paediatric First Aid
DESCRIPTION:Creche Available
URL:https://newrysurestart.org/booking/paediatric-first-aid/2027-03-01/
LOCATION:Fiveways\, 101 Armagh Rd\, Newry\, BT35 6PW
ORGANIZER;CN="Karen Mc":MAILTO:karenmcgrath@newrysurestart.org
END:VEVENT
BEGIN:VEVENT
DTSTART;TZID=UTC:20270303T100000
DTEND;TZID=UTC:20270303T110000
DTSTAMP:20260419T143502
CREATED:20260411T100929Z
LAST-MODIFIED:20260411T100929Z
UID:10008659-1804068000-1804071600@newrysurestart.org
SUMMARY:Buggy Fitness
DESCRIPTION:
URL:https://newrysurestart.org/booking/buggy-fitness/2027-03-03/
LOCATION:Derrymore Woods\, Bessbrook\, Newry\, Down\, BT35 7EF\, United Kingdom
ORGANIZER;CN="Karen Mc":MAILTO:karenmcgrath@newrysurestart.org
END:VEVENT
BEGIN:VEVENT
DTSTART;TZID=UTC:20270308T100000
DTEND;TZID=UTC:20270308T120000
DTSTAMP:20260419T143502
CREATED:20260411T102608Z
LAST-MODIFIED:20260411T102608Z
UID:10008721-1804500000-1804507200@newrysurestart.org
SUMMARY:Paediatric First Aid
DESCRIPTION:Creche Available
URL:https://newrysurestart.org/booking/paediatric-first-aid/2027-03-08/
LOCATION:Fiveways\, 101 Armagh Rd\, Newry\, BT35 6PW
ORGANIZER;CN="Karen Mc":MAILTO:karenmcgrath@newrysurestart.org
END:VEVENT
BEGIN:VEVENT
DTSTART;TZID=UTC:20270310T100000
DTEND;TZID=UTC:20270310T110000
DTSTAMP:20260419T143502
CREATED:20260411T100929Z
LAST-MODIFIED:20260411T100929Z
UID:10008660-1804672800-1804676400@newrysurestart.org
SUMMARY:Buggy Fitness
DESCRIPTION:
URL:https://newrysurestart.org/booking/buggy-fitness/2027-03-10/
LOCATION:Derrymore Woods\, Bessbrook\, Newry\, Down\, BT35 7EF\, United Kingdom
ORGANIZER;CN="Karen Mc":MAILTO:karenmcgrath@newrysurestart.org
END:VEVENT
BEGIN:VEVENT
DTSTART;TZID=UTC:20270315T100000
DTEND;TZID=UTC:20270315T120000
DTSTAMP:20260419T143502
CREATED:20260411T102608Z
LAST-MODIFIED:20260411T102608Z
UID:10008722-1805104800-1805112000@newrysurestart.org
SUMMARY:Paediatric First Aid
DESCRIPTION:Creche Available
URL:https://newrysurestart.org/booking/paediatric-first-aid/2027-03-15/
LOCATION:Fiveways\, 101 Armagh Rd\, Newry\, BT35 6PW
ORGANIZER;CN="Karen Mc":MAILTO:karenmcgrath@newrysurestart.org
END:VEVENT
BEGIN:VEVENT
DTSTART;TZID=UTC:20270317T100000
DTEND;TZID=UTC:20270317T110000
DTSTAMP:20260419T143502
CREATED:20260411T100929Z
LAST-MODIFIED:20260411T100929Z
UID:10008661-1805277600-1805281200@newrysurestart.org
SUMMARY:Buggy Fitness
DESCRIPTION:
URL:https://newrysurestart.org/booking/buggy-fitness/2027-03-17/
LOCATION:Derrymore Woods\, Bessbrook\, Newry\, Down\, BT35 7EF\, United Kingdom
ORGANIZER;CN="Karen Mc":MAILTO:karenmcgrath@newrysurestart.org
END:VEVENT
BEGIN:VEVENT
DTSTART;TZID=UTC:20270322T100000
DTEND;TZID=UTC:20270322T120000
DTSTAMP:20260419T143502
CREATED:20260411T102608Z
LAST-MODIFIED:20260411T102608Z
UID:10008723-1805709600-1805716800@newrysurestart.org
SUMMARY:Paediatric First Aid
DESCRIPTION:Creche Available
URL:https://newrysurestart.org/booking/paediatric-first-aid/2027-03-22/
LOCATION:Fiveways\, 101 Armagh Rd\, Newry\, BT35 6PW
ORGANIZER;CN="Karen Mc":MAILTO:karenmcgrath@newrysurestart.org
END:VEVENT
BEGIN:VEVENT
DTSTART;TZID=UTC:20270324T100000
DTEND;TZID=UTC:20270324T110000
DTSTAMP:20260419T143502
CREATED:20260411T100929Z
LAST-MODIFIED:20260411T100929Z
UID:10008662-1805882400-1805886000@newrysurestart.org
SUMMARY:Buggy Fitness
DESCRIPTION:
URL:https://newrysurestart.org/booking/buggy-fitness/2027-03-24/
LOCATION:Derrymore Woods\, Bessbrook\, Newry\, Down\, BT35 7EF\, United Kingdom
ORGANIZER;CN="Karen Mc":MAILTO:karenmcgrath@newrysurestart.org
END:VEVENT
BEGIN:VEVENT
DTSTART;TZID=UTC:20270329T100000
DTEND;TZID=UTC:20270329T120000
DTSTAMP:20260419T143502
CREATED:20260411T102608Z
LAST-MODIFIED:20260411T102608Z
UID:10008724-1806314400-1806321600@newrysurestart.org
SUMMARY:Paediatric First Aid
DESCRIPTION:Creche Available
URL:https://newrysurestart.org/booking/paediatric-first-aid/2027-03-29/
LOCATION:Fiveways\, 101 Armagh Rd\, Newry\, BT35 6PW
ORGANIZER;CN="Karen Mc":MAILTO:karenmcgrath@newrysurestart.org
END:VEVENT
BEGIN:VEVENT
DTSTART;TZID=UTC:20270331T100000
DTEND;TZID=UTC:20270331T110000
DTSTAMP:20260419T143502
CREATED:20260411T100929Z
LAST-MODIFIED:20260411T100929Z
UID:10008663-1806487200-1806490800@newrysurestart.org
SUMMARY:Buggy Fitness
DESCRIPTION:
URL:https://newrysurestart.org/booking/buggy-fitness/2027-03-31/
LOCATION:Derrymore Woods\, Bessbrook\, Newry\, Down\, BT35 7EF\, United Kingdom
ORGANIZER;CN="Karen Mc":MAILTO:karenmcgrath@newrysurestart.org
END:VEVENT
BEGIN:VEVENT
DTSTART;TZID=UTC:20270405T100000
DTEND;TZID=UTC:20270405T120000
DTSTAMP:20260419T143502
CREATED:20260411T102608Z
LAST-MODIFIED:20260411T102608Z
UID:10008725-1806919200-1806926400@newrysurestart.org
SUMMARY:Paediatric First Aid
DESCRIPTION:Creche Available
URL:https://newrysurestart.org/booking/paediatric-first-aid/2027-04-05/
LOCATION:Fiveways\, 101 Armagh Rd\, Newry\, BT35 6PW
ORGANIZER;CN="Karen Mc":MAILTO:karenmcgrath@newrysurestart.org
END:VEVENT
BEGIN:VEVENT
DTSTART;TZID=UTC:20270407T100000
DTEND;TZID=UTC:20270407T110000
DTSTAMP:20260419T143502
CREATED:20260411T100929Z
LAST-MODIFIED:20260411T100929Z
UID:10008664-1807092000-1807095600@newrysurestart.org
SUMMARY:Buggy Fitness
DESCRIPTION:
URL:https://newrysurestart.org/booking/buggy-fitness/2027-04-07/
LOCATION:Derrymore Woods\, Bessbrook\, Newry\, Down\, BT35 7EF\, United Kingdom
ORGANIZER;CN="Karen Mc":MAILTO:karenmcgrath@newrysurestart.org
END:VEVENT
BEGIN:VEVENT
DTSTART;TZID=UTC:20270412T100000
DTEND;TZID=UTC:20270412T120000
DTSTAMP:20260419T143502
CREATED:20260411T102608Z
LAST-MODIFIED:20260411T102608Z
UID:10008726-1807524000-1807531200@newrysurestart.org
SUMMARY:Paediatric First Aid
DESCRIPTION:Creche Available
URL:https://newrysurestart.org/booking/paediatric-first-aid/2027-04-12/
LOCATION:Fiveways\, 101 Armagh Rd\, Newry\, BT35 6PW
ORGANIZER;CN="Karen Mc":MAILTO:karenmcgrath@newrysurestart.org
END:VEVENT
BEGIN:VEVENT
DTSTART;TZID=UTC:20270414T100000
DTEND;TZID=UTC:20270414T110000
DTSTAMP:20260419T143502
CREATED:20260411T100929Z
LAST-MODIFIED:20260411T100929Z
UID:10008665-1807696800-1807700400@newrysurestart.org
SUMMARY:Buggy Fitness
DESCRIPTION:
URL:https://newrysurestart.org/booking/buggy-fitness/2027-04-14/
LOCATION:Derrymore Woods\, Bessbrook\, Newry\, Down\, BT35 7EF\, United Kingdom
ORGANIZER;CN="Karen Mc":MAILTO:karenmcgrath@newrysurestart.org
END:VEVENT
BEGIN:VEVENT
DTSTART;TZID=UTC:20270419T100000
DTEND;TZID=UTC:20270419T120000
DTSTAMP:20260419T143502
CREATED:20260411T102608Z
LAST-MODIFIED:20260411T102608Z
UID:10008727-1808128800-1808136000@newrysurestart.org
SUMMARY:Paediatric First Aid
DESCRIPTION:Creche Available
URL:https://newrysurestart.org/booking/paediatric-first-aid/2027-04-19/
LOCATION:Fiveways\, 101 Armagh Rd\, Newry\, BT35 6PW
ORGANIZER;CN="Karen Mc":MAILTO:karenmcgrath@newrysurestart.org
END:VEVENT
BEGIN:VEVENT
DTSTART;TZID=UTC:20270421T100000
DTEND;TZID=UTC:20270421T110000
DTSTAMP:20260419T143502
CREATED:20260411T100929Z
LAST-MODIFIED:20260411T100929Z
UID:10008666-1808301600-1808305200@newrysurestart.org
SUMMARY:Buggy Fitness
DESCRIPTION:
URL:https://newrysurestart.org/booking/buggy-fitness/2027-04-21/
LOCATION:Derrymore Woods\, Bessbrook\, Newry\, Down\, BT35 7EF\, United Kingdom
ORGANIZER;CN="Karen Mc":MAILTO:karenmcgrath@newrysurestart.org
END:VEVENT
BEGIN:VEVENT
DTSTART;TZID=UTC:20270426T100000
DTEND;TZID=UTC:20270426T120000
DTSTAMP:20260419T143502
CREATED:20260411T102608Z
LAST-MODIFIED:20260411T102608Z
UID:10008728-1808733600-1808740800@newrysurestart.org
SUMMARY:Paediatric First Aid
DESCRIPTION:Creche Available
URL:https://newrysurestart.org/booking/paediatric-first-aid/2027-04-26/
LOCATION:Fiveways\, 101 Armagh Rd\, Newry\, BT35 6PW
ORGANIZER;CN="Karen Mc":MAILTO:karenmcgrath@newrysurestart.org
END:VEVENT
BEGIN:VEVENT
DTSTART;TZID=UTC:20270428T100000
DTEND;TZID=UTC:20270428T110000
DTSTAMP:20260419T143502
CREATED:20260411T100929Z
LAST-MODIFIED:20260411T100929Z
UID:10008667-1808906400-1808910000@newrysurestart.org
SUMMARY:Buggy Fitness
DESCRIPTION:
URL:https://newrysurestart.org/booking/buggy-fitness/2027-04-28/
LOCATION:Derrymore Woods\, Bessbrook\, Newry\, Down\, BT35 7EF\, United Kingdom
ORGANIZER;CN="Karen Mc":MAILTO:karenmcgrath@newrysurestart.org
END:VEVENT
BEGIN:VEVENT
DTSTART;TZID=UTC:20270503T100000
DTEND;TZID=UTC:20270503T120000
DTSTAMP:20260419T143502
CREATED:20260411T102608Z
LAST-MODIFIED:20260411T102608Z
UID:10008729-1809338400-1809345600@newrysurestart.org
SUMMARY:Paediatric First Aid
DESCRIPTION:Creche Available
URL:https://newrysurestart.org/booking/paediatric-first-aid/2027-05-03/
LOCATION:Fiveways\, 101 Armagh Rd\, Newry\, BT35 6PW
ORGANIZER;CN="Karen Mc":MAILTO:karenmcgrath@newrysurestart.org
END:VEVENT
BEGIN:VEVENT
DTSTART;TZID=UTC:20270505T100000
DTEND;TZID=UTC:20270505T110000
DTSTAMP:20260419T143502
CREATED:20260411T100929Z
LAST-MODIFIED:20260411T100929Z
UID:10008668-1809511200-1809514800@newrysurestart.org
SUMMARY:Buggy Fitness
DESCRIPTION:
URL:https://newrysurestart.org/booking/buggy-fitness/2027-05-05/
LOCATION:Derrymore Woods\, Bessbrook\, Newry\, Down\, BT35 7EF\, United Kingdom
ORGANIZER;CN="Karen Mc":MAILTO:karenmcgrath@newrysurestart.org
END:VEVENT
END:VCALENDAR