BEGIN:VCALENDAR
VERSION:2.0
PRODID:-//Newry SureStart - ECPv6.15.12.2//NONSGML v1.0//EN
CALSCALE:GREGORIAN
METHOD:PUBLISH
X-ORIGINAL-URL:https://newrysurestart.org
X-WR-CALDESC:Events for Newry SureStart
REFRESH-INTERVAL;VALUE=DURATION:PT1H
X-Robots-Tag:noindex
X-PUBLISHED-TTL:PT1H
BEGIN:VTIMEZONE
TZID:UTC
BEGIN:STANDARD
TZOFFSETFROM:+0000
TZOFFSETTO:+0000
TZNAME:UTC
DTSTART:20240101T000000
END:STANDARD
END:VTIMEZONE
BEGIN:VEVENT
DTSTART;TZID=UTC:20250108T110000
DTEND;TZID=UTC:20250108T120000
DTSTAMP:20260419T203520
CREATED:20250326T152527Z
LAST-MODIFIED:20250326T152527Z
UID:10004813-1736334000-1736337600@newrysurestart.org
SUMMARY:Breastfeeding Support Group & Coffee Morning
DESCRIPTION:Our weekly drop-in support group\, all breastfeeding mums\, babies and antenatal women welcome. Delivered in partnership with the Health Visiting Team in the SH&SCT.
URL:https://newrysurestart.org/booking/breastfeeding-support-group-coffee-morning/2025-01-08/
LOCATION:Newry Leisure Centre (Training Room)\, 60 Cecil Street\, Newry\, BT35 6AU\, United Kingdom
ORGANIZER;CN="Sandra H":MAILTO:sandrah@newrysurestart.org
END:VEVENT
END:VCALENDAR