BEGIN:VCALENDAR
VERSION:2.0
PRODID:-//Newry SureStart - ECPv6.15.12.2//NONSGML v1.0//EN
CALSCALE:GREGORIAN
METHOD:PUBLISH
X-WR-CALNAME:Newry SureStart
X-ORIGINAL-URL:https://newrysurestart.org
X-WR-CALDESC:Events for Newry SureStart
REFRESH-INTERVAL;VALUE=DURATION:PT1H
X-Robots-Tag:noindex
X-PUBLISHED-TTL:PT1H
BEGIN:VTIMEZONE
TZID:UTC
BEGIN:STANDARD
TZOFFSETFROM:+0000
TZOFFSETTO:+0000
TZNAME:UTC
DTSTART:20260101T000000
END:STANDARD
END:VTIMEZONE
BEGIN:VEVENT
DTSTART;TZID=UTC:20270623T103000
DTEND;TZID=UTC:20270623T113000
DTSTAMP:20260421T143228
CREATED:20260411T103458Z
LAST-MODIFIED:20260411T103458Z
UID:10008794-1813746600-1813750200@newrysurestart.org
SUMMARY:Infant Massage
DESCRIPTION:
URL:https://newrysurestart.org/booking/infant-massage-5/2027-06-23/
ORGANIZER;CN="Thelma D":MAILTO:thelmad@newrysurestart.org
END:VEVENT
BEGIN:VEVENT
DTSTART;TZID=UTC:20270630T103000
DTEND;TZID=UTC:20270630T113000
DTSTAMP:20260421T143228
CREATED:20260411T103458Z
LAST-MODIFIED:20260411T103458Z
UID:10008795-1814351400-1814355000@newrysurestart.org
SUMMARY:Infant Massage
DESCRIPTION:
URL:https://newrysurestart.org/booking/infant-massage-5/2027-06-30/
ORGANIZER;CN="Thelma D":MAILTO:thelmad@newrysurestart.org
END:VEVENT
END:VCALENDAR