BEGIN:VCALENDAR
VERSION:2.0
PRODID:-//Newry SureStart - ECPv6.15.12.2//NONSGML v1.0//EN
CALSCALE:GREGORIAN
METHOD:PUBLISH
X-WR-CALNAME:Newry SureStart
X-ORIGINAL-URL:https://newrysurestart.org
X-WR-CALDESC:Events for Newry SureStart
REFRESH-INTERVAL;VALUE=DURATION:PT1H
X-Robots-Tag:noindex
X-PUBLISHED-TTL:PT1H
BEGIN:VTIMEZONE
TZID:UTC
BEGIN:STANDARD
TZOFFSETFROM:+0000
TZOFFSETTO:+0000
TZNAME:UTC
DTSTART:20250101T000000
END:STANDARD
END:VTIMEZONE
BEGIN:VEVENT
DTSTART;TZID=UTC:20261229T103000
DTEND;TZID=UTC:20261229T113000
DTSTAMP:20260419T182338
CREATED:20260409T212733Z
LAST-MODIFIED:20260409T212733Z
UID:10007622-1798540200-1798543800@newrysurestart.org
SUMMARY:Sure Start Sounds
DESCRIPTION:
URL:https://newrysurestart.org/booking/sure-start-sounds-2/2026-12-29/
LOCATION:Derrybeg Community Centre\, Derrybeg Park\, Newry\, BT35 6EZ
ORGANIZER;CN="Karen S":MAILTO:karens@newrysurestart.org
END:VEVENT
BEGIN:VEVENT
DTSTART;TZID=UTC:20261230T103000
DTEND;TZID=UTC:20261230T114500
DTSTAMP:20260419T182338
CREATED:20260409T213558Z
LAST-MODIFIED:20260409T213558Z
UID:10007685-1798626600-1798631100@newrysurestart.org
SUMMARY:Parent & Toddler Group
DESCRIPTION:
URL:https://newrysurestart.org/booking/parent-toddler-group-2/2026-12-30/
LOCATION:Derrybeg Community Centre\, Derrybeg Park\, Newry\, BT35 6EZ
END:VEVENT
BEGIN:VEVENT
DTSTART;TZID=UTC:20270105T093000
DTEND;TZID=UTC:20270105T101500
DTSTAMP:20260419T182338
CREATED:20260409T212512Z
LAST-MODIFIED:20260409T212512Z
UID:10007560-1799141400-1799144100@newrysurestart.org
SUMMARY:Tiny Beats SLT
DESCRIPTION:
URL:https://newrysurestart.org/booking/tiny-beats-slt/2027-01-05/
LOCATION:Derrybeg Community Centre\, Derrybeg Park\, Newry\, BT35 6EZ
END:VEVENT
BEGIN:VEVENT
DTSTART;TZID=UTC:20270105T103000
DTEND;TZID=UTC:20270105T113000
DTSTAMP:20260419T182338
CREATED:20260409T212733Z
LAST-MODIFIED:20260409T212733Z
UID:10007623-1799145000-1799148600@newrysurestart.org
SUMMARY:Sure Start Sounds
DESCRIPTION:
URL:https://newrysurestart.org/booking/sure-start-sounds-2/2027-01-05/
LOCATION:Derrybeg Community Centre\, Derrybeg Park\, Newry\, BT35 6EZ
ORGANIZER;CN="Karen S":MAILTO:karens@newrysurestart.org
END:VEVENT
BEGIN:VEVENT
DTSTART;TZID=UTC:20270106T103000
DTEND;TZID=UTC:20270106T114500
DTSTAMP:20260419T182338
CREATED:20260409T213558Z
LAST-MODIFIED:20260409T213558Z
UID:10007686-1799231400-1799235900@newrysurestart.org
SUMMARY:Parent & Toddler Group
DESCRIPTION:
URL:https://newrysurestart.org/booking/parent-toddler-group-2/2027-01-06/
LOCATION:Derrybeg Community Centre\, Derrybeg Park\, Newry\, BT35 6EZ
END:VEVENT
BEGIN:VEVENT
DTSTART;TZID=UTC:20270112T093000
DTEND;TZID=UTC:20270112T101500
DTSTAMP:20260419T182338
CREATED:20260409T212512Z
LAST-MODIFIED:20260409T212512Z
UID:10007561-1799746200-1799748900@newrysurestart.org
SUMMARY:Tiny Beats SLT
DESCRIPTION:
URL:https://newrysurestart.org/booking/tiny-beats-slt/2027-01-12/
LOCATION:Derrybeg Community Centre\, Derrybeg Park\, Newry\, BT35 6EZ
END:VEVENT
BEGIN:VEVENT
DTSTART;TZID=UTC:20270112T103000
DTEND;TZID=UTC:20270112T113000
DTSTAMP:20260419T182338
CREATED:20260409T212733Z
LAST-MODIFIED:20260409T212733Z
UID:10007624-1799749800-1799753400@newrysurestart.org
SUMMARY:Sure Start Sounds
DESCRIPTION:
URL:https://newrysurestart.org/booking/sure-start-sounds-2/2027-01-12/
LOCATION:Derrybeg Community Centre\, Derrybeg Park\, Newry\, BT35 6EZ
ORGANIZER;CN="Karen S":MAILTO:karens@newrysurestart.org
END:VEVENT
BEGIN:VEVENT
DTSTART;TZID=UTC:20270113T103000
DTEND;TZID=UTC:20270113T114500
DTSTAMP:20260419T182338
CREATED:20260409T213558Z
LAST-MODIFIED:20260409T213558Z
UID:10007687-1799836200-1799840700@newrysurestart.org
SUMMARY:Parent & Toddler Group
DESCRIPTION:
URL:https://newrysurestart.org/booking/parent-toddler-group-2/2027-01-13/
LOCATION:Derrybeg Community Centre\, Derrybeg Park\, Newry\, BT35 6EZ
END:VEVENT
BEGIN:VEVENT
DTSTART;TZID=UTC:20270119T093000
DTEND;TZID=UTC:20270119T101500
DTSTAMP:20260419T182338
CREATED:20260409T212512Z
LAST-MODIFIED:20260409T212512Z
UID:10007562-1800351000-1800353700@newrysurestart.org
SUMMARY:Tiny Beats SLT
DESCRIPTION:
URL:https://newrysurestart.org/booking/tiny-beats-slt/2027-01-19/
LOCATION:Derrybeg Community Centre\, Derrybeg Park\, Newry\, BT35 6EZ
END:VEVENT
BEGIN:VEVENT
DTSTART;TZID=UTC:20270119T103000
DTEND;TZID=UTC:20270119T113000
DTSTAMP:20260419T182338
CREATED:20260409T212733Z
LAST-MODIFIED:20260409T212733Z
UID:10007625-1800354600-1800358200@newrysurestart.org
SUMMARY:Sure Start Sounds
DESCRIPTION:
URL:https://newrysurestart.org/booking/sure-start-sounds-2/2027-01-19/
LOCATION:Derrybeg Community Centre\, Derrybeg Park\, Newry\, BT35 6EZ
ORGANIZER;CN="Karen S":MAILTO:karens@newrysurestart.org
END:VEVENT
BEGIN:VEVENT
DTSTART;TZID=UTC:20270120T103000
DTEND;TZID=UTC:20270120T114500
DTSTAMP:20260419T182338
CREATED:20260409T213558Z
LAST-MODIFIED:20260409T213558Z
UID:10007688-1800441000-1800445500@newrysurestart.org
SUMMARY:Parent & Toddler Group
DESCRIPTION:
URL:https://newrysurestart.org/booking/parent-toddler-group-2/2027-01-20/
LOCATION:Derrybeg Community Centre\, Derrybeg Park\, Newry\, BT35 6EZ
END:VEVENT
BEGIN:VEVENT
DTSTART;TZID=UTC:20270126T093000
DTEND;TZID=UTC:20270126T101500
DTSTAMP:20260419T182338
CREATED:20260409T212512Z
LAST-MODIFIED:20260409T212512Z
UID:10007563-1800955800-1800958500@newrysurestart.org
SUMMARY:Tiny Beats SLT
DESCRIPTION:
URL:https://newrysurestart.org/booking/tiny-beats-slt/2027-01-26/
LOCATION:Derrybeg Community Centre\, Derrybeg Park\, Newry\, BT35 6EZ
END:VEVENT
BEGIN:VEVENT
DTSTART;TZID=UTC:20270126T103000
DTEND;TZID=UTC:20270126T113000
DTSTAMP:20260419T182338
CREATED:20260409T212733Z
LAST-MODIFIED:20260409T212733Z
UID:10007626-1800959400-1800963000@newrysurestart.org
SUMMARY:Sure Start Sounds
DESCRIPTION:
URL:https://newrysurestart.org/booking/sure-start-sounds-2/2027-01-26/
LOCATION:Derrybeg Community Centre\, Derrybeg Park\, Newry\, BT35 6EZ
ORGANIZER;CN="Karen S":MAILTO:karens@newrysurestart.org
END:VEVENT
BEGIN:VEVENT
DTSTART;TZID=UTC:20270127T103000
DTEND;TZID=UTC:20270127T114500
DTSTAMP:20260419T182338
CREATED:20260409T213558Z
LAST-MODIFIED:20260409T213558Z
UID:10007689-1801045800-1801050300@newrysurestart.org
SUMMARY:Parent & Toddler Group
DESCRIPTION:
URL:https://newrysurestart.org/booking/parent-toddler-group-2/2027-01-27/
LOCATION:Derrybeg Community Centre\, Derrybeg Park\, Newry\, BT35 6EZ
END:VEVENT
BEGIN:VEVENT
DTSTART;TZID=UTC:20270202T093000
DTEND;TZID=UTC:20270202T101500
DTSTAMP:20260419T182338
CREATED:20260409T212512Z
LAST-MODIFIED:20260409T212512Z
UID:10007564-1801560600-1801563300@newrysurestart.org
SUMMARY:Tiny Beats SLT
DESCRIPTION:
URL:https://newrysurestart.org/booking/tiny-beats-slt/2027-02-02/
LOCATION:Derrybeg Community Centre\, Derrybeg Park\, Newry\, BT35 6EZ
END:VEVENT
BEGIN:VEVENT
DTSTART;TZID=UTC:20270202T103000
DTEND;TZID=UTC:20270202T113000
DTSTAMP:20260419T182338
CREATED:20260409T212733Z
LAST-MODIFIED:20260409T212733Z
UID:10007627-1801564200-1801567800@newrysurestart.org
SUMMARY:Sure Start Sounds
DESCRIPTION:
URL:https://newrysurestart.org/booking/sure-start-sounds-2/2027-02-02/
LOCATION:Derrybeg Community Centre\, Derrybeg Park\, Newry\, BT35 6EZ
ORGANIZER;CN="Karen S":MAILTO:karens@newrysurestart.org
END:VEVENT
BEGIN:VEVENT
DTSTART;TZID=UTC:20270203T103000
DTEND;TZID=UTC:20270203T114500
DTSTAMP:20260419T182338
CREATED:20260409T213558Z
LAST-MODIFIED:20260409T213558Z
UID:10007690-1801650600-1801655100@newrysurestart.org
SUMMARY:Parent & Toddler Group
DESCRIPTION:
URL:https://newrysurestart.org/booking/parent-toddler-group-2/2027-02-03/
LOCATION:Derrybeg Community Centre\, Derrybeg Park\, Newry\, BT35 6EZ
END:VEVENT
BEGIN:VEVENT
DTSTART;TZID=UTC:20270209T093000
DTEND;TZID=UTC:20270209T101500
DTSTAMP:20260419T182338
CREATED:20260409T212512Z
LAST-MODIFIED:20260409T212512Z
UID:10007565-1802165400-1802168100@newrysurestart.org
SUMMARY:Tiny Beats SLT
DESCRIPTION:
URL:https://newrysurestart.org/booking/tiny-beats-slt/2027-02-09/
LOCATION:Derrybeg Community Centre\, Derrybeg Park\, Newry\, BT35 6EZ
END:VEVENT
BEGIN:VEVENT
DTSTART;TZID=UTC:20270209T103000
DTEND;TZID=UTC:20270209T113000
DTSTAMP:20260419T182338
CREATED:20260409T212733Z
LAST-MODIFIED:20260409T212733Z
UID:10007628-1802169000-1802172600@newrysurestart.org
SUMMARY:Sure Start Sounds
DESCRIPTION:
URL:https://newrysurestart.org/booking/sure-start-sounds-2/2027-02-09/
LOCATION:Derrybeg Community Centre\, Derrybeg Park\, Newry\, BT35 6EZ
ORGANIZER;CN="Karen S":MAILTO:karens@newrysurestart.org
END:VEVENT
BEGIN:VEVENT
DTSTART;TZID=UTC:20270210T103000
DTEND;TZID=UTC:20270210T114500
DTSTAMP:20260419T182338
CREATED:20260409T213558Z
LAST-MODIFIED:20260409T213558Z
UID:10007691-1802255400-1802259900@newrysurestart.org
SUMMARY:Parent & Toddler Group
DESCRIPTION:
URL:https://newrysurestart.org/booking/parent-toddler-group-2/2027-02-10/
LOCATION:Derrybeg Community Centre\, Derrybeg Park\, Newry\, BT35 6EZ
END:VEVENT
BEGIN:VEVENT
DTSTART;TZID=UTC:20270216T093000
DTEND;TZID=UTC:20270216T101500
DTSTAMP:20260419T182338
CREATED:20260409T212512Z
LAST-MODIFIED:20260409T212512Z
UID:10007566-1802770200-1802772900@newrysurestart.org
SUMMARY:Tiny Beats SLT
DESCRIPTION:
URL:https://newrysurestart.org/booking/tiny-beats-slt/2027-02-16/
LOCATION:Derrybeg Community Centre\, Derrybeg Park\, Newry\, BT35 6EZ
END:VEVENT
BEGIN:VEVENT
DTSTART;TZID=UTC:20270216T103000
DTEND;TZID=UTC:20270216T113000
DTSTAMP:20260419T182338
CREATED:20260409T212733Z
LAST-MODIFIED:20260409T212733Z
UID:10007629-1802773800-1802777400@newrysurestart.org
SUMMARY:Sure Start Sounds
DESCRIPTION:
URL:https://newrysurestart.org/booking/sure-start-sounds-2/2027-02-16/
LOCATION:Derrybeg Community Centre\, Derrybeg Park\, Newry\, BT35 6EZ
ORGANIZER;CN="Karen S":MAILTO:karens@newrysurestart.org
END:VEVENT
BEGIN:VEVENT
DTSTART;TZID=UTC:20270217T103000
DTEND;TZID=UTC:20270217T114500
DTSTAMP:20260419T182338
CREATED:20260409T213558Z
LAST-MODIFIED:20260409T213558Z
UID:10007692-1802860200-1802864700@newrysurestart.org
SUMMARY:Parent & Toddler Group
DESCRIPTION:
URL:https://newrysurestart.org/booking/parent-toddler-group-2/2027-02-17/
LOCATION:Derrybeg Community Centre\, Derrybeg Park\, Newry\, BT35 6EZ
END:VEVENT
BEGIN:VEVENT
DTSTART;TZID=UTC:20270223T093000
DTEND;TZID=UTC:20270223T101500
DTSTAMP:20260419T182338
CREATED:20260409T212512Z
LAST-MODIFIED:20260409T212512Z
UID:10007567-1803375000-1803377700@newrysurestart.org
SUMMARY:Tiny Beats SLT
DESCRIPTION:
URL:https://newrysurestart.org/booking/tiny-beats-slt/2027-02-23/
LOCATION:Derrybeg Community Centre\, Derrybeg Park\, Newry\, BT35 6EZ
END:VEVENT
BEGIN:VEVENT
DTSTART;TZID=UTC:20270223T103000
DTEND;TZID=UTC:20270223T113000
DTSTAMP:20260419T182338
CREATED:20260409T212733Z
LAST-MODIFIED:20260409T212733Z
UID:10007630-1803378600-1803382200@newrysurestart.org
SUMMARY:Sure Start Sounds
DESCRIPTION:
URL:https://newrysurestart.org/booking/sure-start-sounds-2/2027-02-23/
LOCATION:Derrybeg Community Centre\, Derrybeg Park\, Newry\, BT35 6EZ
ORGANIZER;CN="Karen S":MAILTO:karens@newrysurestart.org
END:VEVENT
BEGIN:VEVENT
DTSTART;TZID=UTC:20270224T103000
DTEND;TZID=UTC:20270224T114500
DTSTAMP:20260419T182338
CREATED:20260409T213558Z
LAST-MODIFIED:20260409T213558Z
UID:10007693-1803465000-1803469500@newrysurestart.org
SUMMARY:Parent & Toddler Group
DESCRIPTION:
URL:https://newrysurestart.org/booking/parent-toddler-group-2/2027-02-24/
LOCATION:Derrybeg Community Centre\, Derrybeg Park\, Newry\, BT35 6EZ
END:VEVENT
BEGIN:VEVENT
DTSTART;TZID=UTC:20270302T093000
DTEND;TZID=UTC:20270302T101500
DTSTAMP:20260419T182338
CREATED:20260409T212512Z
LAST-MODIFIED:20260409T212512Z
UID:10007568-1803979800-1803982500@newrysurestart.org
SUMMARY:Tiny Beats SLT
DESCRIPTION:
URL:https://newrysurestart.org/booking/tiny-beats-slt/2027-03-02/
LOCATION:Derrybeg Community Centre\, Derrybeg Park\, Newry\, BT35 6EZ
END:VEVENT
BEGIN:VEVENT
DTSTART;TZID=UTC:20270302T103000
DTEND;TZID=UTC:20270302T113000
DTSTAMP:20260419T182338
CREATED:20260409T212733Z
LAST-MODIFIED:20260409T212733Z
UID:10007631-1803983400-1803987000@newrysurestart.org
SUMMARY:Sure Start Sounds
DESCRIPTION:
URL:https://newrysurestart.org/booking/sure-start-sounds-2/2027-03-02/
LOCATION:Derrybeg Community Centre\, Derrybeg Park\, Newry\, BT35 6EZ
ORGANIZER;CN="Karen S":MAILTO:karens@newrysurestart.org
END:VEVENT
BEGIN:VEVENT
DTSTART;TZID=UTC:20270303T103000
DTEND;TZID=UTC:20270303T114500
DTSTAMP:20260419T182338
CREATED:20260409T213558Z
LAST-MODIFIED:20260409T213558Z
UID:10007694-1804069800-1804074300@newrysurestart.org
SUMMARY:Parent & Toddler Group
DESCRIPTION:
URL:https://newrysurestart.org/booking/parent-toddler-group-2/2027-03-03/
LOCATION:Derrybeg Community Centre\, Derrybeg Park\, Newry\, BT35 6EZ
END:VEVENT
BEGIN:VEVENT
DTSTART;TZID=UTC:20270309T093000
DTEND;TZID=UTC:20270309T101500
DTSTAMP:20260419T182338
CREATED:20260409T212512Z
LAST-MODIFIED:20260409T212512Z
UID:10007569-1804584600-1804587300@newrysurestart.org
SUMMARY:Tiny Beats SLT
DESCRIPTION:
URL:https://newrysurestart.org/booking/tiny-beats-slt/2027-03-09/
LOCATION:Derrybeg Community Centre\, Derrybeg Park\, Newry\, BT35 6EZ
END:VEVENT
END:VCALENDAR