BEGIN:VCALENDAR
VERSION:2.0
PRODID:-//Newry SureStart - ECPv6.15.12.2//NONSGML v1.0//EN
CALSCALE:GREGORIAN
METHOD:PUBLISH
X-ORIGINAL-URL:https://newrysurestart.org
X-WR-CALDESC:Events for Newry SureStart
REFRESH-INTERVAL;VALUE=DURATION:PT1H
X-Robots-Tag:noindex
X-PUBLISHED-TTL:PT1H
BEGIN:VTIMEZONE
TZID:UTC
BEGIN:STANDARD
TZOFFSETFROM:+0000
TZOFFSETTO:+0000
TZNAME:UTC
DTSTART:20260101T000000
END:STANDARD
END:VTIMEZONE
BEGIN:VEVENT
DTSTART;TZID=UTC:20270323T103000
DTEND;TZID=UTC:20270323T113000
DTSTAMP:20260419T235927
CREATED:20260409T212733Z
LAST-MODIFIED:20260409T212733Z
UID:10007634-1805797800-1805801400@newrysurestart.org
SUMMARY:Sure Start Sounds
DESCRIPTION:
URL:https://newrysurestart.org/booking/sure-start-sounds-2/2027-03-23/
LOCATION:Derrybeg Community Centre\, Derrybeg Park\, Newry\, BT35 6EZ
ORGANIZER;CN="Karen S":MAILTO:karens@newrysurestart.org
END:VEVENT
BEGIN:VEVENT
DTSTART;TZID=UTC:20270324T103000
DTEND;TZID=UTC:20270324T114500
DTSTAMP:20260419T235927
CREATED:20260409T213558Z
LAST-MODIFIED:20260409T213558Z
UID:10007697-1805884200-1805888700@newrysurestart.org
SUMMARY:Parent & Toddler Group
DESCRIPTION:
URL:https://newrysurestart.org/booking/parent-toddler-group-2/2027-03-24/
LOCATION:Derrybeg Community Centre\, Derrybeg Park\, Newry\, BT35 6EZ
END:VEVENT
BEGIN:VEVENT
DTSTART;TZID=UTC:20270330T093000
DTEND;TZID=UTC:20270330T101500
DTSTAMP:20260419T235927
CREATED:20260409T212512Z
LAST-MODIFIED:20260409T212512Z
UID:10007572-1806399000-1806401700@newrysurestart.org
SUMMARY:Tiny Beats SLT
DESCRIPTION:
URL:https://newrysurestart.org/booking/tiny-beats-slt/2027-03-30/
LOCATION:Derrybeg Community Centre\, Derrybeg Park\, Newry\, BT35 6EZ
END:VEVENT
BEGIN:VEVENT
DTSTART;TZID=UTC:20270330T103000
DTEND;TZID=UTC:20270330T113000
DTSTAMP:20260419T235927
CREATED:20260409T212733Z
LAST-MODIFIED:20260409T212733Z
UID:10007635-1806402600-1806406200@newrysurestart.org
SUMMARY:Sure Start Sounds
DESCRIPTION:
URL:https://newrysurestart.org/booking/sure-start-sounds-2/2027-03-30/
LOCATION:Derrybeg Community Centre\, Derrybeg Park\, Newry\, BT35 6EZ
ORGANIZER;CN="Karen S":MAILTO:karens@newrysurestart.org
END:VEVENT
BEGIN:VEVENT
DTSTART;TZID=UTC:20270331T103000
DTEND;TZID=UTC:20270331T114500
DTSTAMP:20260419T235927
CREATED:20260409T213558Z
LAST-MODIFIED:20260409T213558Z
UID:10007698-1806489000-1806493500@newrysurestart.org
SUMMARY:Parent & Toddler Group
DESCRIPTION:
URL:https://newrysurestart.org/booking/parent-toddler-group-2/2027-03-31/
LOCATION:Derrybeg Community Centre\, Derrybeg Park\, Newry\, BT35 6EZ
END:VEVENT
BEGIN:VEVENT
DTSTART;TZID=UTC:20270406T093000
DTEND;TZID=UTC:20270406T101500
DTSTAMP:20260419T235927
CREATED:20260409T212512Z
LAST-MODIFIED:20260409T212512Z
UID:10007573-1807003800-1807006500@newrysurestart.org
SUMMARY:Tiny Beats SLT
DESCRIPTION:
URL:https://newrysurestart.org/booking/tiny-beats-slt/2027-04-06/
LOCATION:Derrybeg Community Centre\, Derrybeg Park\, Newry\, BT35 6EZ
END:VEVENT
BEGIN:VEVENT
DTSTART;TZID=UTC:20270406T103000
DTEND;TZID=UTC:20270406T113000
DTSTAMP:20260419T235927
CREATED:20260409T212733Z
LAST-MODIFIED:20260409T212733Z
UID:10007636-1807007400-1807011000@newrysurestart.org
SUMMARY:Sure Start Sounds
DESCRIPTION:
URL:https://newrysurestart.org/booking/sure-start-sounds-2/2027-04-06/
LOCATION:Derrybeg Community Centre\, Derrybeg Park\, Newry\, BT35 6EZ
ORGANIZER;CN="Karen S":MAILTO:karens@newrysurestart.org
END:VEVENT
BEGIN:VEVENT
DTSTART;TZID=UTC:20270407T103000
DTEND;TZID=UTC:20270407T114500
DTSTAMP:20260419T235927
CREATED:20260409T213558Z
LAST-MODIFIED:20260409T213558Z
UID:10007699-1807093800-1807098300@newrysurestart.org
SUMMARY:Parent & Toddler Group
DESCRIPTION:
URL:https://newrysurestart.org/booking/parent-toddler-group-2/2027-04-07/
LOCATION:Derrybeg Community Centre\, Derrybeg Park\, Newry\, BT35 6EZ
END:VEVENT
BEGIN:VEVENT
DTSTART;TZID=UTC:20270413T093000
DTEND;TZID=UTC:20270413T101500
DTSTAMP:20260419T235927
CREATED:20260409T212512Z
LAST-MODIFIED:20260409T212512Z
UID:10007574-1807608600-1807611300@newrysurestart.org
SUMMARY:Tiny Beats SLT
DESCRIPTION:
URL:https://newrysurestart.org/booking/tiny-beats-slt/2027-04-13/
LOCATION:Derrybeg Community Centre\, Derrybeg Park\, Newry\, BT35 6EZ
END:VEVENT
BEGIN:VEVENT
DTSTART;TZID=UTC:20270413T103000
DTEND;TZID=UTC:20270413T113000
DTSTAMP:20260419T235927
CREATED:20260409T212733Z
LAST-MODIFIED:20260409T212733Z
UID:10007637-1807612200-1807615800@newrysurestart.org
SUMMARY:Sure Start Sounds
DESCRIPTION:
URL:https://newrysurestart.org/booking/sure-start-sounds-2/2027-04-13/
LOCATION:Derrybeg Community Centre\, Derrybeg Park\, Newry\, BT35 6EZ
ORGANIZER;CN="Karen S":MAILTO:karens@newrysurestart.org
END:VEVENT
BEGIN:VEVENT
DTSTART;TZID=UTC:20270414T103000
DTEND;TZID=UTC:20270414T114500
DTSTAMP:20260419T235927
CREATED:20260409T213558Z
LAST-MODIFIED:20260409T213558Z
UID:10007700-1807698600-1807703100@newrysurestart.org
SUMMARY:Parent & Toddler Group
DESCRIPTION:
URL:https://newrysurestart.org/booking/parent-toddler-group-2/2027-04-14/
LOCATION:Derrybeg Community Centre\, Derrybeg Park\, Newry\, BT35 6EZ
END:VEVENT
BEGIN:VEVENT
DTSTART;TZID=UTC:20270420T093000
DTEND;TZID=UTC:20270420T101500
DTSTAMP:20260419T235927
CREATED:20260409T212512Z
LAST-MODIFIED:20260409T212512Z
UID:10007575-1808213400-1808216100@newrysurestart.org
SUMMARY:Tiny Beats SLT
DESCRIPTION:
URL:https://newrysurestart.org/booking/tiny-beats-slt/2027-04-20/
LOCATION:Derrybeg Community Centre\, Derrybeg Park\, Newry\, BT35 6EZ
END:VEVENT
BEGIN:VEVENT
DTSTART;TZID=UTC:20270420T103000
DTEND;TZID=UTC:20270420T113000
DTSTAMP:20260419T235927
CREATED:20260409T212733Z
LAST-MODIFIED:20260409T212733Z
UID:10007638-1808217000-1808220600@newrysurestart.org
SUMMARY:Sure Start Sounds
DESCRIPTION:
URL:https://newrysurestart.org/booking/sure-start-sounds-2/2027-04-20/
LOCATION:Derrybeg Community Centre\, Derrybeg Park\, Newry\, BT35 6EZ
ORGANIZER;CN="Karen S":MAILTO:karens@newrysurestart.org
END:VEVENT
BEGIN:VEVENT
DTSTART;TZID=UTC:20270421T103000
DTEND;TZID=UTC:20270421T114500
DTSTAMP:20260419T235927
CREATED:20260409T213558Z
LAST-MODIFIED:20260409T213558Z
UID:10007701-1808303400-1808307900@newrysurestart.org
SUMMARY:Parent & Toddler Group
DESCRIPTION:
URL:https://newrysurestart.org/booking/parent-toddler-group-2/2027-04-21/
LOCATION:Derrybeg Community Centre\, Derrybeg Park\, Newry\, BT35 6EZ
END:VEVENT
BEGIN:VEVENT
DTSTART;TZID=UTC:20270427T093000
DTEND;TZID=UTC:20270427T101500
DTSTAMP:20260419T235927
CREATED:20260409T212512Z
LAST-MODIFIED:20260409T212512Z
UID:10007576-1808818200-1808820900@newrysurestart.org
SUMMARY:Tiny Beats SLT
DESCRIPTION:
URL:https://newrysurestart.org/booking/tiny-beats-slt/2027-04-27/
LOCATION:Derrybeg Community Centre\, Derrybeg Park\, Newry\, BT35 6EZ
END:VEVENT
BEGIN:VEVENT
DTSTART;TZID=UTC:20270427T103000
DTEND;TZID=UTC:20270427T113000
DTSTAMP:20260419T235927
CREATED:20260409T212733Z
LAST-MODIFIED:20260409T212733Z
UID:10007639-1808821800-1808825400@newrysurestart.org
SUMMARY:Sure Start Sounds
DESCRIPTION:
URL:https://newrysurestart.org/booking/sure-start-sounds-2/2027-04-27/
LOCATION:Derrybeg Community Centre\, Derrybeg Park\, Newry\, BT35 6EZ
ORGANIZER;CN="Karen S":MAILTO:karens@newrysurestart.org
END:VEVENT
BEGIN:VEVENT
DTSTART;TZID=UTC:20270428T103000
DTEND;TZID=UTC:20270428T114500
DTSTAMP:20260419T235927
CREATED:20260409T213558Z
LAST-MODIFIED:20260409T213558Z
UID:10007702-1808908200-1808912700@newrysurestart.org
SUMMARY:Parent & Toddler Group
DESCRIPTION:
URL:https://newrysurestart.org/booking/parent-toddler-group-2/2027-04-28/
LOCATION:Derrybeg Community Centre\, Derrybeg Park\, Newry\, BT35 6EZ
END:VEVENT
BEGIN:VEVENT
DTSTART;TZID=UTC:20270504T093000
DTEND;TZID=UTC:20270504T101500
DTSTAMP:20260419T235927
CREATED:20260409T212512Z
LAST-MODIFIED:20260409T212512Z
UID:10007577-1809423000-1809425700@newrysurestart.org
SUMMARY:Tiny Beats SLT
DESCRIPTION:
URL:https://newrysurestart.org/booking/tiny-beats-slt/2027-05-04/
LOCATION:Derrybeg Community Centre\, Derrybeg Park\, Newry\, BT35 6EZ
END:VEVENT
BEGIN:VEVENT
DTSTART;TZID=UTC:20270504T103000
DTEND;TZID=UTC:20270504T113000
DTSTAMP:20260419T235927
CREATED:20260409T212733Z
LAST-MODIFIED:20260409T212733Z
UID:10007640-1809426600-1809430200@newrysurestart.org
SUMMARY:Sure Start Sounds
DESCRIPTION:
URL:https://newrysurestart.org/booking/sure-start-sounds-2/2027-05-04/
LOCATION:Derrybeg Community Centre\, Derrybeg Park\, Newry\, BT35 6EZ
ORGANIZER;CN="Karen S":MAILTO:karens@newrysurestart.org
END:VEVENT
BEGIN:VEVENT
DTSTART;TZID=UTC:20270505T103000
DTEND;TZID=UTC:20270505T114500
DTSTAMP:20260419T235927
CREATED:20260409T213558Z
LAST-MODIFIED:20260409T213558Z
UID:10007703-1809513000-1809517500@newrysurestart.org
SUMMARY:Parent & Toddler Group
DESCRIPTION:
URL:https://newrysurestart.org/booking/parent-toddler-group-2/2027-05-05/
LOCATION:Derrybeg Community Centre\, Derrybeg Park\, Newry\, BT35 6EZ
END:VEVENT
BEGIN:VEVENT
DTSTART;TZID=UTC:20270511T093000
DTEND;TZID=UTC:20270511T101500
DTSTAMP:20260419T235927
CREATED:20260409T212512Z
LAST-MODIFIED:20260409T212512Z
UID:10007578-1810027800-1810030500@newrysurestart.org
SUMMARY:Tiny Beats SLT
DESCRIPTION:
URL:https://newrysurestart.org/booking/tiny-beats-slt/2027-05-11/
LOCATION:Derrybeg Community Centre\, Derrybeg Park\, Newry\, BT35 6EZ
END:VEVENT
BEGIN:VEVENT
DTSTART;TZID=UTC:20270511T103000
DTEND;TZID=UTC:20270511T113000
DTSTAMP:20260419T235927
CREATED:20260409T212733Z
LAST-MODIFIED:20260409T212733Z
UID:10007641-1810031400-1810035000@newrysurestart.org
SUMMARY:Sure Start Sounds
DESCRIPTION:
URL:https://newrysurestart.org/booking/sure-start-sounds-2/2027-05-11/
LOCATION:Derrybeg Community Centre\, Derrybeg Park\, Newry\, BT35 6EZ
ORGANIZER;CN="Karen S":MAILTO:karens@newrysurestart.org
END:VEVENT
BEGIN:VEVENT
DTSTART;TZID=UTC:20270512T103000
DTEND;TZID=UTC:20270512T114500
DTSTAMP:20260419T235928
CREATED:20260409T213558Z
LAST-MODIFIED:20260409T213558Z
UID:10007704-1810117800-1810122300@newrysurestart.org
SUMMARY:Parent & Toddler Group
DESCRIPTION:
URL:https://newrysurestart.org/booking/parent-toddler-group-2/2027-05-12/
LOCATION:Derrybeg Community Centre\, Derrybeg Park\, Newry\, BT35 6EZ
END:VEVENT
BEGIN:VEVENT
DTSTART;TZID=UTC:20270518T093000
DTEND;TZID=UTC:20270518T101500
DTSTAMP:20260419T235928
CREATED:20260409T212512Z
LAST-MODIFIED:20260409T212512Z
UID:10007579-1810632600-1810635300@newrysurestart.org
SUMMARY:Tiny Beats SLT
DESCRIPTION:
URL:https://newrysurestart.org/booking/tiny-beats-slt/2027-05-18/
LOCATION:Derrybeg Community Centre\, Derrybeg Park\, Newry\, BT35 6EZ
END:VEVENT
BEGIN:VEVENT
DTSTART;TZID=UTC:20270518T103000
DTEND;TZID=UTC:20270518T113000
DTSTAMP:20260419T235928
CREATED:20260409T212733Z
LAST-MODIFIED:20260409T212733Z
UID:10007642-1810636200-1810639800@newrysurestart.org
SUMMARY:Sure Start Sounds
DESCRIPTION:
URL:https://newrysurestart.org/booking/sure-start-sounds-2/2027-05-18/
LOCATION:Derrybeg Community Centre\, Derrybeg Park\, Newry\, BT35 6EZ
ORGANIZER;CN="Karen S":MAILTO:karens@newrysurestart.org
END:VEVENT
BEGIN:VEVENT
DTSTART;TZID=UTC:20270519T103000
DTEND;TZID=UTC:20270519T114500
DTSTAMP:20260419T235928
CREATED:20260409T213558Z
LAST-MODIFIED:20260409T213558Z
UID:10007705-1810722600-1810727100@newrysurestart.org
SUMMARY:Parent & Toddler Group
DESCRIPTION:
URL:https://newrysurestart.org/booking/parent-toddler-group-2/2027-05-19/
LOCATION:Derrybeg Community Centre\, Derrybeg Park\, Newry\, BT35 6EZ
END:VEVENT
BEGIN:VEVENT
DTSTART;TZID=UTC:20270525T093000
DTEND;TZID=UTC:20270525T101500
DTSTAMP:20260419T235928
CREATED:20260409T212512Z
LAST-MODIFIED:20260409T212512Z
UID:10007580-1811237400-1811240100@newrysurestart.org
SUMMARY:Tiny Beats SLT
DESCRIPTION:
URL:https://newrysurestart.org/booking/tiny-beats-slt/2027-05-25/
LOCATION:Derrybeg Community Centre\, Derrybeg Park\, Newry\, BT35 6EZ
END:VEVENT
BEGIN:VEVENT
DTSTART;TZID=UTC:20270525T103000
DTEND;TZID=UTC:20270525T113000
DTSTAMP:20260419T235928
CREATED:20260409T212733Z
LAST-MODIFIED:20260409T212733Z
UID:10007643-1811241000-1811244600@newrysurestart.org
SUMMARY:Sure Start Sounds
DESCRIPTION:
URL:https://newrysurestart.org/booking/sure-start-sounds-2/2027-05-25/
LOCATION:Derrybeg Community Centre\, Derrybeg Park\, Newry\, BT35 6EZ
ORGANIZER;CN="Karen S":MAILTO:karens@newrysurestart.org
END:VEVENT
BEGIN:VEVENT
DTSTART;TZID=UTC:20270526T103000
DTEND;TZID=UTC:20270526T114500
DTSTAMP:20260419T235928
CREATED:20260409T213558Z
LAST-MODIFIED:20260409T213558Z
UID:10007706-1811327400-1811331900@newrysurestart.org
SUMMARY:Parent & Toddler Group
DESCRIPTION:
URL:https://newrysurestart.org/booking/parent-toddler-group-2/2027-05-26/
LOCATION:Derrybeg Community Centre\, Derrybeg Park\, Newry\, BT35 6EZ
END:VEVENT
BEGIN:VEVENT
DTSTART;TZID=UTC:20270601T093000
DTEND;TZID=UTC:20270601T101500
DTSTAMP:20260419T235928
CREATED:20260409T212512Z
LAST-MODIFIED:20260409T212512Z
UID:10007581-1811842200-1811844900@newrysurestart.org
SUMMARY:Tiny Beats SLT
DESCRIPTION:
URL:https://newrysurestart.org/booking/tiny-beats-slt/2027-06-01/
LOCATION:Derrybeg Community Centre\, Derrybeg Park\, Newry\, BT35 6EZ
END:VEVENT
END:VCALENDAR