BEGIN:VCALENDAR
VERSION:2.0
PRODID:-//Newry SureStart - ECPv6.15.12.2//NONSGML v1.0//EN
CALSCALE:GREGORIAN
METHOD:PUBLISH
X-ORIGINAL-URL:https://newrysurestart.org
X-WR-CALDESC:Events for Newry SureStart
REFRESH-INTERVAL;VALUE=DURATION:PT1H
X-Robots-Tag:noindex
X-PUBLISHED-TTL:PT1H
BEGIN:VTIMEZONE
TZID:UTC
BEGIN:STANDARD
TZOFFSETFROM:+0000
TZOFFSETTO:+0000
TZNAME:UTC
DTSTART:20260101T000000
END:STANDARD
END:VTIMEZONE
BEGIN:VEVENT
DTSTART;TZID=UTC:20270825T113000
DTEND;TZID=UTC:20270825T130000
DTSTAMP:20260421T170047
CREATED:20260411T091620Z
LAST-MODIFIED:20260411T091620Z
UID:10007864-1819193400-1819198800@newrysurestart.org
SUMMARY:Baby Café
DESCRIPTION:
URL:https://newrysurestart.org/booking/baby-cafe/2027-08-25/
LOCATION:Newry Leisure Centre (Training Room)\, 60 Cecil Street\, Newry\, BT35 6AU\, United Kingdom
END:VEVENT
BEGIN:VEVENT
DTSTART;TZID=UTC:20270901T113000
DTEND;TZID=UTC:20270901T130000
DTSTAMP:20260421T170047
CREATED:20260411T091620Z
LAST-MODIFIED:20260411T091620Z
UID:10007865-1819798200-1819803600@newrysurestart.org
SUMMARY:Baby Café
DESCRIPTION:
URL:https://newrysurestart.org/booking/baby-cafe/2027-09-01/
LOCATION:Newry Leisure Centre (Training Room)\, 60 Cecil Street\, Newry\, BT35 6AU\, United Kingdom
END:VEVENT
BEGIN:VEVENT
DTSTART;TZID=UTC:20270908T113000
DTEND;TZID=UTC:20270908T130000
DTSTAMP:20260421T170047
CREATED:20260411T091620Z
LAST-MODIFIED:20260411T091620Z
UID:10007866-1820403000-1820408400@newrysurestart.org
SUMMARY:Baby Café
DESCRIPTION:
URL:https://newrysurestart.org/booking/baby-cafe/2027-09-08/
LOCATION:Newry Leisure Centre (Training Room)\, 60 Cecil Street\, Newry\, BT35 6AU\, United Kingdom
END:VEVENT
BEGIN:VEVENT
DTSTART;TZID=UTC:20270915T113000
DTEND;TZID=UTC:20270915T130000
DTSTAMP:20260421T170047
CREATED:20260411T091620Z
LAST-MODIFIED:20260411T091620Z
UID:10007867-1821007800-1821013200@newrysurestart.org
SUMMARY:Baby Café
DESCRIPTION:
URL:https://newrysurestart.org/booking/baby-cafe/2027-09-15/
LOCATION:Newry Leisure Centre (Training Room)\, 60 Cecil Street\, Newry\, BT35 6AU\, United Kingdom
END:VEVENT
BEGIN:VEVENT
DTSTART;TZID=UTC:20270922T113000
DTEND;TZID=UTC:20270922T130000
DTSTAMP:20260421T170047
CREATED:20260411T091620Z
LAST-MODIFIED:20260411T091620Z
UID:10007868-1821612600-1821618000@newrysurestart.org
SUMMARY:Baby Café
DESCRIPTION:
URL:https://newrysurestart.org/booking/baby-cafe/2027-09-22/
LOCATION:Newry Leisure Centre (Training Room)\, 60 Cecil Street\, Newry\, BT35 6AU\, United Kingdom
END:VEVENT
BEGIN:VEVENT
DTSTART;TZID=UTC:20270929T113000
DTEND;TZID=UTC:20270929T130000
DTSTAMP:20260421T170047
CREATED:20260411T091620Z
LAST-MODIFIED:20260411T091620Z
UID:10007869-1822217400-1822222800@newrysurestart.org
SUMMARY:Baby Café
DESCRIPTION:
URL:https://newrysurestart.org/booking/baby-cafe/2027-09-29/
LOCATION:Newry Leisure Centre (Training Room)\, 60 Cecil Street\, Newry\, BT35 6AU\, United Kingdom
END:VEVENT
BEGIN:VEVENT
DTSTART;TZID=UTC:20271006T113000
DTEND;TZID=UTC:20271006T130000
DTSTAMP:20260421T170047
CREATED:20260411T091620Z
LAST-MODIFIED:20260411T091620Z
UID:10007870-1822822200-1822827600@newrysurestart.org
SUMMARY:Baby Café
DESCRIPTION:
URL:https://newrysurestart.org/booking/baby-cafe/2027-10-06/
LOCATION:Newry Leisure Centre (Training Room)\, 60 Cecil Street\, Newry\, BT35 6AU\, United Kingdom
END:VEVENT
BEGIN:VEVENT
DTSTART;TZID=UTC:20271013T113000
DTEND;TZID=UTC:20271013T130000
DTSTAMP:20260421T170047
CREATED:20260411T091620Z
LAST-MODIFIED:20260411T091620Z
UID:10007871-1823427000-1823432400@newrysurestart.org
SUMMARY:Baby Café
DESCRIPTION:
URL:https://newrysurestart.org/booking/baby-cafe/2027-10-13/
LOCATION:Newry Leisure Centre (Training Room)\, 60 Cecil Street\, Newry\, BT35 6AU\, United Kingdom
END:VEVENT
BEGIN:VEVENT
DTSTART;TZID=UTC:20271020T113000
DTEND;TZID=UTC:20271020T130000
DTSTAMP:20260421T170047
CREATED:20260411T091620Z
LAST-MODIFIED:20260411T091620Z
UID:10007872-1824031800-1824037200@newrysurestart.org
SUMMARY:Baby Café
DESCRIPTION:
URL:https://newrysurestart.org/booking/baby-cafe/2027-10-20/
LOCATION:Newry Leisure Centre (Training Room)\, 60 Cecil Street\, Newry\, BT35 6AU\, United Kingdom
END:VEVENT
BEGIN:VEVENT
DTSTART;TZID=UTC:20271027T113000
DTEND;TZID=UTC:20271027T130000
DTSTAMP:20260421T170047
CREATED:20260411T091620Z
LAST-MODIFIED:20260411T091620Z
UID:10007873-1824636600-1824642000@newrysurestart.org
SUMMARY:Baby Café
DESCRIPTION:
URL:https://newrysurestart.org/booking/baby-cafe/2027-10-27/
LOCATION:Newry Leisure Centre (Training Room)\, 60 Cecil Street\, Newry\, BT35 6AU\, United Kingdom
END:VEVENT
BEGIN:VEVENT
DTSTART;TZID=UTC:20271103T113000
DTEND;TZID=UTC:20271103T130000
DTSTAMP:20260421T170047
CREATED:20260411T091620Z
LAST-MODIFIED:20260411T091620Z
UID:10007874-1825241400-1825246800@newrysurestart.org
SUMMARY:Baby Café
DESCRIPTION:
URL:https://newrysurestart.org/booking/baby-cafe/2027-11-03/
LOCATION:Newry Leisure Centre (Training Room)\, 60 Cecil Street\, Newry\, BT35 6AU\, United Kingdom
END:VEVENT
BEGIN:VEVENT
DTSTART;TZID=UTC:20271110T113000
DTEND;TZID=UTC:20271110T130000
DTSTAMP:20260421T170047
CREATED:20260411T091620Z
LAST-MODIFIED:20260411T091620Z
UID:10007875-1825846200-1825851600@newrysurestart.org
SUMMARY:Baby Café
DESCRIPTION:
URL:https://newrysurestart.org/booking/baby-cafe/2027-11-10/
LOCATION:Newry Leisure Centre (Training Room)\, 60 Cecil Street\, Newry\, BT35 6AU\, United Kingdom
END:VEVENT
BEGIN:VEVENT
DTSTART;TZID=UTC:20271117T113000
DTEND;TZID=UTC:20271117T130000
DTSTAMP:20260421T170047
CREATED:20260411T091620Z
LAST-MODIFIED:20260411T091620Z
UID:10007876-1826451000-1826456400@newrysurestart.org
SUMMARY:Baby Café
DESCRIPTION:
URL:https://newrysurestart.org/booking/baby-cafe/2027-11-17/
LOCATION:Newry Leisure Centre (Training Room)\, 60 Cecil Street\, Newry\, BT35 6AU\, United Kingdom
END:VEVENT
BEGIN:VEVENT
DTSTART;TZID=UTC:20271124T113000
DTEND;TZID=UTC:20271124T130000
DTSTAMP:20260421T170047
CREATED:20260411T091620Z
LAST-MODIFIED:20260411T091620Z
UID:10007877-1827055800-1827061200@newrysurestart.org
SUMMARY:Baby Café
DESCRIPTION:
URL:https://newrysurestart.org/booking/baby-cafe/2027-11-24/
LOCATION:Newry Leisure Centre (Training Room)\, 60 Cecil Street\, Newry\, BT35 6AU\, United Kingdom
END:VEVENT
BEGIN:VEVENT
DTSTART;TZID=UTC:20271201T113000
DTEND;TZID=UTC:20271201T130000
DTSTAMP:20260421T170047
CREATED:20260411T091620Z
LAST-MODIFIED:20260411T091620Z
UID:10007878-1827660600-1827666000@newrysurestart.org
SUMMARY:Baby Café
DESCRIPTION:
URL:https://newrysurestart.org/booking/baby-cafe/2027-12-01/
LOCATION:Newry Leisure Centre (Training Room)\, 60 Cecil Street\, Newry\, BT35 6AU\, United Kingdom
END:VEVENT
BEGIN:VEVENT
DTSTART;TZID=UTC:20271208T113000
DTEND;TZID=UTC:20271208T130000
DTSTAMP:20260421T170047
CREATED:20260411T091620Z
LAST-MODIFIED:20260411T091620Z
UID:10007879-1828265400-1828270800@newrysurestart.org
SUMMARY:Baby Café
DESCRIPTION:
URL:https://newrysurestart.org/booking/baby-cafe/2027-12-08/
LOCATION:Newry Leisure Centre (Training Room)\, 60 Cecil Street\, Newry\, BT35 6AU\, United Kingdom
END:VEVENT
BEGIN:VEVENT
DTSTART;TZID=UTC:20271215T113000
DTEND;TZID=UTC:20271215T130000
DTSTAMP:20260421T170047
CREATED:20260411T091620Z
LAST-MODIFIED:20260411T091620Z
UID:10007880-1828870200-1828875600@newrysurestart.org
SUMMARY:Baby Café
DESCRIPTION:
URL:https://newrysurestart.org/booking/baby-cafe/2027-12-15/
LOCATION:Newry Leisure Centre (Training Room)\, 60 Cecil Street\, Newry\, BT35 6AU\, United Kingdom
END:VEVENT
BEGIN:VEVENT
DTSTART;TZID=UTC:20271222T113000
DTEND;TZID=UTC:20271222T130000
DTSTAMP:20260421T170047
CREATED:20260411T091620Z
LAST-MODIFIED:20260411T091620Z
UID:10007881-1829475000-1829480400@newrysurestart.org
SUMMARY:Baby Café
DESCRIPTION:
URL:https://newrysurestart.org/booking/baby-cafe/2027-12-22/
LOCATION:Newry Leisure Centre (Training Room)\, 60 Cecil Street\, Newry\, BT35 6AU\, United Kingdom
END:VEVENT
BEGIN:VEVENT
DTSTART;TZID=UTC:20271229T113000
DTEND;TZID=UTC:20271229T130000
DTSTAMP:20260421T170047
CREATED:20260411T091620Z
LAST-MODIFIED:20260411T091620Z
UID:10007882-1830079800-1830085200@newrysurestart.org
SUMMARY:Baby Café
DESCRIPTION:
URL:https://newrysurestart.org/booking/baby-cafe/2027-12-29/
LOCATION:Newry Leisure Centre (Training Room)\, 60 Cecil Street\, Newry\, BT35 6AU\, United Kingdom
END:VEVENT
BEGIN:VEVENT
DTSTART;TZID=UTC:20280105T113000
DTEND;TZID=UTC:20280105T130000
DTSTAMP:20260421T170047
CREATED:20260411T091620Z
LAST-MODIFIED:20260411T091620Z
UID:10007883-1830684600-1830690000@newrysurestart.org
SUMMARY:Baby Café
DESCRIPTION:
URL:https://newrysurestart.org/booking/baby-cafe/2028-01-05/
LOCATION:Newry Leisure Centre (Training Room)\, 60 Cecil Street\, Newry\, BT35 6AU\, United Kingdom
END:VEVENT
BEGIN:VEVENT
DTSTART;TZID=UTC:20280112T113000
DTEND;TZID=UTC:20280112T130000
DTSTAMP:20260421T170047
CREATED:20260411T091620Z
LAST-MODIFIED:20260411T091620Z
UID:10007884-1831289400-1831294800@newrysurestart.org
SUMMARY:Baby Café
DESCRIPTION:
URL:https://newrysurestart.org/booking/baby-cafe/2028-01-12/
LOCATION:Newry Leisure Centre (Training Room)\, 60 Cecil Street\, Newry\, BT35 6AU\, United Kingdom
END:VEVENT
BEGIN:VEVENT
DTSTART;TZID=UTC:20280119T113000
DTEND;TZID=UTC:20280119T130000
DTSTAMP:20260421T170047
CREATED:20260411T091620Z
LAST-MODIFIED:20260411T091620Z
UID:10007885-1831894200-1831899600@newrysurestart.org
SUMMARY:Baby Café
DESCRIPTION:
URL:https://newrysurestart.org/booking/baby-cafe/2028-01-19/
LOCATION:Newry Leisure Centre (Training Room)\, 60 Cecil Street\, Newry\, BT35 6AU\, United Kingdom
END:VEVENT
BEGIN:VEVENT
DTSTART;TZID=UTC:20280126T113000
DTEND;TZID=UTC:20280126T130000
DTSTAMP:20260421T170047
CREATED:20260411T091620Z
LAST-MODIFIED:20260411T091620Z
UID:10007886-1832499000-1832504400@newrysurestart.org
SUMMARY:Baby Café
DESCRIPTION:
URL:https://newrysurestart.org/booking/baby-cafe/2028-01-26/
LOCATION:Newry Leisure Centre (Training Room)\, 60 Cecil Street\, Newry\, BT35 6AU\, United Kingdom
END:VEVENT
BEGIN:VEVENT
DTSTART;TZID=UTC:20280202T113000
DTEND;TZID=UTC:20280202T130000
DTSTAMP:20260421T170047
CREATED:20260411T091620Z
LAST-MODIFIED:20260411T091620Z
UID:10007887-1833103800-1833109200@newrysurestart.org
SUMMARY:Baby Café
DESCRIPTION:
URL:https://newrysurestart.org/booking/baby-cafe/2028-02-02/
LOCATION:Newry Leisure Centre (Training Room)\, 60 Cecil Street\, Newry\, BT35 6AU\, United Kingdom
END:VEVENT
BEGIN:VEVENT
DTSTART;TZID=UTC:20280209T113000
DTEND;TZID=UTC:20280209T130000
DTSTAMP:20260421T170047
CREATED:20260411T091620Z
LAST-MODIFIED:20260411T091620Z
UID:10007888-1833708600-1833714000@newrysurestart.org
SUMMARY:Baby Café
DESCRIPTION:
URL:https://newrysurestart.org/booking/baby-cafe/2028-02-09/
LOCATION:Newry Leisure Centre (Training Room)\, 60 Cecil Street\, Newry\, BT35 6AU\, United Kingdom
END:VEVENT
BEGIN:VEVENT
DTSTART;TZID=UTC:20280216T113000
DTEND;TZID=UTC:20280216T130000
DTSTAMP:20260421T170047
CREATED:20260411T091620Z
LAST-MODIFIED:20260411T091620Z
UID:10007889-1834313400-1834318800@newrysurestart.org
SUMMARY:Baby Café
DESCRIPTION:
URL:https://newrysurestart.org/booking/baby-cafe/2028-02-16/
LOCATION:Newry Leisure Centre (Training Room)\, 60 Cecil Street\, Newry\, BT35 6AU\, United Kingdom
END:VEVENT
BEGIN:VEVENT
DTSTART;TZID=UTC:20280223T113000
DTEND;TZID=UTC:20280223T130000
DTSTAMP:20260421T170047
CREATED:20260411T091620Z
LAST-MODIFIED:20260411T091620Z
UID:10007890-1834918200-1834923600@newrysurestart.org
SUMMARY:Baby Café
DESCRIPTION:
URL:https://newrysurestart.org/booking/baby-cafe/2028-02-23/
LOCATION:Newry Leisure Centre (Training Room)\, 60 Cecil Street\, Newry\, BT35 6AU\, United Kingdom
END:VEVENT
BEGIN:VEVENT
DTSTART;TZID=UTC:20280301T113000
DTEND;TZID=UTC:20280301T130000
DTSTAMP:20260421T170047
CREATED:20260411T091620Z
LAST-MODIFIED:20260411T091620Z
UID:10007891-1835523000-1835528400@newrysurestart.org
SUMMARY:Baby Café
DESCRIPTION:
URL:https://newrysurestart.org/booking/baby-cafe/2028-03-01/
LOCATION:Newry Leisure Centre (Training Room)\, 60 Cecil Street\, Newry\, BT35 6AU\, United Kingdom
END:VEVENT
BEGIN:VEVENT
DTSTART;TZID=UTC:20280308T113000
DTEND;TZID=UTC:20280308T130000
DTSTAMP:20260421T170047
CREATED:20260411T091620Z
LAST-MODIFIED:20260411T091620Z
UID:10007892-1836127800-1836133200@newrysurestart.org
SUMMARY:Baby Café
DESCRIPTION:
URL:https://newrysurestart.org/booking/baby-cafe/2028-03-08/
LOCATION:Newry Leisure Centre (Training Room)\, 60 Cecil Street\, Newry\, BT35 6AU\, United Kingdom
END:VEVENT
BEGIN:VEVENT
DTSTART;TZID=UTC:20280315T113000
DTEND;TZID=UTC:20280315T130000
DTSTAMP:20260421T170047
CREATED:20260411T091620Z
LAST-MODIFIED:20260411T091620Z
UID:10007893-1836732600-1836738000@newrysurestart.org
SUMMARY:Baby Café
DESCRIPTION:
URL:https://newrysurestart.org/booking/baby-cafe/2028-03-15/
LOCATION:Newry Leisure Centre (Training Room)\, 60 Cecil Street\, Newry\, BT35 6AU\, United Kingdom
END:VEVENT
END:VCALENDAR