BEGIN:VCALENDAR
VERSION:2.0
PRODID:-//Newry SureStart - ECPv6.15.12.2//NONSGML v1.0//EN
CALSCALE:GREGORIAN
METHOD:PUBLISH
X-WR-CALNAME:Newry SureStart
X-ORIGINAL-URL:https://newrysurestart.org
X-WR-CALDESC:Events for Newry SureStart
REFRESH-INTERVAL;VALUE=DURATION:PT1H
X-Robots-Tag:noindex
X-PUBLISHED-TTL:PT1H
BEGIN:VTIMEZONE
TZID:UTC
BEGIN:STANDARD
TZOFFSETFROM:+0000
TZOFFSETTO:+0000
TZNAME:UTC
DTSTART:20280101T000000
END:STANDARD
END:VTIMEZONE
BEGIN:VEVENT
DTSTART;TZID=UTC:20290919T113000
DTEND;TZID=UTC:20290919T130000
DTSTAMP:20260422T094352
CREATED:20260411T091620Z
LAST-MODIFIED:20260411T091620Z
UID:10007972-1884511800-1884517200@newrysurestart.org
SUMMARY:Baby Café
DESCRIPTION:
URL:https://newrysurestart.org/booking/baby-cafe/2029-09-19/
LOCATION:Newry Leisure Centre (Training Room)\, 60 Cecil Street\, Newry\, BT35 6AU\, United Kingdom
END:VEVENT
BEGIN:VEVENT
DTSTART;TZID=UTC:20290926T113000
DTEND;TZID=UTC:20290926T130000
DTSTAMP:20260422T094352
CREATED:20260411T091620Z
LAST-MODIFIED:20260411T091620Z
UID:10007973-1885116600-1885122000@newrysurestart.org
SUMMARY:Baby Café
DESCRIPTION:
URL:https://newrysurestart.org/booking/baby-cafe/2029-09-26/
LOCATION:Newry Leisure Centre (Training Room)\, 60 Cecil Street\, Newry\, BT35 6AU\, United Kingdom
END:VEVENT
BEGIN:VEVENT
DTSTART;TZID=UTC:20291003T113000
DTEND;TZID=UTC:20291003T130000
DTSTAMP:20260422T094352
CREATED:20260411T091620Z
LAST-MODIFIED:20260411T091620Z
UID:10007974-1885721400-1885726800@newrysurestart.org
SUMMARY:Baby Café
DESCRIPTION:
URL:https://newrysurestart.org/booking/baby-cafe/2029-10-03/
LOCATION:Newry Leisure Centre (Training Room)\, 60 Cecil Street\, Newry\, BT35 6AU\, United Kingdom
END:VEVENT
BEGIN:VEVENT
DTSTART;TZID=UTC:20291010T113000
DTEND;TZID=UTC:20291010T130000
DTSTAMP:20260422T094352
CREATED:20260411T091620Z
LAST-MODIFIED:20260411T091620Z
UID:10007975-1886326200-1886331600@newrysurestart.org
SUMMARY:Baby Café
DESCRIPTION:
URL:https://newrysurestart.org/booking/baby-cafe/2029-10-10/
LOCATION:Newry Leisure Centre (Training Room)\, 60 Cecil Street\, Newry\, BT35 6AU\, United Kingdom
END:VEVENT
BEGIN:VEVENT
DTSTART;TZID=UTC:20291017T113000
DTEND;TZID=UTC:20291017T130000
DTSTAMP:20260422T094352
CREATED:20260411T091620Z
LAST-MODIFIED:20260411T091620Z
UID:10007976-1886931000-1886936400@newrysurestart.org
SUMMARY:Baby Café
DESCRIPTION:
URL:https://newrysurestart.org/booking/baby-cafe/2029-10-17/
LOCATION:Newry Leisure Centre (Training Room)\, 60 Cecil Street\, Newry\, BT35 6AU\, United Kingdom
END:VEVENT
BEGIN:VEVENT
DTSTART;TZID=UTC:20291024T113000
DTEND;TZID=UTC:20291024T130000
DTSTAMP:20260422T094352
CREATED:20260411T091620Z
LAST-MODIFIED:20260411T091620Z
UID:10007977-1887535800-1887541200@newrysurestart.org
SUMMARY:Baby Café
DESCRIPTION:
URL:https://newrysurestart.org/booking/baby-cafe/2029-10-24/
LOCATION:Newry Leisure Centre (Training Room)\, 60 Cecil Street\, Newry\, BT35 6AU\, United Kingdom
END:VEVENT
BEGIN:VEVENT
DTSTART;TZID=UTC:20291031T113000
DTEND;TZID=UTC:20291031T130000
DTSTAMP:20260422T094352
CREATED:20260411T091620Z
LAST-MODIFIED:20260411T091620Z
UID:10007978-1888140600-1888146000@newrysurestart.org
SUMMARY:Baby Café
DESCRIPTION:
URL:https://newrysurestart.org/booking/baby-cafe/2029-10-31/
LOCATION:Newry Leisure Centre (Training Room)\, 60 Cecil Street\, Newry\, BT35 6AU\, United Kingdom
END:VEVENT
BEGIN:VEVENT
DTSTART;TZID=UTC:20291107T113000
DTEND;TZID=UTC:20291107T130000
DTSTAMP:20260422T094352
CREATED:20260411T091620Z
LAST-MODIFIED:20260411T091620Z
UID:10007979-1888745400-1888750800@newrysurestart.org
SUMMARY:Baby Café
DESCRIPTION:
URL:https://newrysurestart.org/booking/baby-cafe/2029-11-07/
LOCATION:Newry Leisure Centre (Training Room)\, 60 Cecil Street\, Newry\, BT35 6AU\, United Kingdom
END:VEVENT
BEGIN:VEVENT
DTSTART;TZID=UTC:20291114T113000
DTEND;TZID=UTC:20291114T130000
DTSTAMP:20260422T094352
CREATED:20260411T091620Z
LAST-MODIFIED:20260411T091620Z
UID:10007980-1889350200-1889355600@newrysurestart.org
SUMMARY:Baby Café
DESCRIPTION:
URL:https://newrysurestart.org/booking/baby-cafe/2029-11-14/
LOCATION:Newry Leisure Centre (Training Room)\, 60 Cecil Street\, Newry\, BT35 6AU\, United Kingdom
END:VEVENT
BEGIN:VEVENT
DTSTART;TZID=UTC:20291121T113000
DTEND;TZID=UTC:20291121T130000
DTSTAMP:20260422T094352
CREATED:20260411T091620Z
LAST-MODIFIED:20260411T091620Z
UID:10007981-1889955000-1889960400@newrysurestart.org
SUMMARY:Baby Café
DESCRIPTION:
URL:https://newrysurestart.org/booking/baby-cafe/2029-11-21/
LOCATION:Newry Leisure Centre (Training Room)\, 60 Cecil Street\, Newry\, BT35 6AU\, United Kingdom
END:VEVENT
BEGIN:VEVENT
DTSTART;TZID=UTC:20291128T113000
DTEND;TZID=UTC:20291128T130000
DTSTAMP:20260422T094352
CREATED:20260411T091620Z
LAST-MODIFIED:20260411T091620Z
UID:10007982-1890559800-1890565200@newrysurestart.org
SUMMARY:Baby Café
DESCRIPTION:
URL:https://newrysurestart.org/booking/baby-cafe/2029-11-28/
LOCATION:Newry Leisure Centre (Training Room)\, 60 Cecil Street\, Newry\, BT35 6AU\, United Kingdom
END:VEVENT
BEGIN:VEVENT
DTSTART;TZID=UTC:20291205T113000
DTEND;TZID=UTC:20291205T130000
DTSTAMP:20260422T094352
CREATED:20260411T091620Z
LAST-MODIFIED:20260411T091620Z
UID:10007983-1891164600-1891170000@newrysurestart.org
SUMMARY:Baby Café
DESCRIPTION:
URL:https://newrysurestart.org/booking/baby-cafe/2029-12-05/
LOCATION:Newry Leisure Centre (Training Room)\, 60 Cecil Street\, Newry\, BT35 6AU\, United Kingdom
END:VEVENT
BEGIN:VEVENT
DTSTART;TZID=UTC:20291212T113000
DTEND;TZID=UTC:20291212T130000
DTSTAMP:20260422T094352
CREATED:20260411T091620Z
LAST-MODIFIED:20260411T091620Z
UID:10007984-1891769400-1891774800@newrysurestart.org
SUMMARY:Baby Café
DESCRIPTION:
URL:https://newrysurestart.org/booking/baby-cafe/2029-12-12/
LOCATION:Newry Leisure Centre (Training Room)\, 60 Cecil Street\, Newry\, BT35 6AU\, United Kingdom
END:VEVENT
BEGIN:VEVENT
DTSTART;TZID=UTC:20291219T113000
DTEND;TZID=UTC:20291219T130000
DTSTAMP:20260422T094352
CREATED:20260411T091620Z
LAST-MODIFIED:20260411T091620Z
UID:10007985-1892374200-1892379600@newrysurestart.org
SUMMARY:Baby Café
DESCRIPTION:
URL:https://newrysurestart.org/booking/baby-cafe/2029-12-19/
LOCATION:Newry Leisure Centre (Training Room)\, 60 Cecil Street\, Newry\, BT35 6AU\, United Kingdom
END:VEVENT
BEGIN:VEVENT
DTSTART;TZID=UTC:20291226T113000
DTEND;TZID=UTC:20291226T130000
DTSTAMP:20260422T094352
CREATED:20260411T091620Z
LAST-MODIFIED:20260411T091620Z
UID:10007986-1892979000-1892984400@newrysurestart.org
SUMMARY:Baby Café
DESCRIPTION:
URL:https://newrysurestart.org/booking/baby-cafe/2029-12-26/
LOCATION:Newry Leisure Centre (Training Room)\, 60 Cecil Street\, Newry\, BT35 6AU\, United Kingdom
END:VEVENT
BEGIN:VEVENT
DTSTART;TZID=UTC:20300102T113000
DTEND;TZID=UTC:20300102T130000
DTSTAMP:20260422T094352
CREATED:20260411T091620Z
LAST-MODIFIED:20260411T091620Z
UID:10007987-1893583800-1893589200@newrysurestart.org
SUMMARY:Baby Café
DESCRIPTION:
URL:https://newrysurestart.org/booking/baby-cafe/2030-01-02/
LOCATION:Newry Leisure Centre (Training Room)\, 60 Cecil Street\, Newry\, BT35 6AU\, United Kingdom
END:VEVENT
BEGIN:VEVENT
DTSTART;TZID=UTC:20300109T113000
DTEND;TZID=UTC:20300109T130000
DTSTAMP:20260422T094352
CREATED:20260411T091620Z
LAST-MODIFIED:20260411T091620Z
UID:10007988-1894188600-1894194000@newrysurestart.org
SUMMARY:Baby Café
DESCRIPTION:
URL:https://newrysurestart.org/booking/baby-cafe/2030-01-09/
LOCATION:Newry Leisure Centre (Training Room)\, 60 Cecil Street\, Newry\, BT35 6AU\, United Kingdom
END:VEVENT
BEGIN:VEVENT
DTSTART;TZID=UTC:20300116T113000
DTEND;TZID=UTC:20300116T130000
DTSTAMP:20260422T094352
CREATED:20260411T091620Z
LAST-MODIFIED:20260411T091620Z
UID:10007989-1894793400-1894798800@newrysurestart.org
SUMMARY:Baby Café
DESCRIPTION:
URL:https://newrysurestart.org/booking/baby-cafe/2030-01-16/
LOCATION:Newry Leisure Centre (Training Room)\, 60 Cecil Street\, Newry\, BT35 6AU\, United Kingdom
END:VEVENT
BEGIN:VEVENT
DTSTART;TZID=UTC:20300123T113000
DTEND;TZID=UTC:20300123T130000
DTSTAMP:20260422T094352
CREATED:20260411T091620Z
LAST-MODIFIED:20260411T091620Z
UID:10007990-1895398200-1895403600@newrysurestart.org
SUMMARY:Baby Café
DESCRIPTION:
URL:https://newrysurestart.org/booking/baby-cafe/2030-01-23/
LOCATION:Newry Leisure Centre (Training Room)\, 60 Cecil Street\, Newry\, BT35 6AU\, United Kingdom
END:VEVENT
BEGIN:VEVENT
DTSTART;TZID=UTC:20300130T113000
DTEND;TZID=UTC:20300130T130000
DTSTAMP:20260422T094352
CREATED:20260411T091620Z
LAST-MODIFIED:20260411T091620Z
UID:10007991-1896003000-1896008400@newrysurestart.org
SUMMARY:Baby Café
DESCRIPTION:
URL:https://newrysurestart.org/booking/baby-cafe/2030-01-30/
LOCATION:Newry Leisure Centre (Training Room)\, 60 Cecil Street\, Newry\, BT35 6AU\, United Kingdom
END:VEVENT
BEGIN:VEVENT
DTSTART;TZID=UTC:20300206T113000
DTEND;TZID=UTC:20300206T130000
DTSTAMP:20260422T094352
CREATED:20260411T091620Z
LAST-MODIFIED:20260411T091620Z
UID:10007992-1896607800-1896613200@newrysurestart.org
SUMMARY:Baby Café
DESCRIPTION:
URL:https://newrysurestart.org/booking/baby-cafe/2030-02-06/
LOCATION:Newry Leisure Centre (Training Room)\, 60 Cecil Street\, Newry\, BT35 6AU\, United Kingdom
END:VEVENT
BEGIN:VEVENT
DTSTART;TZID=UTC:20300213T113000
DTEND;TZID=UTC:20300213T130000
DTSTAMP:20260422T094352
CREATED:20260411T091620Z
LAST-MODIFIED:20260411T091620Z
UID:10007993-1897212600-1897218000@newrysurestart.org
SUMMARY:Baby Café
DESCRIPTION:
URL:https://newrysurestart.org/booking/baby-cafe/2030-02-13/
LOCATION:Newry Leisure Centre (Training Room)\, 60 Cecil Street\, Newry\, BT35 6AU\, United Kingdom
END:VEVENT
BEGIN:VEVENT
DTSTART;TZID=UTC:20300220T113000
DTEND;TZID=UTC:20300220T130000
DTSTAMP:20260422T094352
CREATED:20260411T091620Z
LAST-MODIFIED:20260411T091620Z
UID:10007994-1897817400-1897822800@newrysurestart.org
SUMMARY:Baby Café
DESCRIPTION:
URL:https://newrysurestart.org/booking/baby-cafe/2030-02-20/
LOCATION:Newry Leisure Centre (Training Room)\, 60 Cecil Street\, Newry\, BT35 6AU\, United Kingdom
END:VEVENT
BEGIN:VEVENT
DTSTART;TZID=UTC:20300227T113000
DTEND;TZID=UTC:20300227T130000
DTSTAMP:20260422T094352
CREATED:20260411T091620Z
LAST-MODIFIED:20260411T091620Z
UID:10007995-1898422200-1898427600@newrysurestart.org
SUMMARY:Baby Café
DESCRIPTION:
URL:https://newrysurestart.org/booking/baby-cafe/2030-02-27/
LOCATION:Newry Leisure Centre (Training Room)\, 60 Cecil Street\, Newry\, BT35 6AU\, United Kingdom
END:VEVENT
BEGIN:VEVENT
DTSTART;TZID=UTC:20300306T113000
DTEND;TZID=UTC:20300306T130000
DTSTAMP:20260422T094352
CREATED:20260411T091620Z
LAST-MODIFIED:20260411T091620Z
UID:10007996-1899027000-1899032400@newrysurestart.org
SUMMARY:Baby Café
DESCRIPTION:
URL:https://newrysurestart.org/booking/baby-cafe/2030-03-06/
LOCATION:Newry Leisure Centre (Training Room)\, 60 Cecil Street\, Newry\, BT35 6AU\, United Kingdom
END:VEVENT
BEGIN:VEVENT
DTSTART;TZID=UTC:20300313T113000
DTEND;TZID=UTC:20300313T130000
DTSTAMP:20260422T094352
CREATED:20260411T091620Z
LAST-MODIFIED:20260411T091620Z
UID:10007997-1899631800-1899637200@newrysurestart.org
SUMMARY:Baby Café
DESCRIPTION:
URL:https://newrysurestart.org/booking/baby-cafe/2030-03-13/
LOCATION:Newry Leisure Centre (Training Room)\, 60 Cecil Street\, Newry\, BT35 6AU\, United Kingdom
END:VEVENT
BEGIN:VEVENT
DTSTART;TZID=UTC:20300320T113000
DTEND;TZID=UTC:20300320T130000
DTSTAMP:20260422T094352
CREATED:20260411T091620Z
LAST-MODIFIED:20260411T091620Z
UID:10007998-1900236600-1900242000@newrysurestart.org
SUMMARY:Baby Café
DESCRIPTION:
URL:https://newrysurestart.org/booking/baby-cafe/2030-03-20/
LOCATION:Newry Leisure Centre (Training Room)\, 60 Cecil Street\, Newry\, BT35 6AU\, United Kingdom
END:VEVENT
BEGIN:VEVENT
DTSTART;TZID=UTC:20300327T113000
DTEND;TZID=UTC:20300327T130000
DTSTAMP:20260422T094352
CREATED:20260411T091620Z
LAST-MODIFIED:20260411T091620Z
UID:10007999-1900841400-1900846800@newrysurestart.org
SUMMARY:Baby Café
DESCRIPTION:
URL:https://newrysurestart.org/booking/baby-cafe/2030-03-27/
LOCATION:Newry Leisure Centre (Training Room)\, 60 Cecil Street\, Newry\, BT35 6AU\, United Kingdom
END:VEVENT
BEGIN:VEVENT
DTSTART;TZID=UTC:20300403T113000
DTEND;TZID=UTC:20300403T130000
DTSTAMP:20260422T094352
CREATED:20260411T091620Z
LAST-MODIFIED:20260411T091620Z
UID:10008000-1901446200-1901451600@newrysurestart.org
SUMMARY:Baby Café
DESCRIPTION:
URL:https://newrysurestart.org/booking/baby-cafe/2030-04-03/
LOCATION:Newry Leisure Centre (Training Room)\, 60 Cecil Street\, Newry\, BT35 6AU\, United Kingdom
END:VEVENT
BEGIN:VEVENT
DTSTART;TZID=UTC:20300410T113000
DTEND;TZID=UTC:20300410T130000
DTSTAMP:20260422T094352
CREATED:20260411T091620Z
LAST-MODIFIED:20260411T091620Z
UID:10008001-1902051000-1902056400@newrysurestart.org
SUMMARY:Baby Café
DESCRIPTION:
URL:https://newrysurestart.org/booking/baby-cafe/2030-04-10/
LOCATION:Newry Leisure Centre (Training Room)\, 60 Cecil Street\, Newry\, BT35 6AU\, United Kingdom
END:VEVENT
END:VCALENDAR