BEGIN:VCALENDAR
VERSION:2.0
PRODID:-//Newry SureStart - ECPv6.15.12.2//NONSGML v1.0//EN
CALSCALE:GREGORIAN
METHOD:PUBLISH
X-ORIGINAL-URL:https://newrysurestart.org
X-WR-CALDESC:Events for Newry SureStart
REFRESH-INTERVAL;VALUE=DURATION:PT1H
X-Robots-Tag:noindex
X-PUBLISHED-TTL:PT1H
BEGIN:VTIMEZONE
TZID:UTC
BEGIN:STANDARD
TZOFFSETFROM:+0000
TZOFFSETTO:+0000
TZNAME:UTC
DTSTART:20290101T000000
END:STANDARD
END:VTIMEZONE
BEGIN:VEVENT
DTSTART;TZID=UTC:20300313T113000
DTEND;TZID=UTC:20300313T130000
DTSTAMP:20260422T133914
CREATED:20260411T091620Z
LAST-MODIFIED:20260411T091620Z
UID:10007997-1899631800-1899637200@newrysurestart.org
SUMMARY:Baby Café
DESCRIPTION:
URL:https://newrysurestart.org/booking/baby-cafe/2030-03-13/
LOCATION:Newry Leisure Centre (Training Room)\, 60 Cecil Street\, Newry\, BT35 6AU\, United Kingdom
END:VEVENT
BEGIN:VEVENT
DTSTART;TZID=UTC:20300320T113000
DTEND;TZID=UTC:20300320T130000
DTSTAMP:20260422T133914
CREATED:20260411T091620Z
LAST-MODIFIED:20260411T091620Z
UID:10007998-1900236600-1900242000@newrysurestart.org
SUMMARY:Baby Café
DESCRIPTION:
URL:https://newrysurestart.org/booking/baby-cafe/2030-03-20/
LOCATION:Newry Leisure Centre (Training Room)\, 60 Cecil Street\, Newry\, BT35 6AU\, United Kingdom
END:VEVENT
BEGIN:VEVENT
DTSTART;TZID=UTC:20300327T113000
DTEND;TZID=UTC:20300327T130000
DTSTAMP:20260422T133914
CREATED:20260411T091620Z
LAST-MODIFIED:20260411T091620Z
UID:10007999-1900841400-1900846800@newrysurestart.org
SUMMARY:Baby Café
DESCRIPTION:
URL:https://newrysurestart.org/booking/baby-cafe/2030-03-27/
LOCATION:Newry Leisure Centre (Training Room)\, 60 Cecil Street\, Newry\, BT35 6AU\, United Kingdom
END:VEVENT
BEGIN:VEVENT
DTSTART;TZID=UTC:20300403T113000
DTEND;TZID=UTC:20300403T130000
DTSTAMP:20260422T133914
CREATED:20260411T091620Z
LAST-MODIFIED:20260411T091620Z
UID:10008000-1901446200-1901451600@newrysurestart.org
SUMMARY:Baby Café
DESCRIPTION:
URL:https://newrysurestart.org/booking/baby-cafe/2030-04-03/
LOCATION:Newry Leisure Centre (Training Room)\, 60 Cecil Street\, Newry\, BT35 6AU\, United Kingdom
END:VEVENT
BEGIN:VEVENT
DTSTART;TZID=UTC:20300410T113000
DTEND;TZID=UTC:20300410T130000
DTSTAMP:20260422T133914
CREATED:20260411T091620Z
LAST-MODIFIED:20260411T091620Z
UID:10008001-1902051000-1902056400@newrysurestart.org
SUMMARY:Baby Café
DESCRIPTION:
URL:https://newrysurestart.org/booking/baby-cafe/2030-04-10/
LOCATION:Newry Leisure Centre (Training Room)\, 60 Cecil Street\, Newry\, BT35 6AU\, United Kingdom
END:VEVENT
BEGIN:VEVENT
DTSTART;TZID=UTC:20300417T113000
DTEND;TZID=UTC:20300417T130000
DTSTAMP:20260422T133914
CREATED:20260411T091620Z
LAST-MODIFIED:20260411T091620Z
UID:10008002-1902655800-1902661200@newrysurestart.org
SUMMARY:Baby Café
DESCRIPTION:
URL:https://newrysurestart.org/booking/baby-cafe/2030-04-17/
LOCATION:Newry Leisure Centre (Training Room)\, 60 Cecil Street\, Newry\, BT35 6AU\, United Kingdom
END:VEVENT
BEGIN:VEVENT
DTSTART;TZID=UTC:20300424T113000
DTEND;TZID=UTC:20300424T130000
DTSTAMP:20260422T133914
CREATED:20260411T091620Z
LAST-MODIFIED:20260411T091620Z
UID:10008003-1903260600-1903266000@newrysurestart.org
SUMMARY:Baby Café
DESCRIPTION:
URL:https://newrysurestart.org/booking/baby-cafe/2030-04-24/
LOCATION:Newry Leisure Centre (Training Room)\, 60 Cecil Street\, Newry\, BT35 6AU\, United Kingdom
END:VEVENT
BEGIN:VEVENT
DTSTART;TZID=UTC:20300501T113000
DTEND;TZID=UTC:20300501T130000
DTSTAMP:20260422T133914
CREATED:20260411T091620Z
LAST-MODIFIED:20260411T091620Z
UID:10008004-1903865400-1903870800@newrysurestart.org
SUMMARY:Baby Café
DESCRIPTION:
URL:https://newrysurestart.org/booking/baby-cafe/2030-05-01/
LOCATION:Newry Leisure Centre (Training Room)\, 60 Cecil Street\, Newry\, BT35 6AU\, United Kingdom
END:VEVENT
BEGIN:VEVENT
DTSTART;TZID=UTC:20300508T113000
DTEND;TZID=UTC:20300508T130000
DTSTAMP:20260422T133914
CREATED:20260411T091620Z
LAST-MODIFIED:20260411T091620Z
UID:10008005-1904470200-1904475600@newrysurestart.org
SUMMARY:Baby Café
DESCRIPTION:
URL:https://newrysurestart.org/booking/baby-cafe/2030-05-08/
LOCATION:Newry Leisure Centre (Training Room)\, 60 Cecil Street\, Newry\, BT35 6AU\, United Kingdom
END:VEVENT
BEGIN:VEVENT
DTSTART;TZID=UTC:20300515T113000
DTEND;TZID=UTC:20300515T130000
DTSTAMP:20260422T133914
CREATED:20260411T091620Z
LAST-MODIFIED:20260411T091620Z
UID:10008006-1905075000-1905080400@newrysurestart.org
SUMMARY:Baby Café
DESCRIPTION:
URL:https://newrysurestart.org/booking/baby-cafe/2030-05-15/
LOCATION:Newry Leisure Centre (Training Room)\, 60 Cecil Street\, Newry\, BT35 6AU\, United Kingdom
END:VEVENT
BEGIN:VEVENT
DTSTART;TZID=UTC:20300522T113000
DTEND;TZID=UTC:20300522T130000
DTSTAMP:20260422T133914
CREATED:20260411T091620Z
LAST-MODIFIED:20260411T091620Z
UID:10008007-1905679800-1905685200@newrysurestart.org
SUMMARY:Baby Café
DESCRIPTION:
URL:https://newrysurestart.org/booking/baby-cafe/2030-05-22/
LOCATION:Newry Leisure Centre (Training Room)\, 60 Cecil Street\, Newry\, BT35 6AU\, United Kingdom
END:VEVENT
BEGIN:VEVENT
DTSTART;TZID=UTC:20300529T113000
DTEND;TZID=UTC:20300529T130000
DTSTAMP:20260422T133914
CREATED:20260411T091620Z
LAST-MODIFIED:20260411T091620Z
UID:10008008-1906284600-1906290000@newrysurestart.org
SUMMARY:Baby Café
DESCRIPTION:
URL:https://newrysurestart.org/booking/baby-cafe/2030-05-29/
LOCATION:Newry Leisure Centre (Training Room)\, 60 Cecil Street\, Newry\, BT35 6AU\, United Kingdom
END:VEVENT
BEGIN:VEVENT
DTSTART;TZID=UTC:20300605T113000
DTEND;TZID=UTC:20300605T130000
DTSTAMP:20260422T133914
CREATED:20260411T091620Z
LAST-MODIFIED:20260411T091620Z
UID:10008009-1906889400-1906894800@newrysurestart.org
SUMMARY:Baby Café
DESCRIPTION:
URL:https://newrysurestart.org/booking/baby-cafe/2030-06-05/
LOCATION:Newry Leisure Centre (Training Room)\, 60 Cecil Street\, Newry\, BT35 6AU\, United Kingdom
END:VEVENT
BEGIN:VEVENT
DTSTART;TZID=UTC:20300612T113000
DTEND;TZID=UTC:20300612T130000
DTSTAMP:20260422T133914
CREATED:20260411T091620Z
LAST-MODIFIED:20260411T091620Z
UID:10008010-1907494200-1907499600@newrysurestart.org
SUMMARY:Baby Café
DESCRIPTION:
URL:https://newrysurestart.org/booking/baby-cafe/2030-06-12/
LOCATION:Newry Leisure Centre (Training Room)\, 60 Cecil Street\, Newry\, BT35 6AU\, United Kingdom
END:VEVENT
BEGIN:VEVENT
DTSTART;TZID=UTC:20300619T113000
DTEND;TZID=UTC:20300619T130000
DTSTAMP:20260422T133914
CREATED:20260411T091620Z
LAST-MODIFIED:20260411T091620Z
UID:10008011-1908099000-1908104400@newrysurestart.org
SUMMARY:Baby Café
DESCRIPTION:
URL:https://newrysurestart.org/booking/baby-cafe/2030-06-19/
LOCATION:Newry Leisure Centre (Training Room)\, 60 Cecil Street\, Newry\, BT35 6AU\, United Kingdom
END:VEVENT
BEGIN:VEVENT
DTSTART;TZID=UTC:20300626T113000
DTEND;TZID=UTC:20300626T130000
DTSTAMP:20260422T133914
CREATED:20260411T091620Z
LAST-MODIFIED:20260411T091620Z
UID:10008012-1908703800-1908709200@newrysurestart.org
SUMMARY:Baby Café
DESCRIPTION:
URL:https://newrysurestart.org/booking/baby-cafe/2030-06-26/
LOCATION:Newry Leisure Centre (Training Room)\, 60 Cecil Street\, Newry\, BT35 6AU\, United Kingdom
END:VEVENT
BEGIN:VEVENT
DTSTART;TZID=UTC:20300703T113000
DTEND;TZID=UTC:20300703T130000
DTSTAMP:20260422T133914
CREATED:20260411T091620Z
LAST-MODIFIED:20260411T091620Z
UID:10008013-1909308600-1909314000@newrysurestart.org
SUMMARY:Baby Café
DESCRIPTION:
URL:https://newrysurestart.org/booking/baby-cafe/2030-07-03/
LOCATION:Newry Leisure Centre (Training Room)\, 60 Cecil Street\, Newry\, BT35 6AU\, United Kingdom
END:VEVENT
BEGIN:VEVENT
DTSTART;TZID=UTC:20300710T113000
DTEND;TZID=UTC:20300710T130000
DTSTAMP:20260422T133914
CREATED:20260411T091620Z
LAST-MODIFIED:20260411T091620Z
UID:10008014-1909913400-1909918800@newrysurestart.org
SUMMARY:Baby Café
DESCRIPTION:
URL:https://newrysurestart.org/booking/baby-cafe/2030-07-10/
LOCATION:Newry Leisure Centre (Training Room)\, 60 Cecil Street\, Newry\, BT35 6AU\, United Kingdom
END:VEVENT
BEGIN:VEVENT
DTSTART;TZID=UTC:20300717T113000
DTEND;TZID=UTC:20300717T130000
DTSTAMP:20260422T133914
CREATED:20260411T091620Z
LAST-MODIFIED:20260411T091620Z
UID:10008015-1910518200-1910523600@newrysurestart.org
SUMMARY:Baby Café
DESCRIPTION:
URL:https://newrysurestart.org/booking/baby-cafe/2030-07-17/
LOCATION:Newry Leisure Centre (Training Room)\, 60 Cecil Street\, Newry\, BT35 6AU\, United Kingdom
END:VEVENT
BEGIN:VEVENT
DTSTART;TZID=UTC:20300724T113000
DTEND;TZID=UTC:20300724T130000
DTSTAMP:20260422T133914
CREATED:20260411T091620Z
LAST-MODIFIED:20260411T091620Z
UID:10008016-1911123000-1911128400@newrysurestart.org
SUMMARY:Baby Café
DESCRIPTION:
URL:https://newrysurestart.org/booking/baby-cafe/2030-07-24/
LOCATION:Newry Leisure Centre (Training Room)\, 60 Cecil Street\, Newry\, BT35 6AU\, United Kingdom
END:VEVENT
BEGIN:VEVENT
DTSTART;TZID=UTC:20300731T113000
DTEND;TZID=UTC:20300731T130000
DTSTAMP:20260422T133914
CREATED:20260411T091620Z
LAST-MODIFIED:20260411T091620Z
UID:10008017-1911727800-1911733200@newrysurestart.org
SUMMARY:Baby Café
DESCRIPTION:
URL:https://newrysurestart.org/booking/baby-cafe/2030-07-31/
LOCATION:Newry Leisure Centre (Training Room)\, 60 Cecil Street\, Newry\, BT35 6AU\, United Kingdom
END:VEVENT
BEGIN:VEVENT
DTSTART;TZID=UTC:20300807T113000
DTEND;TZID=UTC:20300807T130000
DTSTAMP:20260422T133914
CREATED:20260411T091620Z
LAST-MODIFIED:20260411T091620Z
UID:10008018-1912332600-1912338000@newrysurestart.org
SUMMARY:Baby Café
DESCRIPTION:
URL:https://newrysurestart.org/booking/baby-cafe/2030-08-07/
LOCATION:Newry Leisure Centre (Training Room)\, 60 Cecil Street\, Newry\, BT35 6AU\, United Kingdom
END:VEVENT
BEGIN:VEVENT
DTSTART;TZID=UTC:20300814T113000
DTEND;TZID=UTC:20300814T130000
DTSTAMP:20260422T133914
CREATED:20260411T091620Z
LAST-MODIFIED:20260411T091620Z
UID:10008019-1912937400-1912942800@newrysurestart.org
SUMMARY:Baby Café
DESCRIPTION:
URL:https://newrysurestart.org/booking/baby-cafe/2030-08-14/
LOCATION:Newry Leisure Centre (Training Room)\, 60 Cecil Street\, Newry\, BT35 6AU\, United Kingdom
END:VEVENT
BEGIN:VEVENT
DTSTART;TZID=UTC:20300821T113000
DTEND;TZID=UTC:20300821T130000
DTSTAMP:20260422T133914
CREATED:20260411T091620Z
LAST-MODIFIED:20260411T091620Z
UID:10008020-1913542200-1913547600@newrysurestart.org
SUMMARY:Baby Café
DESCRIPTION:
URL:https://newrysurestart.org/booking/baby-cafe/2030-08-21/
LOCATION:Newry Leisure Centre (Training Room)\, 60 Cecil Street\, Newry\, BT35 6AU\, United Kingdom
END:VEVENT
BEGIN:VEVENT
DTSTART;TZID=UTC:20300828T113000
DTEND;TZID=UTC:20300828T130000
DTSTAMP:20260422T133914
CREATED:20260411T091620Z
LAST-MODIFIED:20260411T091620Z
UID:10008021-1914147000-1914152400@newrysurestart.org
SUMMARY:Baby Café
DESCRIPTION:
URL:https://newrysurestart.org/booking/baby-cafe/2030-08-28/
LOCATION:Newry Leisure Centre (Training Room)\, 60 Cecil Street\, Newry\, BT35 6AU\, United Kingdom
END:VEVENT
BEGIN:VEVENT
DTSTART;TZID=UTC:20300904T113000
DTEND;TZID=UTC:20300904T130000
DTSTAMP:20260422T133914
CREATED:20260411T091620Z
LAST-MODIFIED:20260411T091620Z
UID:10008022-1914751800-1914757200@newrysurestart.org
SUMMARY:Baby Café
DESCRIPTION:
URL:https://newrysurestart.org/booking/baby-cafe/2030-09-04/
LOCATION:Newry Leisure Centre (Training Room)\, 60 Cecil Street\, Newry\, BT35 6AU\, United Kingdom
END:VEVENT
BEGIN:VEVENT
DTSTART;TZID=UTC:20300911T113000
DTEND;TZID=UTC:20300911T130000
DTSTAMP:20260422T133914
CREATED:20260411T091620Z
LAST-MODIFIED:20260411T091620Z
UID:10008023-1915356600-1915362000@newrysurestart.org
SUMMARY:Baby Café
DESCRIPTION:
URL:https://newrysurestart.org/booking/baby-cafe/2030-09-11/
LOCATION:Newry Leisure Centre (Training Room)\, 60 Cecil Street\, Newry\, BT35 6AU\, United Kingdom
END:VEVENT
BEGIN:VEVENT
DTSTART;TZID=UTC:20300918T113000
DTEND;TZID=UTC:20300918T130000
DTSTAMP:20260422T133914
CREATED:20260411T091620Z
LAST-MODIFIED:20260411T091620Z
UID:10008024-1915961400-1915966800@newrysurestart.org
SUMMARY:Baby Café
DESCRIPTION:
URL:https://newrysurestart.org/booking/baby-cafe/2030-09-18/
LOCATION:Newry Leisure Centre (Training Room)\, 60 Cecil Street\, Newry\, BT35 6AU\, United Kingdom
END:VEVENT
BEGIN:VEVENT
DTSTART;TZID=UTC:20300925T113000
DTEND;TZID=UTC:20300925T130000
DTSTAMP:20260422T133914
CREATED:20260411T091620Z
LAST-MODIFIED:20260411T091620Z
UID:10008025-1916566200-1916571600@newrysurestart.org
SUMMARY:Baby Café
DESCRIPTION:
URL:https://newrysurestart.org/booking/baby-cafe/2030-09-25/
LOCATION:Newry Leisure Centre (Training Room)\, 60 Cecil Street\, Newry\, BT35 6AU\, United Kingdom
END:VEVENT
BEGIN:VEVENT
DTSTART;TZID=UTC:20301002T113000
DTEND;TZID=UTC:20301002T130000
DTSTAMP:20260422T133914
CREATED:20260411T091620Z
LAST-MODIFIED:20260411T091620Z
UID:10008026-1917171000-1917176400@newrysurestart.org
SUMMARY:Baby Café
DESCRIPTION:
URL:https://newrysurestart.org/booking/baby-cafe/2030-10-02/
LOCATION:Newry Leisure Centre (Training Room)\, 60 Cecil Street\, Newry\, BT35 6AU\, United Kingdom
END:VEVENT
END:VCALENDAR