BEGIN:VCALENDAR
VERSION:2.0
PRODID:-//Newry SureStart - ECPv6.15.12.2//NONSGML v1.0//EN
CALSCALE:GREGORIAN
METHOD:PUBLISH
X-WR-CALNAME:Newry SureStart
X-ORIGINAL-URL:https://newrysurestart.org
X-WR-CALDESC:Events for Newry SureStart
REFRESH-INTERVAL;VALUE=DURATION:PT1H
X-Robots-Tag:noindex
X-PUBLISHED-TTL:PT1H
BEGIN:VTIMEZONE
TZID:UTC
BEGIN:STANDARD
TZOFFSETFROM:+0000
TZOFFSETTO:+0000
TZNAME:UTC
DTSTART:20300101T000000
END:STANDARD
END:VTIMEZONE
BEGIN:VEVENT
DTSTART;TZID=UTC:20310212T113000
DTEND;TZID=UTC:20310212T130000
DTSTAMP:20260422T220925
CREATED:20260411T091620Z
LAST-MODIFIED:20260411T091620Z
UID:10008045-1928662200-1928667600@newrysurestart.org
SUMMARY:Baby Café
DESCRIPTION:
URL:https://newrysurestart.org/booking/baby-cafe/2031-02-12/
LOCATION:Newry Leisure Centre (Training Room)\, 60 Cecil Street\, Newry\, BT35 6AU\, United Kingdom
END:VEVENT
BEGIN:VEVENT
DTSTART;TZID=UTC:20310219T113000
DTEND;TZID=UTC:20310219T130000
DTSTAMP:20260422T220925
CREATED:20260411T091620Z
LAST-MODIFIED:20260411T091620Z
UID:10008046-1929267000-1929272400@newrysurestart.org
SUMMARY:Baby Café
DESCRIPTION:
URL:https://newrysurestart.org/booking/baby-cafe/2031-02-19/
LOCATION:Newry Leisure Centre (Training Room)\, 60 Cecil Street\, Newry\, BT35 6AU\, United Kingdom
END:VEVENT
BEGIN:VEVENT
DTSTART;TZID=UTC:20310226T113000
DTEND;TZID=UTC:20310226T130000
DTSTAMP:20260422T220925
CREATED:20260411T091620Z
LAST-MODIFIED:20260411T091620Z
UID:10008047-1929871800-1929877200@newrysurestart.org
SUMMARY:Baby Café
DESCRIPTION:
URL:https://newrysurestart.org/booking/baby-cafe/2031-02-26/
LOCATION:Newry Leisure Centre (Training Room)\, 60 Cecil Street\, Newry\, BT35 6AU\, United Kingdom
END:VEVENT
BEGIN:VEVENT
DTSTART;TZID=UTC:20310305T113000
DTEND;TZID=UTC:20310305T130000
DTSTAMP:20260422T220925
CREATED:20260411T091620Z
LAST-MODIFIED:20260411T091620Z
UID:10008048-1930476600-1930482000@newrysurestart.org
SUMMARY:Baby Café
DESCRIPTION:
URL:https://newrysurestart.org/booking/baby-cafe/2031-03-05/
LOCATION:Newry Leisure Centre (Training Room)\, 60 Cecil Street\, Newry\, BT35 6AU\, United Kingdom
END:VEVENT
BEGIN:VEVENT
DTSTART;TZID=UTC:20310312T113000
DTEND;TZID=UTC:20310312T130000
DTSTAMP:20260422T220925
CREATED:20260411T091620Z
LAST-MODIFIED:20260411T091620Z
UID:10008049-1931081400-1931086800@newrysurestart.org
SUMMARY:Baby Café
DESCRIPTION:
URL:https://newrysurestart.org/booking/baby-cafe/2031-03-12/
LOCATION:Newry Leisure Centre (Training Room)\, 60 Cecil Street\, Newry\, BT35 6AU\, United Kingdom
END:VEVENT
BEGIN:VEVENT
DTSTART;TZID=UTC:20310319T113000
DTEND;TZID=UTC:20310319T130000
DTSTAMP:20260422T220925
CREATED:20260411T091620Z
LAST-MODIFIED:20260411T091620Z
UID:10008050-1931686200-1931691600@newrysurestart.org
SUMMARY:Baby Café
DESCRIPTION:
URL:https://newrysurestart.org/booking/baby-cafe/2031-03-19/
LOCATION:Newry Leisure Centre (Training Room)\, 60 Cecil Street\, Newry\, BT35 6AU\, United Kingdom
END:VEVENT
BEGIN:VEVENT
DTSTART;TZID=UTC:20310326T113000
DTEND;TZID=UTC:20310326T130000
DTSTAMP:20260422T220925
CREATED:20260411T091620Z
LAST-MODIFIED:20260411T091620Z
UID:10008051-1932291000-1932296400@newrysurestart.org
SUMMARY:Baby Café
DESCRIPTION:
URL:https://newrysurestart.org/booking/baby-cafe/2031-03-26/
LOCATION:Newry Leisure Centre (Training Room)\, 60 Cecil Street\, Newry\, BT35 6AU\, United Kingdom
END:VEVENT
BEGIN:VEVENT
DTSTART;TZID=UTC:20310402T113000
DTEND;TZID=UTC:20310402T130000
DTSTAMP:20260422T220925
CREATED:20260411T091620Z
LAST-MODIFIED:20260411T091620Z
UID:10008052-1932895800-1932901200@newrysurestart.org
SUMMARY:Baby Café
DESCRIPTION:
URL:https://newrysurestart.org/booking/baby-cafe/2031-04-02/
LOCATION:Newry Leisure Centre (Training Room)\, 60 Cecil Street\, Newry\, BT35 6AU\, United Kingdom
END:VEVENT
BEGIN:VEVENT
DTSTART;TZID=UTC:20310409T113000
DTEND;TZID=UTC:20310409T130000
DTSTAMP:20260422T220925
CREATED:20260411T091620Z
LAST-MODIFIED:20260411T091620Z
UID:10008053-1933500600-1933506000@newrysurestart.org
SUMMARY:Baby Café
DESCRIPTION:
URL:https://newrysurestart.org/booking/baby-cafe/2031-04-09/
LOCATION:Newry Leisure Centre (Training Room)\, 60 Cecil Street\, Newry\, BT35 6AU\, United Kingdom
END:VEVENT
BEGIN:VEVENT
DTSTART;TZID=UTC:20310416T113000
DTEND;TZID=UTC:20310416T130000
DTSTAMP:20260422T220925
CREATED:20260411T091620Z
LAST-MODIFIED:20260411T091620Z
UID:10008930-1934105400-1934110800@newrysurestart.org
SUMMARY:Baby Café
DESCRIPTION:
URL:https://newrysurestart.org/booking/baby-cafe/2031-04-16/
LOCATION:Newry Leisure Centre (Training Room)\, 60 Cecil Street\, Newry\, BT35 6AU\, United Kingdom
END:VEVENT
END:VCALENDAR