BEGIN:VCALENDAR
VERSION:2.0
PRODID:-//Newry SureStart - ECPv6.15.12.2//NONSGML v1.0//EN
CALSCALE:GREGORIAN
METHOD:PUBLISH
X-ORIGINAL-URL:https://newrysurestart.org
X-WR-CALDESC:Events for Newry SureStart
REFRESH-INTERVAL;VALUE=DURATION:PT1H
X-Robots-Tag:noindex
X-PUBLISHED-TTL:PT1H
BEGIN:VTIMEZONE
TZID:UTC
BEGIN:STANDARD
TZOFFSETFROM:+0000
TZOFFSETTO:+0000
TZNAME:UTC
DTSTART:20260101T000000
END:STANDARD
END:VTIMEZONE
BEGIN:VEVENT
DTSTART;TZID=UTC:20270617T103000
DTEND;TZID=UTC:20270617T114500
DTSTAMP:20260419T163938
CREATED:20260411T092506Z
LAST-MODIFIED:20260411T092506Z
UID:10008116-1813228200-1813232700@newrysurestart.org
SUMMARY:Parent & Toddler Group
DESCRIPTION:
URL:https://newrysurestart.org/booking/parent-toddler-group-3/2027-06-17/
LOCATION:Warrenpoint\, United Kingdom
END:VEVENT
BEGIN:VEVENT
DTSTART;TZID=UTC:20270624T103000
DTEND;TZID=UTC:20270624T114500
DTSTAMP:20260419T163938
CREATED:20260411T092506Z
LAST-MODIFIED:20260411T092506Z
UID:10008117-1813833000-1813837500@newrysurestart.org
SUMMARY:Parent & Toddler Group
DESCRIPTION:
URL:https://newrysurestart.org/booking/parent-toddler-group-3/2027-06-24/
LOCATION:Warrenpoint\, United Kingdom
END:VEVENT
END:VCALENDAR